From mboxrd@z Thu Jan  1 00:00:00 1970
Return-Path: <test-report-bounces@dpdk.org>
Received: from mails.dpdk.org (mails.dpdk.org [217.70.189.124])
	by inbox.dpdk.org (Postfix) with ESMTP id 3B7AD45CB4
	for <public@inbox.dpdk.org>; Fri,  8 Nov 2024 16:28:11 +0100 (CET)
Received: from mails.dpdk.org (localhost [127.0.0.1])
	by mails.dpdk.org (Postfix) with ESMTP id 132A043348;
	Fri,  8 Nov 2024 16:28:11 +0100 (CET)
Received: from mail-pl1-f226.google.com (mail-pl1-f226.google.com
 [209.85.214.226])
 by mails.dpdk.org (Postfix) with ESMTP id CF3454025C
 for <test-report@dpdk.org>; Fri,  8 Nov 2024 16:28:09 +0100 (CET)
Received: by mail-pl1-f226.google.com with SMTP id
 d9443c01a7336-20cdbe608b3so24655745ad.1
 for <test-report@dpdk.org>; Fri, 08 Nov 2024 07:28:09 -0800 (PST)
DKIM-Signature: v=1; a=rsa-sha256; c=relaxed/relaxed;
 d=iol.unh.edu; s=unh-iol; t=1731079689; x=1731684489; darn=dpdk.org;
 h=references:in-reply-to:cc:to:from:subject:message-id:date:from:to
 :cc:subject:date:message-id:reply-to;
 bh=M5C77uuq8dvoHkleKMUFwKBwNTrQDvrv6Uj2ihhuS7c=;
 b=N+rLj90jWZ1sO0rR5GpwQ08LQ1ni+f2X0M6SnWpIcJvSn/UNtzV3wiOd190eKE0ue2
 grjxlTfz7snYWIPiCT35JGSI2Yg2TUS0qs12778coPb80AI0QysRx0b4X4tHbegWqxvI
 FKKvUlI4HJVoWABEom30YlddAZ05hnW5cH0o0=
X-Google-DKIM-Signature: v=1; a=rsa-sha256; c=relaxed/relaxed;
 d=1e100.net; s=20230601; t=1731079689; x=1731684489;
 h=references:in-reply-to:cc:to:from:subject:message-id:date
 :x-gm-message-state:from:to:cc:subject:date:message-id:reply-to;
 bh=M5C77uuq8dvoHkleKMUFwKBwNTrQDvrv6Uj2ihhuS7c=;
 b=K9qqNKyAPMxaWnWqJ2+YNkVVru/6PoeYLRV0zxjiFalFPQQkPA9le2QG8XD/UiGv19
 XYh7y5h0ozxoKV4ahCbxA/AgndtA3HwSZAQ4hbUfI5QIXG6KOLNqIYwNI3HnC4arwA3x
 wT69dSCoPplgV40x5c6a/zlk+i09EFh8EWemBZuV0Os6FMZL9jO3o3dk5jfOiNVv47c6
 MYbxN3+MzuBh5M1c2lk6hR0B6t+hZekWQpulkYRA1gX9vlau777BLrPNLDMhUYaHpA7Z
 Pw62HtYr5zlvWH8XuEr3HuZlo5LxSNcLzR/vYczHhtDlxPO6HU0yDJU9g2hl1k3IZQ/D
 Sa6g==
X-Gm-Message-State: AOJu0Yzp/bWk694H/w9EiragivXTUbuHa5y3yqwSy+QigDkM8p2ceUY3
 ABKU42xxFGhmEXCqIHdYevV9A4lxXUPWrn0J2y/wBAyVvPeZyuQMC3otfD8AEfbDHI11uykSJhP
 e7z4BdwEe79KXPqMO98+bSXHqYtcmCxXIiphj88ur
X-Google-Smtp-Source: AGHT+IFhEEL86JnwyDzu1/Q4JPlnEOeBd+/8w5gFvMbpZk7M3drMOruml62jZr3/jIceOjCUooRDpSTRyQN3
X-Received: by 2002:a17:90b:17c8:b0:2e2:c406:ec89 with SMTP id
 98e67ed59e1d1-2e9b16ab101mr4394279a91.20.1731079688881; 
 Fri, 08 Nov 2024 07:28:08 -0800 (PST)
Received: from postal.iol.unh.edu (postal.iol.unh.edu. [132.177.123.84])
 by smtp-relay.gmail.com with ESMTPS id
 d9443c01a7336-21177e95eb7sm1331655ad.104.2024.11.08.07.28.08
 (version=TLS1_2 cipher=ECDHE-ECDSA-AES128-GCM-SHA256 bits=128/128);
 Fri, 08 Nov 2024 07:28:08 -0800 (PST)
X-Relaying-Domain: iol.unh.edu
Date: Fri, 08 Nov 2024 07:28:08 -0800 (PST)
Message-ID: <672e2e08.170a0220.b3727.920eSMTPIN_ADDED_MISSING@mx.google.com>
Received: from [172.21.0.8] (unknown [172.18.0.240])
 by postal.iol.unh.edu (Postfix) with ESMTP id 191286052471;
 Fri,  8 Nov 2024 10:28:08 -0500 (EST)
Subject: |SUCCESS| pw148186-148202 [PATCH] [v6,17/17] net/r8169: add driver_s
From: dpdklab@iol.unh.edu
To: Test Report <test-report@dpdk.org>
Cc: dpdk-test-reports@iol.unh.edu
In-Reply-To: <20241108121123.248797-18-howard_wang@realsil.com.cn>
References: <20241108121123.248797-18-howard_wang@realsil.com.cn>
Content-Type: text/plain
X-BeenThere: test-report@dpdk.org
X-Mailman-Version: 2.1.29
Precedence: list
List-Id: automatic DPDK test reports <test-report.dpdk.org>
List-Unsubscribe: <https://mails.dpdk.org/options/test-report>,
 <mailto:test-report-request@dpdk.org?subject=unsubscribe>
List-Archive: <http://mails.dpdk.org/archives/test-report/>
List-Post: <mailto:test-report@dpdk.org>
List-Help: <mailto:test-report-request@dpdk.org?subject=help>
List-Subscribe: <https://mails.dpdk.org/listinfo/test-report>,
 <mailto:test-report-request@dpdk.org?subject=subscribe>
Errors-To: test-report-bounces@dpdk.org

Test-Label: iol-compile-amd64-testing
Test-Status: SUCCESS
http://dpdk.org/patch/148202

_Testing PASS_

Submitter: Howard Wang <howard_wang@realsil.com.cn>
Date: Friday, November 08 2024 12:11:23 
DPDK git baseline: Repo:dpdk
  Branch: master
  CommitID:43f5dad89c4fcc967988c8f60011136928e49428

148186-148202 --> testing pass

Upstream job id: Windows-Compile-DPDK-Native#24349

Test environment and result as below:

+---------------------+--------------------+------------------+-------------------+-----------------------+-------------------+----------------------+
|     Environment     | dpdk_meson_compile | dpdk_compile_ovs | dpdk_compile_spdk | dpdk_win_llvm_compile | dpdk_msvc_compile | dpdk_mingw64_compile |
+=====================+====================+==================+===================+=======================+===================+======================+
| CentOS Stream 9     | PASS               | PASS             | PASS              | SKIPPED               | SKIPPED           | SKIPPED              |
+---------------------+--------------------+------------------+-------------------+-----------------------+-------------------+----------------------+
| Debian 12           | PASS               | PASS             | PASS              | SKIPPED               | SKIPPED           | SKIPPED              |
+---------------------+--------------------+------------------+-------------------+-----------------------+-------------------+----------------------+
| Fedora 39 (Clang)   | PASS               | PASS             | PASS              | SKIPPED               | SKIPPED           | SKIPPED              |
+---------------------+--------------------+------------------+-------------------+-----------------------+-------------------+----------------------+
| Fedora 40 (Clang)   | PASS               | PASS             | PASS              | SKIPPED               | SKIPPED           | SKIPPED              |
+---------------------+--------------------+------------------+-------------------+-----------------------+-------------------+----------------------+
| Fedora 39           | PASS               | PASS             | PASS              | SKIPPED               | SKIPPED           | SKIPPED              |
+---------------------+--------------------+------------------+-------------------+-----------------------+-------------------+----------------------+
| Fedora 40           | PASS               | PASS             | PASS              | SKIPPED               | SKIPPED           | SKIPPED              |
+---------------------+--------------------+------------------+-------------------+-----------------------+-------------------+----------------------+
| RHEL9               | PASS               | PASS             | SKIPPED           | SKIPPED               | SKIPPED           | SKIPPED              |
+---------------------+--------------------+------------------+-------------------+-----------------------+-------------------+----------------------+
| openSUSE Leap 15    | PASS               | PASS             | SKIPPED           | SKIPPED               | SKIPPED           | SKIPPED              |
+---------------------+--------------------+------------------+-------------------+-----------------------+-------------------+----------------------+
| RHEL8               | PASS               | PASS             | SKIPPED           | SKIPPED               | SKIPPED           | SKIPPED              |
+---------------------+--------------------+------------------+-------------------+-----------------------+-------------------+----------------------+
| Ubuntu 20.04        | PASS               | PASS             | SKIPPED           | SKIPPED               | SKIPPED           | SKIPPED              |
+---------------------+--------------------+------------------+-------------------+-----------------------+-------------------+----------------------+
| Ubuntu 22.04        | PASS               | PASS             | PASS              | SKIPPED               | SKIPPED           | SKIPPED              |
+---------------------+--------------------+------------------+-------------------+-----------------------+-------------------+----------------------+
| Ubuntu 24.04        | PASS               | PASS             | PASS              | SKIPPED               | SKIPPED           | SKIPPED              |
+---------------------+--------------------+------------------+-------------------+-----------------------+-------------------+----------------------+
| Alpine              | PASS               | PASS             | SKIPPED           | SKIPPED               | SKIPPED           | SKIPPED              |
+---------------------+--------------------+------------------+-------------------+-----------------------+-------------------+----------------------+
| FreeBSD 13.4        | PASS               | SKIPPED          | SKIPPED           | SKIPPED               | SKIPPED           | SKIPPED              |
+---------------------+--------------------+------------------+-------------------+-----------------------+-------------------+----------------------+
| FreeBSD 14.1        | PASS               | SKIPPED          | SKIPPED           | SKIPPED               | SKIPPED           | SKIPPED              |
+---------------------+--------------------+------------------+-------------------+-----------------------+-------------------+----------------------+
| Windows Server 2022 | SKIPPED            | SKIPPED          | SKIPPED           | PASS                  | PASS              | PASS                 |
+---------------------+--------------------+------------------+-------------------+-----------------------+-------------------+----------------------+


CentOS Stream 9
	Kernel: Depends on container host
	Compiler: gcc 11.4.1 20231218 (Red Hat 11.4.1-3)

Debian 12
	Kernel: Depends on container host
	Compiler: gcc (Debian 12.2.0-14) 12.2.0

Fedora 39 (Clang)
	Kernel: Depends on container host
	Compiler: clang 17.0.6 (Fedora 17.0.6-2.fc39)

Fedora 40 (Clang)
	Kernel: Depends on container host
	Compiler: clang 18.1.6 (Fedora 18.1.6-3.fc40)

Fedora 39
	Kernel: Depends on container host
	Compiler: gcc 13.3.1 20240522 (Red Hat 13.3.1-1)

Fedora 40
	Kernel: Depends on container host
	Compiler: gcc 14.2.1 20240801 (Red Hat 14.2.1-1)

RHEL9
	Kernel: Depends on container host
	Compiler: gcc 11.4.1 20231218 (Red Hat 11.4.1-3)

openSUSE Leap 15
	Kernel: Depends on container host
	Compiler: gcc (SUSE Linux) 7.5.0

RHEL8
	Kernel: Depends on container host
	Compiler: gcc 8.5.0 20210514 (Red Hat 8.5.0-22)

Ubuntu 20.04
	Kernel: Depends on container host
	Compiler: gcc (Ubuntu 9.4.0-1ubuntu1~20.04.2) 9.4.0

Ubuntu 22.04
	Kernel: Depends on container host
	Compiler: gcc (Ubuntu 11.4.0-1ubuntu1~22.04) 11.4.0

Ubuntu 24.04
	Kernel: Depends on container host
	Compiler: gcc (Ubuntu 13.2.0-23ubuntu4) 13.2.0

Alpine
	Kernel: Depends on container host
	Compiler: gcc (Alpine 13.2.1_git20240309) 13.2.1 20240309

FreeBSD 13.4
	Kernel: 13.4-RELEASE-p1
	Compiler: clang 18.1.6

FreeBSD 14.1
	Kernel: 14.1-RELEASE-p3
	Compiler: clang 18.1.5

Windows Server 2022
	Kernel: 10.0.20348.2031
	Compiler: clang 15.0.7, gcc 14.1.0 (MinGW), and MSVC VS 19.39.33521

To view detailed results, visit:
https://lab.dpdk.org/results/dashboard/patchsets/31861/

UNH-IOL DPDK Community Lab

To manage your email subscriptions, visit: 
https://lab.dpdk.org/results/dashboard/preferences/subscriptions/