From mboxrd@z Thu Jan  1 00:00:00 1970
Return-Path: <test-report-bounces@dpdk.org>
Received: from mails.dpdk.org (mails.dpdk.org [217.70.189.124])
	by inbox.dpdk.org (Postfix) with ESMTP id E6FFE45CB7
	for <public@inbox.dpdk.org>; Fri,  8 Nov 2024 23:19:30 +0100 (CET)
Received: from mails.dpdk.org (localhost [127.0.0.1])
	by mails.dpdk.org (Postfix) with ESMTP id C70444067C;
	Fri,  8 Nov 2024 23:19:30 +0100 (CET)
Received: from mail-io1-f98.google.com (mail-io1-f98.google.com
 [209.85.166.98]) by mails.dpdk.org (Postfix) with ESMTP id 3E89440263
 for <test-report@dpdk.org>; Fri,  8 Nov 2024 23:19:30 +0100 (CET)
Received: by mail-io1-f98.google.com with SMTP id
 ca18e2360f4ac-82cd93a6617so94346039f.3
 for <test-report@dpdk.org>; Fri, 08 Nov 2024 14:19:30 -0800 (PST)
DKIM-Signature: v=1; a=rsa-sha256; c=relaxed/relaxed;
 d=iol.unh.edu; s=unh-iol; t=1731104369; x=1731709169; darn=dpdk.org;
 h=references:in-reply-to:cc:to:from:subject:message-id:date:from:to
 :cc:subject:date:message-id:reply-to;
 bh=ZE89Jq0CSc7joMQCB6k3Rd0aPniNBWWpcYIV66KBpYk=;
 b=JXKsHwAR0CuWDLUMdNU0sVNzPTw6Ssl70X2IpItGu5QEaj7P8yTlNHie0+X68H0AG2
 p+PuubtiYMLo17u2B4T2XVhJtf6kgeW5+2Vs1x7zJc04Na/Dv4BniX8Cx5hsgsBZ2Kot
 8yX1gbC7DWlQ8gGifpg58sGy1cduvhW8HW78o=
X-Google-DKIM-Signature: v=1; a=rsa-sha256; c=relaxed/relaxed;
 d=1e100.net; s=20230601; t=1731104369; x=1731709169;
 h=references:in-reply-to:cc:to:from:subject:message-id:date
 :x-gm-message-state:from:to:cc:subject:date:message-id:reply-to;
 bh=ZE89Jq0CSc7joMQCB6k3Rd0aPniNBWWpcYIV66KBpYk=;
 b=qaBhp13Prjxzhutna+80FT6e0mE8g7+p5jMQGLzB1hJdOw6BTaxSu8cu9KXLlI9fhM
 UZnvR/YZHfuk6clC5wgBJNUfirJOVzghoqgWMREfYooh7wp5u9hOMKhG/F3+gFlYfc5u
 kLkt+pfAGAWi/b2a8Ri8rjjLK6tic4jv6YfTiw9ld0dqZc5cKzhBEwotdki/e2I7Pdzh
 1dD1AafcZJz7uj1rjN5zT5sePqsYQEn14YcKa0+Jm0VWrQ1dWeIRnXh399DIaQU3rKv5
 zzVHw2qZyUQv+tcnAHCF05ldipJVripXN1Y+ryXRGYHdGjVgDxcPzwgAcp2seQpuWDSp
 aEIg==
X-Gm-Message-State: AOJu0Yx+wc/MW5G2ILMsBK4FRQuUBu/7rA0c9oy6ptwI0s7ey+A9Az5L
 odXq2gZarHV7xN0OD3AONEMEwy4uSAuIw6zUV0538flje8uZVT6usY6T2ywS6E4iGNHoHM7OBcA
 u99FaOLglNofit8mr2cUf6m4iqDDh0UohI98KZiVrrLG8GKWESYjZYYpj
X-Google-Smtp-Source: AGHT+IFeX+noOQZESZW2RydfAJ+V2nanze+WYg0jtzVpbkKBDOaTYhHpTVwfW24kC7NFbdLOSpJftdWHH9Gy
X-Received: by 2002:a05:6602:1550:b0:83a:aab3:57f with SMTP id
 ca18e2360f4ac-83e03080b10mr540942739f.0.1731104369429; 
 Fri, 08 Nov 2024 14:19:29 -0800 (PST)
Received: from postal.iol.unh.edu (postal.iol.unh.edu.
 [2606:4100:3880:1234::84]) by smtp-relay.gmail.com with ESMTPS id
 ca18e2360f4ac-83e1325b8desm502239f.2.2024.11.08.14.19.29
 (version=TLS1_2 cipher=ECDHE-ECDSA-AES128-GCM-SHA256 bits=128/128);
 Fri, 08 Nov 2024 14:19:29 -0800 (PST)
X-Relaying-Domain: iol.unh.edu
Date: Fri, 08 Nov 2024 14:19:29 -0800 (PST)
Message-ID: <672e8e71.050a0220.2746c.02f1SMTPIN_ADDED_MISSING@mx.google.com>
Received: from [172.21.0.7] (unknown [172.18.0.240])
 by postal.iol.unh.edu (Postfix) with ESMTP id E38FC6052471;
 Fri,  8 Nov 2024 17:19:28 -0500 (EST)
Subject: |SUCCESS| pw148214-148216 [PATCH] [v3,3/3] dts: add l2fwd test suite
From: dpdklab@iol.unh.edu
To: Test Report <test-report@dpdk.org>
Cc: dpdk-test-reports@iol.unh.edu
In-Reply-To: <20241108170138.203096-4-luca.vizzarro@arm.com>
References: <20241108170138.203096-4-luca.vizzarro@arm.com>
Content-Type: text/plain
X-BeenThere: test-report@dpdk.org
X-Mailman-Version: 2.1.29
Precedence: list
List-Id: automatic DPDK test reports <test-report.dpdk.org>
List-Unsubscribe: <https://mails.dpdk.org/options/test-report>,
 <mailto:test-report-request@dpdk.org?subject=unsubscribe>
List-Archive: <http://mails.dpdk.org/archives/test-report/>
List-Post: <mailto:test-report@dpdk.org>
List-Help: <mailto:test-report-request@dpdk.org?subject=help>
List-Subscribe: <https://mails.dpdk.org/listinfo/test-report>,
 <mailto:test-report-request@dpdk.org?subject=subscribe>
Errors-To: test-report-bounces@dpdk.org

Test-Label: iol-compile-amd64-testing
Test-Status: SUCCESS
http://dpdk.org/patch/148216

_Testing PASS_

Submitter: Luca Vizzarro <luca.vizzarro@arm.com>
Date: Friday, November 08 2024 17:01:38 
DPDK git baseline: Repo:dpdk
  Branch: master
  CommitID:84c91d93da7a0e537f95cf17dde026564f35a3b7

148214-148216 --> testing pass

Upstream job id: Generic-DPDK-Compile-Meson#331317

Test environment and result as below:

+---------------------+--------------------+------------------+-------------------+-------------------+
|     Environment     | dpdk_meson_compile | dpdk_compile_ovs | dpdk_compile_spdk | dpdk_msvc_compile |
+=====================+====================+==================+===================+===================+
| Fedora 39 (Clang)   | PASS               | PASS             | PASS              | SKIPPED           |
+---------------------+--------------------+------------------+-------------------+-------------------+
| CentOS Stream 9     | PASS               | PASS             | PASS              | SKIPPED           |
+---------------------+--------------------+------------------+-------------------+-------------------+
| Debian 12           | PASS               | PASS             | PASS              | SKIPPED           |
+---------------------+--------------------+------------------+-------------------+-------------------+
| Fedora 39           | PASS               | PASS             | PASS              | SKIPPED           |
+---------------------+--------------------+------------------+-------------------+-------------------+
| Fedora 40 (Clang)   | PASS               | PASS             | PASS              | SKIPPED           |
+---------------------+--------------------+------------------+-------------------+-------------------+
| Ubuntu 24.04        | PASS               | PASS             | PASS              | SKIPPED           |
+---------------------+--------------------+------------------+-------------------+-------------------+
| Ubuntu 20.04        | PASS               | PASS             | SKIPPED           | SKIPPED           |
+---------------------+--------------------+------------------+-------------------+-------------------+
| Alpine              | PASS               | PASS             | SKIPPED           | SKIPPED           |
+---------------------+--------------------+------------------+-------------------+-------------------+
| Ubuntu 22.04        | PASS               | PASS             | PASS              | SKIPPED           |
+---------------------+--------------------+------------------+-------------------+-------------------+
| Fedora 40           | PASS               | PASS             | PASS              | SKIPPED           |
+---------------------+--------------------+------------------+-------------------+-------------------+
| RHEL9               | PASS               | PASS             | SKIPPED           | SKIPPED           |
+---------------------+--------------------+------------------+-------------------+-------------------+
| RHEL8               | PASS               | PASS             | SKIPPED           | SKIPPED           |
+---------------------+--------------------+------------------+-------------------+-------------------+
| openSUSE Leap 15    | PASS               | PASS             | SKIPPED           | SKIPPED           |
+---------------------+--------------------+------------------+-------------------+-------------------+
| FreeBSD 13.4        | PASS               | SKIPPED          | SKIPPED           | SKIPPED           |
+---------------------+--------------------+------------------+-------------------+-------------------+
| FreeBSD 14.1        | PASS               | SKIPPED          | SKIPPED           | SKIPPED           |
+---------------------+--------------------+------------------+-------------------+-------------------+
| Windows Server 2022 | SKIPPED            | SKIPPED          | SKIPPED           | PASS              |
+---------------------+--------------------+------------------+-------------------+-------------------+


Fedora 39 (Clang)
	Kernel: Depends on container host
	Compiler: clang 17.0.6 (Fedora 17.0.6-2.fc39)

CentOS Stream 9
	Kernel: Depends on container host
	Compiler: gcc 11.4.1 20231218 (Red Hat 11.4.1-3)

Debian 12
	Kernel: Depends on container host
	Compiler: gcc (Debian 12.2.0-14) 12.2.0

Fedora 39
	Kernel: Depends on container host
	Compiler: gcc 13.3.1 20240522 (Red Hat 13.3.1-1)

Fedora 40 (Clang)
	Kernel: Depends on container host
	Compiler: clang 18.1.6 (Fedora 18.1.6-3.fc40)

Ubuntu 24.04
	Kernel: Depends on container host
	Compiler: gcc (Ubuntu 13.2.0-23ubuntu4) 13.2.0

Ubuntu 20.04
	Kernel: Depends on container host
	Compiler: gcc (Ubuntu 9.4.0-1ubuntu1~20.04.2) 9.4.0

Alpine
	Kernel: Depends on container host
	Compiler: gcc (Alpine 13.2.1_git20240309) 13.2.1 20240309

Ubuntu 22.04
	Kernel: Depends on container host
	Compiler: gcc (Ubuntu 11.4.0-1ubuntu1~22.04) 11.4.0

Fedora 40
	Kernel: Depends on container host
	Compiler: gcc 14.2.1 20240801 (Red Hat 14.2.1-1)

RHEL9
	Kernel: Depends on container host
	Compiler: gcc 11.4.1 20231218 (Red Hat 11.4.1-3)

RHEL8
	Kernel: Depends on container host
	Compiler: gcc 8.5.0 20210514 (Red Hat 8.5.0-22)

openSUSE Leap 15
	Kernel: Depends on container host
	Compiler: gcc (SUSE Linux) 7.5.0

FreeBSD 13.4
	Kernel: 13.4-RELEASE-p1
	Compiler: clang 18.1.6

FreeBSD 14.1
	Kernel: 14.1-RELEASE-p3
	Compiler: clang 18.1.5

Windows Server 2022
	Kernel: 10.0.20348.2031
	Compiler: clang 15.0.7, gcc 14.1.0 (MinGW), and MSVC VS 19.39.33521

To view detailed results, visit:
https://lab.dpdk.org/results/dashboard/patchsets/31867/

UNH-IOL DPDK Community Lab

To manage your email subscriptions, visit: 
https://lab.dpdk.org/results/dashboard/preferences/subscriptions/