From mboxrd@z Thu Jan  1 00:00:00 1970
Return-Path: <test-report-bounces@dpdk.org>
Received: from mails.dpdk.org (mails.dpdk.org [217.70.189.124])
	by inbox.dpdk.org (Postfix) with ESMTP id D923E45CB7
	for <public@inbox.dpdk.org>; Fri,  8 Nov 2024 23:49:24 +0100 (CET)
Received: from mails.dpdk.org (localhost [127.0.0.1])
	by mails.dpdk.org (Postfix) with ESMTP id D6ECB4067C;
	Fri,  8 Nov 2024 23:49:24 +0100 (CET)
Received: from mail-yb1-f225.google.com (mail-yb1-f225.google.com
 [209.85.219.225])
 by mails.dpdk.org (Postfix) with ESMTP id 31CF140263
 for <test-report@dpdk.org>; Fri,  8 Nov 2024 23:49:24 +0100 (CET)
Received: by mail-yb1-f225.google.com with SMTP id
 3f1490d57ef6-e291cbbf05bso2743946276.2
 for <test-report@dpdk.org>; Fri, 08 Nov 2024 14:49:24 -0800 (PST)
DKIM-Signature: v=1; a=rsa-sha256; c=relaxed/relaxed;
 d=iol.unh.edu; s=unh-iol; t=1731106163; x=1731710963; darn=dpdk.org;
 h=references:in-reply-to:cc:to:from:subject:message-id:date:from:to
 :cc:subject:date:message-id:reply-to;
 bh=ii3GOyxHNQmTzriH7pLzvYOgrAEKlmGJ/WzQkB577FM=;
 b=AR7/fbogm8yGgeOwi98lvy6LBSbtTrYoAIERsQis6/jPZlDe3SNlbu2q8BpeTboyXG
 9x99PsbEsoCMvSdZVkFh4YgQ+LhNOLqNswnyd/1O5HBVqmrA9oVe1cPrLR4LtPEoSs4f
 OAf1YVtYuzbZojtQy/mu1aiLdHTSj1FjHznaw=
X-Google-DKIM-Signature: v=1; a=rsa-sha256; c=relaxed/relaxed;
 d=1e100.net; s=20230601; t=1731106163; x=1731710963;
 h=references:in-reply-to:cc:to:from:subject:message-id:date
 :x-gm-message-state:from:to:cc:subject:date:message-id:reply-to;
 bh=ii3GOyxHNQmTzriH7pLzvYOgrAEKlmGJ/WzQkB577FM=;
 b=up6hcnwoLvZRYNEkfKF4SscGUUg+L1RGzjhbUB801FG2RAKLf3km4vcOI1nA0KAKgS
 Hfl/xFYuHckHfMUpwepPSdgab2oiTEVzL08vVAB4TYiNuzBeFJkXyDWnd7MFKY5M1eKr
 3DfVrHzHWv20H3afHWyO6qEHoq8yygqYZ+gxqvnPMuEpbx72HxC9wwRbTOZvNzILSHSe
 2qNoMMvsfU0S7ckzHp0ZbR63raFIjg5G1IOd+s2+XSB5pEsudgPwXMZ/MvaEXaMij98q
 5YH+wPaduDa4BlMFQiz9zyT2Vj0n+gnRFON0XHMUtx9rDUQMb8Jy7UFG7reB1IuAKb95
 YijQ==
X-Gm-Message-State: AOJu0YzvUj7+E0P+QYj+yGer1cIVlgJm5vOaPpBg4ymmO/O8ZJ9QXccP
 CITb5ZOYYm+L97HRFzdeBsNbs2SeuRgGQ3a7WfE35TZgAU9U9pmyrKG5ydNxRMBKvJMzBXw9I14
 kZ6JPKIOWhTt9LlNeU+I56juiqWRLjvNcSt8zi6cT
X-Google-Smtp-Source: AGHT+IHm/BPlgAzHJCnvfsVxgO7pc7elwxsJh/GMEGM9W03dNA52FptoGzvrBxxtIg1Ou4s8cdnnGEurR3fU
X-Received: by 2002:a05:6902:1109:b0:e30:78c0:83aa with SMTP id
 3f1490d57ef6-e337f84dcadmr5136926276.3.1731106163523; 
 Fri, 08 Nov 2024 14:49:23 -0800 (PST)
Received: from postal.iol.unh.edu (postal.iol.unh.edu. [132.177.123.84])
 by smtp-relay.gmail.com with ESMTPS id
 3f1490d57ef6-e336ef1ec07sm105390276.9.2024.11.08.14.49.23
 (version=TLS1_2 cipher=ECDHE-ECDSA-AES128-GCM-SHA256 bits=128/128);
 Fri, 08 Nov 2024 14:49:23 -0800 (PST)
X-Relaying-Domain: iol.unh.edu
Date: Fri, 08 Nov 2024 14:49:23 -0800 (PST)
Message-ID: <672e9573.250a0220.2f1bc2.6348SMTPIN_ADDED_MISSING@mx.google.com>
Received: from [172.21.0.5] (unknown [172.18.0.240])
 by postal.iol.unh.edu (Postfix) with ESMTP id 212AF6052471;
 Fri,  8 Nov 2024 17:49:23 -0500 (EST)
Subject: |SUCCESS| pw148214-148216 [PATCH] [v3,3/3] dts: add l2fwd test suite
From: dpdklab@iol.unh.edu
To: Test Report <test-report@dpdk.org>
Cc: dpdk-test-reports@iol.unh.edu
In-Reply-To: <20241108170138.203096-4-luca.vizzarro@arm.com>
References: <20241108170138.203096-4-luca.vizzarro@arm.com>
Content-Type: text/plain
X-BeenThere: test-report@dpdk.org
X-Mailman-Version: 2.1.29
Precedence: list
List-Id: automatic DPDK test reports <test-report.dpdk.org>
List-Unsubscribe: <https://mails.dpdk.org/options/test-report>,
 <mailto:test-report-request@dpdk.org?subject=unsubscribe>
List-Archive: <http://mails.dpdk.org/archives/test-report/>
List-Post: <mailto:test-report@dpdk.org>
List-Help: <mailto:test-report-request@dpdk.org?subject=help>
List-Subscribe: <https://mails.dpdk.org/listinfo/test-report>,
 <mailto:test-report-request@dpdk.org?subject=subscribe>
Errors-To: test-report-bounces@dpdk.org

Test-Label: iol-unit-amd64-testing
Test-Status: SUCCESS
http://dpdk.org/patch/148216

_Testing PASS_

Submitter: Luca Vizzarro <luca.vizzarro@arm.com>
Date: Friday, November 08 2024 17:01:38 
DPDK git baseline: Repo:dpdk
  Branch: master
  CommitID:84c91d93da7a0e537f95cf17dde026564f35a3b7

148214-148216 --> testing pass

Upstream job id: Generic-Unit-Test-DPDK#289737

Test environment and result as below:

+---------------------+----------------+
|     Environment     | dpdk_unit_test |
+=====================+================+
| Debian 12           | PASS           |
+---------------------+----------------+
| CentOS Stream 9     | PASS           |
+---------------------+----------------+
| Fedora 39           | PASS           |
+---------------------+----------------+
| Fedora 39 (Clang)   | PASS           |
+---------------------+----------------+
| RHEL8               | PASS           |
+---------------------+----------------+
| RHEL9               | PASS           |
+---------------------+----------------+
| Fedora 40           | PASS           |
+---------------------+----------------+
| Fedora 40 (Clang)   | PASS           |
+---------------------+----------------+
| Ubuntu 20.04        | PASS           |
+---------------------+----------------+
| Ubuntu 24.04        | PASS           |
+---------------------+----------------+
| Ubuntu 22.04        | PASS           |
+---------------------+----------------+
| Windows Server 2022 | PASS           |
+---------------------+----------------+


Debian 12
	Kernel: Depends on container host
	Compiler: gcc (Debian 12.2.0-14) 12.2.0

CentOS Stream 9
	Kernel: Depends on container host
	Compiler: gcc 11.4.1 20231218 (Red Hat 11.4.1-3)

Fedora 39
	Kernel: Depends on container host
	Compiler: gcc 13.3.1 20240522 (Red Hat 13.3.1-1)

Fedora 39 (Clang)
	Kernel: Depends on container host
	Compiler: clang 17.0.6 (Fedora 17.0.6-2.fc39)

RHEL8
	Kernel: Depends on container host
	Compiler: gcc 8.5.0 20210514 (Red Hat 8.5.0-22)

RHEL9
	Kernel: Depends on container host
	Compiler: gcc 11.4.1 20231218 (Red Hat 11.4.1-3)

Fedora 40
	Kernel: Depends on container host
	Compiler: gcc 14.2.1 20240801 (Red Hat 14.2.1-1)

Fedora 40 (Clang)
	Kernel: Depends on container host
	Compiler: clang 18.1.6 (Fedora 18.1.6-3.fc40)

Ubuntu 20.04
	Kernel: Depends on container host
	Compiler: gcc (Ubuntu 9.4.0-1ubuntu1~20.04.2) 9.4.0

Ubuntu 24.04
	Kernel: Depends on container host
	Compiler: gcc (Ubuntu 13.2.0-23ubuntu4) 13.2.0

Ubuntu 22.04
	Kernel: Depends on container host
	Compiler: gcc (Ubuntu 11.4.0-1ubuntu1~22.04) 11.4.0

Windows Server 2022
	Kernel: 10.0.20348.2031
	Compiler: clang 15.0.7, gcc 14.1.0 (MinGW), and MSVC VS 19.39.33521

To view detailed results, visit:
https://lab.dpdk.org/results/dashboard/patchsets/31867/

UNH-IOL DPDK Community Lab

To manage your email subscriptions, visit: 
https://lab.dpdk.org/results/dashboard/preferences/subscriptions/