From mboxrd@z Thu Jan  1 00:00:00 1970
Return-Path: <test-report-bounces@dpdk.org>
Received: from mails.dpdk.org (mails.dpdk.org [217.70.189.124])
	by inbox.dpdk.org (Postfix) with ESMTP id 926BC45CB7
	for <public@inbox.dpdk.org>; Sat,  9 Nov 2024 00:39:41 +0100 (CET)
Received: from mails.dpdk.org (localhost [127.0.0.1])
	by mails.dpdk.org (Postfix) with ESMTP id 8F12540268;
	Sat,  9 Nov 2024 00:39:41 +0100 (CET)
Received: from mail-il1-f227.google.com (mail-il1-f227.google.com
 [209.85.166.227])
 by mails.dpdk.org (Postfix) with ESMTP id 43E7940263
 for <test-report@dpdk.org>; Sat,  9 Nov 2024 00:39:40 +0100 (CET)
Received: by mail-il1-f227.google.com with SMTP id
 e9e14a558f8ab-3a6c7bede1aso10305795ab.0
 for <test-report@dpdk.org>; Fri, 08 Nov 2024 15:39:40 -0800 (PST)
DKIM-Signature: v=1; a=rsa-sha256; c=relaxed/relaxed;
 d=iol.unh.edu; s=unh-iol; t=1731109179; x=1731713979; darn=dpdk.org;
 h=references:in-reply-to:cc:to:from:subject:message-id:date:from:to
 :cc:subject:date:message-id:reply-to;
 bh=mEJzYzXG2GXXEtUZbHWEvAGRQf6VikIpaUT1wq0FJi4=;
 b=L62S1McwKnjSUmIn4LwuEOriQMdJvsfwTKYhAFbSFyi7ZWsHMuzygum3Wa1KcHD1FV
 wB3yNMExmQOACU1WC+KFqUK04dIciVkdQq6F4PENFb40KuZ/WgtSafVb0XbTj072qQPW
 YiIrhSfv5POiEOrLE13v9q6BLizZ58AJkJEX0=
X-Google-DKIM-Signature: v=1; a=rsa-sha256; c=relaxed/relaxed;
 d=1e100.net; s=20230601; t=1731109179; x=1731713979;
 h=references:in-reply-to:cc:to:from:subject:message-id:date
 :x-gm-message-state:from:to:cc:subject:date:message-id:reply-to;
 bh=mEJzYzXG2GXXEtUZbHWEvAGRQf6VikIpaUT1wq0FJi4=;
 b=Zm2MRtYSAhUcuUw890PnFeQvFHHvQVsZmVdvPqf1RIHHDQiddQJkRod9DLLcFqHPq2
 lmPXXWHJELpw7X04I24qAC1NWiIa0Tu56qZctmFMLmULSOAXuvgpysaGeiHWCbOlNHuB
 uHEZF3pNFQyzwcHn7nqJyjbGYzeq86FVxXXw2tnEvOSP6bqcmPoBdPxkKFmtvWetcOLB
 7gbIbGCYmqx8Kgcn6VsIyuQ84Nj9ivbUZ8hfFNDwY9YIcMnZ36Hn1wImFk7sMucXdR6y
 7PSsoFYPaaFwkXbHyydzATOcYrJ7W8IhErRYw7uUjZlLZcm8u1yFhi6z0nvNUPZUEb1U
 ctCg==
X-Gm-Message-State: AOJu0YxTGamhH7BDf84/+voDr25zOzyYP6Olfi3wf6Y80uCQRm9Y/ci5
 24PeAIEXdyzE0ho3E8bhdo2LaLrDnLBVk/1hhBdPpU3dpq3lLslALqGT75AgwwEwq3R/T0V5DJx
 0uA663sJkc1pvxFjW1QVs52YE106mP2pne9MbPACY
X-Google-Smtp-Source: AGHT+IH6qb9fIJBRmGW3giKnEQ2umhDbG3Gu81CpWRf1g1+NHPOhlIgXUQLjpgb+j5O4Ua5oUkj/3+TTKz4y
X-Received: by 2002:a05:6e02:16cc:b0:3a6:cac0:12a6 with SMTP id
 e9e14a558f8ab-3a6f18dbf09mr63614895ab.0.1731109179621; 
 Fri, 08 Nov 2024 15:39:39 -0800 (PST)
Received: from postal.iol.unh.edu (postal.iol.unh.edu. [132.177.123.84])
 by smtp-relay.gmail.com with ESMTPS id
 e9e14a558f8ab-3a6f97fcb9asm160445ab.6.2024.11.08.15.39.39
 (version=TLS1_2 cipher=ECDHE-ECDSA-AES128-GCM-SHA256 bits=128/128);
 Fri, 08 Nov 2024 15:39:39 -0800 (PST)
X-Relaying-Domain: iol.unh.edu
Date: Fri, 08 Nov 2024 15:39:39 -0800 (PST)
Message-ID: <672ea13b.050a0220.c3649.0ac9SMTPIN_ADDED_MISSING@mx.google.com>
Received: from [172.21.0.5] (unknown [172.18.0.240])
 by postal.iol.unh.edu (Postfix) with ESMTP id 25E3A6052471;
 Fri,  8 Nov 2024 18:39:39 -0500 (EST)
Subject: |SUCCESS| pw148213 [PATCH] dts: remove external dependency on python
From: dpdklab@iol.unh.edu
To: Test Report <test-report@dpdk.org>
Cc: dpdk-test-reports@iol.unh.edu
In-Reply-To: <20241108162945.699545-1-paul.szczepanek@arm.com>
References: <20241108162945.699545-1-paul.szczepanek@arm.com>
Content-Type: text/plain
X-BeenThere: test-report@dpdk.org
X-Mailman-Version: 2.1.29
Precedence: list
List-Id: automatic DPDK test reports <test-report.dpdk.org>
List-Unsubscribe: <https://mails.dpdk.org/options/test-report>,
 <mailto:test-report-request@dpdk.org?subject=unsubscribe>
List-Archive: <http://mails.dpdk.org/archives/test-report/>
List-Post: <mailto:test-report@dpdk.org>
List-Help: <mailto:test-report-request@dpdk.org?subject=help>
List-Subscribe: <https://mails.dpdk.org/listinfo/test-report>,
 <mailto:test-report-request@dpdk.org?subject=subscribe>
Errors-To: test-report-bounces@dpdk.org

Test-Label: iol-compile-amd64-testing
Test-Status: SUCCESS
http://dpdk.org/patch/148213

_Testing PASS_

Submitter: Paul Szczepanek <paul.szczepanek@arm.com>
Date: Friday, November 08 2024 16:29:45 
DPDK git baseline: Repo:dpdk
  Branch: master
  CommitID:84c91d93da7a0e537f95cf17dde026564f35a3b7

148213 --> testing pass

Upstream job id: Generic-DPDK-Compile-Meson#331399

Test environment and result as below:

+---------------------+--------------------+------------------+-------------------+-------------------+
|     Environment     | dpdk_meson_compile | dpdk_compile_ovs | dpdk_compile_spdk | dpdk_msvc_compile |
+=====================+====================+==================+===================+===================+
| Fedora 39 (Clang)   | PASS               | PASS             | PASS              | SKIPPED           |
+---------------------+--------------------+------------------+-------------------+-------------------+
| Fedora 39           | PASS               | PASS             | PASS              | SKIPPED           |
+---------------------+--------------------+------------------+-------------------+-------------------+
| Fedora 40 (Clang)   | PASS               | PASS             | PASS              | SKIPPED           |
+---------------------+--------------------+------------------+-------------------+-------------------+
| Debian 12           | PASS               | PASS             | PASS              | SKIPPED           |
+---------------------+--------------------+------------------+-------------------+-------------------+
| openSUSE Leap 15    | PASS               | PASS             | SKIPPED           | SKIPPED           |
+---------------------+--------------------+------------------+-------------------+-------------------+
| Fedora 40           | PASS               | PASS             | PASS              | SKIPPED           |
+---------------------+--------------------+------------------+-------------------+-------------------+
| RHEL8               | PASS               | PASS             | SKIPPED           | SKIPPED           |
+---------------------+--------------------+------------------+-------------------+-------------------+
| RHEL9               | PASS               | PASS             | SKIPPED           | SKIPPED           |
+---------------------+--------------------+------------------+-------------------+-------------------+
| Ubuntu 20.04        | PASS               | PASS             | SKIPPED           | SKIPPED           |
+---------------------+--------------------+------------------+-------------------+-------------------+
| Ubuntu 22.04        | PASS               | PASS             | PASS              | SKIPPED           |
+---------------------+--------------------+------------------+-------------------+-------------------+
| Ubuntu 24.04        | PASS               | PASS             | PASS              | SKIPPED           |
+---------------------+--------------------+------------------+-------------------+-------------------+
| FreeBSD 13.4        | PASS               | SKIPPED          | SKIPPED           | SKIPPED           |
+---------------------+--------------------+------------------+-------------------+-------------------+
| FreeBSD 14.1        | PASS               | SKIPPED          | SKIPPED           | SKIPPED           |
+---------------------+--------------------+------------------+-------------------+-------------------+
| CentOS Stream 9     | PASS               | PASS             | PASS              | SKIPPED           |
+---------------------+--------------------+------------------+-------------------+-------------------+
| Alpine              | PASS               | PASS             | SKIPPED           | SKIPPED           |
+---------------------+--------------------+------------------+-------------------+-------------------+
| Windows Server 2022 | SKIPPED            | SKIPPED          | SKIPPED           | PASS              |
+---------------------+--------------------+------------------+-------------------+-------------------+


Fedora 39 (Clang)
	Kernel: Depends on container host
	Compiler: clang 17.0.6 (Fedora 17.0.6-2.fc39)

Fedora 39
	Kernel: Depends on container host
	Compiler: gcc 13.3.1 20240522 (Red Hat 13.3.1-1)

Fedora 40 (Clang)
	Kernel: Depends on container host
	Compiler: clang 18.1.6 (Fedora 18.1.6-3.fc40)

Debian 12
	Kernel: Depends on container host
	Compiler: gcc (Debian 12.2.0-14) 12.2.0

openSUSE Leap 15
	Kernel: Depends on container host
	Compiler: gcc (SUSE Linux) 7.5.0

Fedora 40
	Kernel: Depends on container host
	Compiler: gcc 14.2.1 20240801 (Red Hat 14.2.1-1)

RHEL8
	Kernel: Depends on container host
	Compiler: gcc 8.5.0 20210514 (Red Hat 8.5.0-22)

RHEL9
	Kernel: Depends on container host
	Compiler: gcc 11.4.1 20231218 (Red Hat 11.4.1-3)

Ubuntu 20.04
	Kernel: Depends on container host
	Compiler: gcc (Ubuntu 9.4.0-1ubuntu1~20.04.2) 9.4.0

Ubuntu 22.04
	Kernel: Depends on container host
	Compiler: gcc (Ubuntu 11.4.0-1ubuntu1~22.04) 11.4.0

Ubuntu 24.04
	Kernel: Depends on container host
	Compiler: gcc (Ubuntu 13.2.0-23ubuntu4) 13.2.0

FreeBSD 13.4
	Kernel: 13.4-RELEASE-p1
	Compiler: clang 18.1.6

FreeBSD 14.1
	Kernel: 14.1-RELEASE-p3
	Compiler: clang 18.1.5

CentOS Stream 9
	Kernel: Depends on container host
	Compiler: gcc 11.4.1 20231218 (Red Hat 11.4.1-3)

Alpine
	Kernel: Depends on container host
	Compiler: gcc (Alpine 13.2.1_git20240309) 13.2.1 20240309

Windows Server 2022
	Kernel: 10.0.20348.2031
	Compiler: clang 15.0.7, gcc 14.1.0 (MinGW), and MSVC VS 19.39.33521

To view detailed results, visit:
https://lab.dpdk.org/results/dashboard/patchsets/31866/

UNH-IOL DPDK Community Lab

To manage your email subscriptions, visit: 
https://lab.dpdk.org/results/dashboard/preferences/subscriptions/