From mboxrd@z Thu Jan  1 00:00:00 1970
Return-Path: <test-report-bounces@dpdk.org>
Received: from mails.dpdk.org (mails.dpdk.org [217.70.189.124])
	by inbox.dpdk.org (Postfix) with ESMTP id 3CA7C45CB8
	for <public@inbox.dpdk.org>; Sat,  9 Nov 2024 04:50:32 +0100 (CET)
Received: from mails.dpdk.org (localhost [127.0.0.1])
	by mails.dpdk.org (Postfix) with ESMTP id 249A540658;
	Sat,  9 Nov 2024 04:50:32 +0100 (CET)
Received: from mail-pg1-f225.google.com (mail-pg1-f225.google.com
 [209.85.215.225])
 by mails.dpdk.org (Postfix) with ESMTP id 84FF14014F
 for <test-report@dpdk.org>; Sat,  9 Nov 2024 04:50:30 +0100 (CET)
Received: by mail-pg1-f225.google.com with SMTP id
 41be03b00d2f7-7ea7e2ff5ceso2052673a12.2
 for <test-report@dpdk.org>; Fri, 08 Nov 2024 19:50:30 -0800 (PST)
DKIM-Signature: v=1; a=rsa-sha256; c=relaxed/relaxed;
 d=iol.unh.edu; s=unh-iol; t=1731124230; x=1731729030; darn=dpdk.org;
 h=references:in-reply-to:cc:to:from:subject:message-id:date:from:to
 :cc:subject:date:message-id:reply-to;
 bh=NieVbCgS6lBsF5uGpfsDtFryulFBgsJxIxu0ZpsJh+M=;
 b=ZcxgyF38mcmE002vU+umuOkfYIWelhV4Nsq2WNwwz0EF5+E2PubLqyemBcClbHhAnN
 qZUJFYAQZMGxwZ3GL07ieW8NAlGraU00jGv7sSbB/57P4ILdd0/01hX3POMQ1+a4C7Ld
 l24HUoPY11si0L98yuEC1BOmcGzng/8iZRUGY=
X-Google-DKIM-Signature: v=1; a=rsa-sha256; c=relaxed/relaxed;
 d=1e100.net; s=20230601; t=1731124230; x=1731729030;
 h=references:in-reply-to:cc:to:from:subject:message-id:date
 :x-gm-message-state:from:to:cc:subject:date:message-id:reply-to;
 bh=NieVbCgS6lBsF5uGpfsDtFryulFBgsJxIxu0ZpsJh+M=;
 b=FnkcL3M9/H8ULjM3UlZJYHeX2Gp9Vlkh6RLBIiMei2PZqZsuA9gOFAmrBOx4MerbwZ
 hS09jyQdUkWUxxSDwLei9UsCOmOUOt8LlJeErAb90CYCi15Rjz2ZgCC5DuxpQ34stmKz
 jNWwxBVuCbVrwOZvats+tZdMwyXHhl6LgAyoz7iJc/WZGBRJTPuk7ZyWEFZBrEIMYBov
 vPCFSBsXawZRs2QK2LdzfP9e1wc4I63rGBaVo/Fx34tSUv33y7rI/pGflPPeoKiEwhTG
 OjqkgwF1zTHZYyYvOAZxOj7OdK95wvateqQivXsG1Ewc74wMoLE1cK304S8WKuTvbB6o
 coyg==
X-Gm-Message-State: AOJu0YxiiHMmqvezR/I/82r7TOTmYoZHbrlt4QDVEMEiA8UrvjY3R30i
 cEOnxHrjs4otmS5N3GZq1Z1x/L/kOqCU7QevCWsuxC4P3RCfiasgYVgGmyG1Kp6pjfVhRHdiAoi
 kwIUFOj+pDCLcqPOiQ/xHGzYRjvqANF25vYD4w+fiHioaGWoseLZNUMTI
X-Google-Smtp-Source: AGHT+IF6t/r25AeVWnDRY6TpFoCXxBjd3c0VMq7B+oqE9b22BxsKzoGXts5dgldpZRY+zM+gRVeDSWpNUxl2
X-Received: by 2002:a17:90b:2f0d:b0:2e0:80e8:a31a with SMTP id
 98e67ed59e1d1-2e9b174633bmr6396175a91.35.1731124229649; 
 Fri, 08 Nov 2024 19:50:29 -0800 (PST)
Received: from postal.iol.unh.edu (postal.iol.unh.edu.
 [2606:4100:3880:1234::84]) by smtp-relay.gmail.com with ESMTPS id
 d9443c01a7336-21177e98bd9sm2047825ad.108.2024.11.08.19.50.29
 (version=TLS1_2 cipher=ECDHE-ECDSA-AES128-GCM-SHA256 bits=128/128);
 Fri, 08 Nov 2024 19:50:29 -0800 (PST)
X-Relaying-Domain: iol.unh.edu
Date: Fri, 08 Nov 2024 19:50:29 -0800 (PST)
Message-ID: <672edc05.170a0220.190d0a.c3a9SMTPIN_ADDED_MISSING@mx.google.com>
Received: from [172.17.0.2] (unknown [172.18.0.217])
 by postal.iol.unh.edu (Postfix) with ESMTP id 0B46C6052471;
 Fri,  8 Nov 2024 22:50:29 -0500 (EST)
Subject: |SUCCESS| pw148218-148235 [PATCH] [v6,20/20] app/testpmd: remove use
From: dpdklab@iol.unh.edu
To: Test Report <test-report@dpdk.org>
Cc: dpdk-test-reports@iol.unh.edu
In-Reply-To: <1731116892-17109-21-git-send-email-andremue@linux.microsoft.com>
References: <1731116892-17109-21-git-send-email-andremue@linux.microsoft.com>
Content-Type: text/plain
X-BeenThere: test-report@dpdk.org
X-Mailman-Version: 2.1.29
Precedence: list
List-Id: automatic DPDK test reports <test-report.dpdk.org>
List-Unsubscribe: <https://mails.dpdk.org/options/test-report>,
 <mailto:test-report-request@dpdk.org?subject=unsubscribe>
List-Archive: <http://mails.dpdk.org/archives/test-report/>
List-Post: <mailto:test-report@dpdk.org>
List-Help: <mailto:test-report-request@dpdk.org?subject=help>
List-Subscribe: <https://mails.dpdk.org/listinfo/test-report>,
 <mailto:test-report-request@dpdk.org?subject=subscribe>
Errors-To: test-report-bounces@dpdk.org

Test-Label: iol-compile-amd64-testing
Test-Status: SUCCESS
http://dpdk.org/patch/148235

_Testing PASS_

Submitter: Andre Muezerie <andremue@linux.microsoft.com>
Date: Saturday, November 09 2024 01:48:12 
DPDK git baseline: Repo:dpdk
  Branch: master
  CommitID:f2fd6c2e080c0c595bcc72d8c05d9e1014d398e2

148218-148235 --> testing pass

Upstream job id: Generic-DPDK-Compile-Meson#331430

Test environment and result as below:

+---------------------+--------------------+------------------+-------------------+-----------------------+-------------------+----------------------+
|     Environment     | dpdk_meson_compile | dpdk_compile_ovs | dpdk_compile_spdk | dpdk_win_llvm_compile | dpdk_msvc_compile | dpdk_mingw64_compile |
+=====================+====================+==================+===================+=======================+===================+======================+
| CentOS Stream 9     | PASS               | PASS             | PASS              | SKIPPED               | SKIPPED           | SKIPPED              |
+---------------------+--------------------+------------------+-------------------+-----------------------+-------------------+----------------------+
| Debian 12           | PASS               | PASS             | PASS              | SKIPPED               | SKIPPED           | SKIPPED              |
+---------------------+--------------------+------------------+-------------------+-----------------------+-------------------+----------------------+
| Fedora 39 (Clang)   | PASS               | PASS             | PASS              | SKIPPED               | SKIPPED           | SKIPPED              |
+---------------------+--------------------+------------------+-------------------+-----------------------+-------------------+----------------------+
| Fedora 39           | PASS               | PASS             | PASS              | SKIPPED               | SKIPPED           | SKIPPED              |
+---------------------+--------------------+------------------+-------------------+-----------------------+-------------------+----------------------+
| Fedora 40 (Clang)   | PASS               | PASS             | PASS              | SKIPPED               | SKIPPED           | SKIPPED              |
+---------------------+--------------------+------------------+-------------------+-----------------------+-------------------+----------------------+
| Fedora 40           | PASS               | PASS             | PASS              | SKIPPED               | SKIPPED           | SKIPPED              |
+---------------------+--------------------+------------------+-------------------+-----------------------+-------------------+----------------------+
| RHEL8               | PASS               | PASS             | SKIPPED           | SKIPPED               | SKIPPED           | SKIPPED              |
+---------------------+--------------------+------------------+-------------------+-----------------------+-------------------+----------------------+
| openSUSE Leap 15    | PASS               | PASS             | SKIPPED           | SKIPPED               | SKIPPED           | SKIPPED              |
+---------------------+--------------------+------------------+-------------------+-----------------------+-------------------+----------------------+
| Ubuntu 20.04        | PASS               | PASS             | SKIPPED           | SKIPPED               | SKIPPED           | SKIPPED              |
+---------------------+--------------------+------------------+-------------------+-----------------------+-------------------+----------------------+
| RHEL9               | PASS               | PASS             | SKIPPED           | SKIPPED               | SKIPPED           | SKIPPED              |
+---------------------+--------------------+------------------+-------------------+-----------------------+-------------------+----------------------+
| Ubuntu 22.04        | PASS               | PASS             | PASS              | SKIPPED               | SKIPPED           | SKIPPED              |
+---------------------+--------------------+------------------+-------------------+-----------------------+-------------------+----------------------+
| Ubuntu 24.04        | PASS               | PASS             | PASS              | SKIPPED               | SKIPPED           | SKIPPED              |
+---------------------+--------------------+------------------+-------------------+-----------------------+-------------------+----------------------+
| Alpine              | PASS               | PASS             | SKIPPED           | SKIPPED               | SKIPPED           | SKIPPED              |
+---------------------+--------------------+------------------+-------------------+-----------------------+-------------------+----------------------+
| FreeBSD 13.4        | PASS               | SKIPPED          | SKIPPED           | SKIPPED               | SKIPPED           | SKIPPED              |
+---------------------+--------------------+------------------+-------------------+-----------------------+-------------------+----------------------+
| FreeBSD 14.1        | PASS               | SKIPPED          | SKIPPED           | SKIPPED               | SKIPPED           | SKIPPED              |
+---------------------+--------------------+------------------+-------------------+-----------------------+-------------------+----------------------+
| Windows Server 2022 | SKIPPED            | SKIPPED          | SKIPPED           | PASS                  | PASS              | PASS                 |
+---------------------+--------------------+------------------+-------------------+-----------------------+-------------------+----------------------+


CentOS Stream 9
	Kernel: Depends on container host
	Compiler: gcc 11.4.1 20231218 (Red Hat 11.4.1-3)

Debian 12
	Kernel: Depends on container host
	Compiler: gcc (Debian 12.2.0-14) 12.2.0

Fedora 39 (Clang)
	Kernel: Depends on container host
	Compiler: clang 17.0.6 (Fedora 17.0.6-2.fc39)

Fedora 39
	Kernel: Depends on container host
	Compiler: gcc 13.3.1 20240522 (Red Hat 13.3.1-1)

Fedora 40 (Clang)
	Kernel: Depends on container host
	Compiler: clang 18.1.6 (Fedora 18.1.6-3.fc40)

Fedora 40
	Kernel: Depends on container host
	Compiler: gcc 14.2.1 20240801 (Red Hat 14.2.1-1)

RHEL8
	Kernel: Depends on container host
	Compiler: gcc 8.5.0 20210514 (Red Hat 8.5.0-22)

openSUSE Leap 15
	Kernel: Depends on container host
	Compiler: gcc (SUSE Linux) 7.5.0

Ubuntu 20.04
	Kernel: Depends on container host
	Compiler: gcc (Ubuntu 9.4.0-1ubuntu1~20.04.2) 9.4.0

RHEL9
	Kernel: Depends on container host
	Compiler: gcc 11.4.1 20231218 (Red Hat 11.4.1-3)

Ubuntu 22.04
	Kernel: Depends on container host
	Compiler: gcc (Ubuntu 11.4.0-1ubuntu1~22.04) 11.4.0

Ubuntu 24.04
	Kernel: Depends on container host
	Compiler: gcc (Ubuntu 13.2.0-23ubuntu4) 13.2.0

Alpine
	Kernel: Depends on container host
	Compiler: gcc (Alpine 13.2.1_git20240309) 13.2.1 20240309

FreeBSD 13.4
	Kernel: 13.4-RELEASE-p1
	Compiler: clang 18.1.6

FreeBSD 14.1
	Kernel: 14.1-RELEASE-p3
	Compiler: clang 18.1.5

Windows Server 2022
	Kernel: 10.0.20348.2031
	Compiler: clang 15.0.7, gcc 14.1.0 (MinGW), and MSVC VS 19.39.33521

To view detailed results, visit:
https://lab.dpdk.org/results/dashboard/patchsets/31869/

UNH-IOL DPDK Community Lab

To manage your email subscriptions, visit: 
https://lab.dpdk.org/results/dashboard/preferences/subscriptions/