From mboxrd@z Thu Jan  1 00:00:00 1970
Return-Path: <test-report-bounces@dpdk.org>
Received: from mails.dpdk.org (mails.dpdk.org [217.70.189.124])
	by inbox.dpdk.org (Postfix) with ESMTP id 0213A45CE4
	for <public@inbox.dpdk.org>; Mon, 11 Nov 2024 08:48:36 +0100 (CET)
Received: from mails.dpdk.org (localhost [127.0.0.1])
	by mails.dpdk.org (Postfix) with ESMTP id 002D840E0C;
	Mon, 11 Nov 2024 08:48:36 +0100 (CET)
Received: from mail-yb1-f228.google.com (mail-yb1-f228.google.com
 [209.85.219.228])
 by mails.dpdk.org (Postfix) with ESMTP id 2A6DB40E01
 for <test-report@dpdk.org>; Mon, 11 Nov 2024 08:48:35 +0100 (CET)
Received: by mail-yb1-f228.google.com with SMTP id
 3f1490d57ef6-e290200a560so4022221276.1
 for <test-report@dpdk.org>; Sun, 10 Nov 2024 23:48:35 -0800 (PST)
DKIM-Signature: v=1; a=rsa-sha256; c=relaxed/relaxed;
 d=iol.unh.edu; s=unh-iol; t=1731311314; x=1731916114; darn=dpdk.org;
 h=references:in-reply-to:cc:to:from:subject:message-id:date:from:to
 :cc:subject:date:message-id:reply-to;
 bh=GoO7okpp5Ptcln5VsLbLkcpFgmuLhEX8XPP8roebWhg=;
 b=H4EApslZkZ1P0d7WMbAdb+xfqEI8OZcG54kVLt2J4g71wrnjRCOSh//bf9SpUCcWKS
 GtiUGwS8zDlyEyv5+knDB9LpJL0tgfPlF0ZySH0rTRXfk3ZvojXXVRiB/75legrFBRis
 CqpgKZaA7Q86+HFFG10uYLqN3OnQtO77eBnbk=
X-Google-DKIM-Signature: v=1; a=rsa-sha256; c=relaxed/relaxed;
 d=1e100.net; s=20230601; t=1731311314; x=1731916114;
 h=references:in-reply-to:cc:to:from:subject:message-id:date
 :x-gm-message-state:from:to:cc:subject:date:message-id:reply-to;
 bh=GoO7okpp5Ptcln5VsLbLkcpFgmuLhEX8XPP8roebWhg=;
 b=oq4tsbJfgYR0yOp5gwLZ3fCgQwk9V+Ab8txAtDOVAWmo+wk/7ygAIV1k6+f5tbPtQY
 LCtWEsiRG2tKsxcNZi2i4HKru430IGLXgXdIcVR4HDTJ0tFsWGa+Uv+3oOov5tX/8ZAa
 xcwytKcgaqS1kAiplxp7zdMcgW6mzBOLEdZGNuI/BWNuK2Z7hML1AqkO3eqjL9amo62C
 JUuTif1aktb1Kb9564QLILGmNYmF68wHHgjZFpxKxmvwKTmOsuvcxLh+MncpL/r85+F3
 rcxF9UK1uHtoywLoM5cjcB/LM3U6l3NrunSbNIwucibFTpQEmGPkRuFAgTiL/PFtqR4+
 x4DQ==
X-Gm-Message-State: AOJu0YzJtNRHbFodYDRERTciRIlELv8C6q79t11iHeTAcLuLo9kKPd9d
 AqOa9yh11Jp1s55s2bk/GiyNjQZ3EesBK2aOJ67JOgxjHZ0+s9F3PKaCxZdjF0w5WN9c6a1cV2G
 a+Nkhdd3lk2GkIc3tM2EV3zHDxbgcyl/3m0GK09WMmXF/KK4Lhinf5Em9
X-Google-Smtp-Source: AGHT+IFEiqgSgBkIavisuV10IW3i5jJXEcu8W3TG0mtOdfYerInOSlr/TxeM3AOj/AZkjd+65H/cuyh7IpLh
X-Received: by 2002:a05:690c:6505:b0:6e3:153a:ff62 with SMTP id
 00721157ae682-6eadddb4ceamr111684007b3.23.1731311314568; 
 Sun, 10 Nov 2024 23:48:34 -0800 (PST)
Received: from postal.iol.unh.edu (postal.iol.unh.edu.
 [2606:4100:3880:1234::84]) by smtp-relay.gmail.com with ESMTPS id
 00721157ae682-6eaceb7cca9sm7358867b3.61.2024.11.10.23.48.34
 (version=TLS1_2 cipher=ECDHE-ECDSA-AES128-GCM-SHA256 bits=128/128);
 Sun, 10 Nov 2024 23:48:34 -0800 (PST)
X-Relaying-Domain: iol.unh.edu
Date: Sun, 10 Nov 2024 23:48:34 -0800 (PST)
Message-ID: <6731b6d2.0d0a0220.23f1f2.2a38SMTPIN_ADDED_MISSING@mx.google.com>
Received: from [172.21.0.5] (unknown [172.18.0.240])
 by postal.iol.unh.edu (Postfix) with ESMTP id 348636052471;
 Mon, 11 Nov 2024 02:48:34 -0500 (EST)
Subject: |SUCCESS| pw148269-148280 [PATCH] [v21,13/13] compress/zsda: add zsd
From: dpdklab@iol.unh.edu
To: Test Report <test-report@dpdk.org>
Cc: dpdk-test-reports@iol.unh.edu
In-Reply-To: <20241111024435.3126308-12-li.hanxiao@zte.com.cn>
References: <20241111024435.3126308-12-li.hanxiao@zte.com.cn>
Content-Type: text/plain
X-BeenThere: test-report@dpdk.org
X-Mailman-Version: 2.1.29
Precedence: list
List-Id: automatic DPDK test reports <test-report.dpdk.org>
List-Unsubscribe: <https://mails.dpdk.org/options/test-report>,
 <mailto:test-report-request@dpdk.org?subject=unsubscribe>
List-Archive: <http://mails.dpdk.org/archives/test-report/>
List-Post: <mailto:test-report@dpdk.org>
List-Help: <mailto:test-report-request@dpdk.org?subject=help>
List-Subscribe: <https://mails.dpdk.org/listinfo/test-report>,
 <mailto:test-report-request@dpdk.org?subject=subscribe>
Errors-To: test-report-bounces@dpdk.org

Test-Label: iol-unit-amd64-testing
Test-Status: SUCCESS
http://dpdk.org/patch/148280

_Testing PASS_

Submitter: Hanxiao Li <li.hanxiao@zte.com.cn>
Date: Monday, November 11 2024 02:44:33 
DPDK git baseline: Repo:dpdk
  Branch: master
  CommitID:26ed4230f00c38a370b2e90b5c05ca0a63402061

148269-148280 --> testing pass

Upstream job id: Generic-Unit-Test-DPDK#290051

Test environment and result as below:

+---------------------+----------------+
|     Environment     | dpdk_unit_test |
+=====================+================+
| Fedora 39           | PASS           |
+---------------------+----------------+
| Debian 12           | PASS           |
+---------------------+----------------+
| CentOS Stream 9     | PASS           |
+---------------------+----------------+
| Fedora 39 (Clang)   | PASS           |
+---------------------+----------------+
| Fedora 40           | PASS           |
+---------------------+----------------+
| Ubuntu 20.04        | PASS           |
+---------------------+----------------+
| RHEL8               | PASS           |
+---------------------+----------------+
| RHEL9               | PASS           |
+---------------------+----------------+
| Ubuntu 24.04        | PASS           |
+---------------------+----------------+
| Fedora 40 (Clang)   | PASS           |
+---------------------+----------------+
| Ubuntu 22.04        | PASS           |
+---------------------+----------------+
| Windows Server 2022 | PASS           |
+---------------------+----------------+


Fedora 39
	Kernel: Depends on container host
	Compiler: gcc 13.3.1 20240522 (Red Hat 13.3.1-1)

Debian 12
	Kernel: Depends on container host
	Compiler: gcc (Debian 12.2.0-14) 12.2.0

CentOS Stream 9
	Kernel: Depends on container host
	Compiler: gcc 11.4.1 20231218 (Red Hat 11.4.1-3)

Fedora 39 (Clang)
	Kernel: Depends on container host
	Compiler: clang 17.0.6 (Fedora 17.0.6-2.fc39)

Fedora 40
	Kernel: Depends on container host
	Compiler: gcc 14.2.1 20240801 (Red Hat 14.2.1-1)

Ubuntu 20.04
	Kernel: Depends on container host
	Compiler: gcc (Ubuntu 9.4.0-1ubuntu1~20.04.2) 9.4.0

RHEL8
	Kernel: Depends on container host
	Compiler: gcc 8.5.0 20210514 (Red Hat 8.5.0-22)

RHEL9
	Kernel: Depends on container host
	Compiler: gcc 11.4.1 20231218 (Red Hat 11.4.1-3)

Ubuntu 24.04
	Kernel: Depends on container host
	Compiler: gcc (Ubuntu 13.2.0-23ubuntu4) 13.2.0

Fedora 40 (Clang)
	Kernel: Depends on container host
	Compiler: clang 18.1.6 (Fedora 18.1.6-3.fc40)

Ubuntu 22.04
	Kernel: Depends on container host
	Compiler: gcc (Ubuntu 11.4.0-1ubuntu1~22.04) 11.4.0

Windows Server 2022
	Kernel: 10.0.20348.2031
	Compiler: clang 15.0.7, gcc 14.1.0 (MinGW), and MSVC VS 19.39.33521

To view detailed results, visit:
https://lab.dpdk.org/results/dashboard/patchsets/31874/

UNH-IOL DPDK Community Lab

To manage your email subscriptions, visit: 
https://lab.dpdk.org/results/dashboard/preferences/subscriptions/