From mboxrd@z Thu Jan  1 00:00:00 1970
Return-Path: <test-report-bounces@dpdk.org>
Received: from mails.dpdk.org (mails.dpdk.org [217.70.189.124])
	by inbox.dpdk.org (Postfix) with ESMTP id 73EFB45CE2
	for <public@inbox.dpdk.org>; Mon, 11 Nov 2024 17:18:21 +0100 (CET)
Received: from mails.dpdk.org (localhost [127.0.0.1])
	by mails.dpdk.org (Postfix) with ESMTP id 46DFD400D6;
	Mon, 11 Nov 2024 17:18:21 +0100 (CET)
Received: from mail-vk1-f227.google.com (mail-vk1-f227.google.com
 [209.85.221.227])
 by mails.dpdk.org (Postfix) with ESMTP id 7187F40041
 for <test-report@dpdk.org>; Mon, 11 Nov 2024 17:18:19 +0100 (CET)
Received: by mail-vk1-f227.google.com with SMTP id
 71dfb90a1353d-513de42687dso1933098e0c.3
 for <test-report@dpdk.org>; Mon, 11 Nov 2024 08:18:19 -0800 (PST)
DKIM-Signature: v=1; a=rsa-sha256; c=relaxed/relaxed;
 d=iol.unh.edu; s=unh-iol; t=1731341899; x=1731946699; darn=dpdk.org;
 h=references:in-reply-to:cc:to:from:subject:message-id:date:from:to
 :cc:subject:date:message-id:reply-to;
 bh=qSwSDx3RryDA60q+d/nGU+x90sXndq8pLLCOpapuHEY=;
 b=N/3LTa1Y3BbZ4GYKLqTLu4J6V1fCPX5bPcNHwwCDTawLrkxl0BQdrYWrMqu+rCInJL
 wXetMmPUmKGmUr+M7hQVmY3N1vrdIX5NS4lS2M53qB7yzvmn5M4FTKlC16gSqSZjan06
 vOiRrVHEnDW0ygXbsLNGGNTbnj9xrp1oE9vHQ=
X-Google-DKIM-Signature: v=1; a=rsa-sha256; c=relaxed/relaxed;
 d=1e100.net; s=20230601; t=1731341899; x=1731946699;
 h=references:in-reply-to:cc:to:from:subject:message-id:date
 :x-gm-message-state:from:to:cc:subject:date:message-id:reply-to;
 bh=qSwSDx3RryDA60q+d/nGU+x90sXndq8pLLCOpapuHEY=;
 b=Df/cfwZw+ncn54TIcwnguMCaa3RJJRS/NaKYwRR8MmRQFL0a99Nv4pLeSp2vhwtc6H
 2tWQHcEIRZXyMCjTjVAZM+MhsLfd2dPgxlxf7FIZl8W14cPX4n+h1Pgv9h6faH94/bsz
 tdFT841dVh/uQ3dmQuaDTNHwNgzoadpjWctpVofCxu08z9zY5FpmDQVSsYRHZUM8qP+W
 KY1PxepKr+MHW54MMF0ihEJy4HmaOJrl3Uv8i3axzhIVeK8tuq8tKyiSMlftnQxwahza
 nH51/p80smEE4Q3fjFlooezBsl2jGI+oo/mWl+TQcq0dq1DzLvWZ37YuQsz7b2yr9B/c
 8duQ==
X-Gm-Message-State: AOJu0YzoIrRgtPxqOxq/UPm/6WuD2m8uW10wKO0QOwTjhYrgwxm740pM
 SEfLona90LJFpf1D/Vi/v+QOEdLnpBdFLGwaShvcZnkTVDRI4lVy1A+qEJ00vVl6j6q+CVo8Mtt
 HvJCEgWvKCc3UHjiqi3KyaHSqabxJO9C+L+uckg09
X-Google-Smtp-Source: AGHT+IEsJGOm/9C2CKQfpKnYjbTHaXzb46zfnBDhJgtNC4GsY2rt+l81PrAL2V6f7+xB/Oxtynbt6FE+kZ7i
X-Received: by 2002:a05:6122:21a0:b0:50d:6d53:fedf with SMTP id
 71dfb90a1353d-51401e8d874mr11043668e0c.8.1731341898747; 
 Mon, 11 Nov 2024 08:18:18 -0800 (PST)
Received: from postal.iol.unh.edu (postal.iol.unh.edu. [132.177.123.84])
 by smtp-relay.gmail.com with ESMTPS id
 71dfb90a1353d-513f31773d9sm559163e0c.4.2024.11.11.08.18.18
 (version=TLS1_2 cipher=ECDHE-ECDSA-AES128-GCM-SHA256 bits=128/128);
 Mon, 11 Nov 2024 08:18:18 -0800 (PST)
X-Relaying-Domain: iol.unh.edu
Date: Mon, 11 Nov 2024 08:18:18 -0800 (PST)
Message-ID: <67322e4a.050a0220.1ebd68.75c8SMTPIN_ADDED_MISSING@mx.google.com>
Received: from [172.17.0.2] (unknown [172.18.0.217])
 by postal.iol.unh.edu (Postfix) with ESMTP id 337CD6052471;
 Mon, 11 Nov 2024 11:18:18 -0500 (EST)
Subject: |SUCCESS| pw148296-148301 [PATCH] [v9,7/7] test: add stress test sui
From: dpdklab@iol.unh.edu
To: Test Report <test-report@dpdk.org>
Cc: dpdk-test-reports@iol.unh.edu
In-Reply-To: <20241111122535.6214-8-konstantin.ananyev@huawei.com>
References: <20241111122535.6214-8-konstantin.ananyev@huawei.com>
Content-Type: text/plain
X-BeenThere: test-report@dpdk.org
X-Mailman-Version: 2.1.29
Precedence: list
List-Id: automatic DPDK test reports <test-report.dpdk.org>
List-Unsubscribe: <https://mails.dpdk.org/options/test-report>,
 <mailto:test-report-request@dpdk.org?subject=unsubscribe>
List-Archive: <http://mails.dpdk.org/archives/test-report/>
List-Post: <mailto:test-report@dpdk.org>
List-Help: <mailto:test-report-request@dpdk.org?subject=help>
List-Subscribe: <https://mails.dpdk.org/listinfo/test-report>,
 <mailto:test-report-request@dpdk.org?subject=subscribe>
Errors-To: test-report-bounces@dpdk.org

Test-Label: iol-unit-amd64-testing
Test-Status: SUCCESS
http://dpdk.org/patch/148301

_Testing PASS_

Submitter: Konstantin Ananyev <konstantin.ananyev@huawei.com>
Date: Monday, November 11 2024 12:25:35 
DPDK git baseline: Repo:dpdk
  Branch: master
  CommitID:dae002ff55a416206e710b05a06f050d5bc4dc6d

148296-148301 --> testing pass

Upstream job id: Generic-Unit-Test-DPDK#290270

Test environment and result as below:

+-------------------+----------------+
|    Environment    | dpdk_unit_test |
+===================+================+
| Debian 12         | PASS           |
+-------------------+----------------+
| CentOS Stream 9   | PASS           |
+-------------------+----------------+
| Fedora 39         | PASS           |
+-------------------+----------------+
| RHEL8             | PASS           |
+-------------------+----------------+
| RHEL9             | PASS           |
+-------------------+----------------+
| Ubuntu 20.04      | PASS           |
+-------------------+----------------+
| Ubuntu 24.04      | PASS           |
+-------------------+----------------+
| Fedora 39 (Clang) | PASS           |
+-------------------+----------------+
| Ubuntu 22.04      | PASS           |
+-------------------+----------------+
| Fedora 40 (Clang) | PASS           |
+-------------------+----------------+
| Fedora 40         | PASS           |
+-------------------+----------------+


Debian 12
	Kernel: Depends on container host
	Compiler: gcc (Debian 12.2.0-14) 12.2.0

CentOS Stream 9
	Kernel: Depends on container host
	Compiler: gcc 11.4.1 20231218 (Red Hat 11.4.1-3)

Fedora 39
	Kernel: Depends on container host
	Compiler: gcc 13.3.1 20240522 (Red Hat 13.3.1-1)

RHEL8
	Kernel: Depends on container host
	Compiler: gcc 8.5.0 20210514 (Red Hat 8.5.0-22)

RHEL9
	Kernel: Depends on container host
	Compiler: gcc 11.4.1 20231218 (Red Hat 11.4.1-3)

Ubuntu 20.04
	Kernel: Depends on container host
	Compiler: gcc (Ubuntu 9.4.0-1ubuntu1~20.04.2) 9.4.0

Ubuntu 24.04
	Kernel: Depends on container host
	Compiler: gcc (Ubuntu 13.2.0-23ubuntu4) 13.2.0

Fedora 39 (Clang)
	Kernel: Depends on container host
	Compiler: clang 17.0.6 (Fedora 17.0.6-2.fc39)

Ubuntu 22.04
	Kernel: Depends on container host
	Compiler: gcc (Ubuntu 11.4.0-1ubuntu1~22.04) 11.4.0

Fedora 40 (Clang)
	Kernel: Depends on container host
	Compiler: clang 18.1.6 (Fedora 18.1.6-3.fc40)

Fedora 40
	Kernel: Depends on container host
	Compiler: gcc 14.2.1 20240801 (Red Hat 14.2.1-1)

To view detailed results, visit:
https://lab.dpdk.org/results/dashboard/patchsets/31881/

UNH-IOL DPDK Community Lab

To manage your email subscriptions, visit: 
https://lab.dpdk.org/results/dashboard/preferences/subscriptions/