From mboxrd@z Thu Jan  1 00:00:00 1970
Return-Path: <test-report-bounces@dpdk.org>
Received: from mails.dpdk.org (mails.dpdk.org [217.70.189.124])
	by inbox.dpdk.org (Postfix) with ESMTP id 8587A45CCB
	for <public@inbox.dpdk.org>; Mon, 11 Nov 2024 18:03:12 +0100 (CET)
Received: from mails.dpdk.org (localhost [127.0.0.1])
	by mails.dpdk.org (Postfix) with ESMTP id 7B95A400D6;
	Mon, 11 Nov 2024 18:03:12 +0100 (CET)
Received: from mail-pl1-f228.google.com (mail-pl1-f228.google.com
 [209.85.214.228])
 by mails.dpdk.org (Postfix) with ESMTP id 4467040041
 for <test-report@dpdk.org>; Mon, 11 Nov 2024 18:03:10 +0100 (CET)
Received: by mail-pl1-f228.google.com with SMTP id
 d9443c01a7336-20c767a9c50so45406705ad.1
 for <test-report@dpdk.org>; Mon, 11 Nov 2024 09:03:10 -0800 (PST)
DKIM-Signature: v=1; a=rsa-sha256; c=relaxed/relaxed;
 d=iol.unh.edu; s=unh-iol; t=1731344589; x=1731949389; darn=dpdk.org;
 h=references:in-reply-to:cc:to:from:subject:message-id:date:from:to
 :cc:subject:date:message-id:reply-to;
 bh=8eLAQeVnQePwf8fwqgypEpkbjAjCDfgWRT4N3WU6kZ4=;
 b=LoX6NszIYMhL7hLuOzW1w3ehUmvh5QSNx66Ybt3QkGBpUeBJOldqMGvy7WIm+Eajg+
 feT7aSwqPGtDmoT+UpdaNeC23cGBzvdEVgNs59Ansqja3Vd1cUrpIyCzGAPQOyIHQAed
 ePeRBUU+tCVjBqA1GXgcYrs+olH7aVWRPVAGU=
X-Google-DKIM-Signature: v=1; a=rsa-sha256; c=relaxed/relaxed;
 d=1e100.net; s=20230601; t=1731344589; x=1731949389;
 h=references:in-reply-to:cc:to:from:subject:message-id:date
 :x-gm-message-state:from:to:cc:subject:date:message-id:reply-to;
 bh=8eLAQeVnQePwf8fwqgypEpkbjAjCDfgWRT4N3WU6kZ4=;
 b=u8hB952tsR5g52MGD9mmirbGvbIJfl0bNz8M8RrheOQImZuBjiX4/53W1kBz/YbssQ
 EQ6/N9/mOr0HQ9iQjO2J+XjayIvXU3MPqInY+xJ8+NFycikjBlwMYYFNAuL4q31leyGz
 3he2HNaH9V2bjM0FHydNnspLUtHQ1oLBmt3eLOWYznYbFNTQbm1Kdu9bDfdg7I9BniyE
 aVk/YXFfxzQIOzqoVzP4WqDGjjfvgJ4IKzpampA9xm7Sjr7ryGTskndKVXNLGiSf6azc
 XDVGKvFUurGamHWcNFhYUKZMSLt9sGRIEN6SZUoowSB0x8buLHQC9zAlKSvZ1oqKHA8X
 A7DQ==
X-Gm-Message-State: AOJu0YwTSvEUxlhXm7/Xf7cxZ+7WF6gJUtzZ+fnxEBql57q6uNoYtZYc
 j+Huwv41R7xwNXDSlnlQGyXCa05/0pXBaohUM/AhaL7UGifiWtYzVn7Tz9Kgluag2qbtlefOrvN
 zwLgNZZA9nqi6MPSIEWCQQy0DOqzgGGvC3sPyCuCY7DgVojpWDDBuUpHm
X-Google-Smtp-Source: AGHT+IGK89ZcZBacfhvrYtfZ1Taz7Ch3/ttFjX4VT+OOo/mng4UA6qsvqcRPiIu9tvJ5XWstv29LVr+l97QH
X-Received: by 2002:a17:902:cecf:b0:20c:93c2:9175 with SMTP id
 d9443c01a7336-21183d191bbmr154899445ad.30.1731344589325; 
 Mon, 11 Nov 2024 09:03:09 -0800 (PST)
Received: from postal.iol.unh.edu (postal.iol.unh.edu.
 [2606:4100:3880:1234::84]) by smtp-relay.gmail.com with ESMTPS id
 d9443c01a7336-21177e086b9sm6431725ad.43.2024.11.11.09.03.09
 (version=TLS1_2 cipher=ECDHE-ECDSA-AES128-GCM-SHA256 bits=128/128);
 Mon, 11 Nov 2024 09:03:09 -0800 (PST)
X-Relaying-Domain: iol.unh.edu
Date: Mon, 11 Nov 2024 09:03:09 -0800 (PST)
Message-ID: <673238cd.170a0220.7f100.a51bSMTPIN_ADDED_MISSING@mx.google.com>
Received: from [172.21.0.5] (unknown [172.18.0.240])
 by postal.iol.unh.edu (Postfix) with ESMTP id 3644B6052471;
 Mon, 11 Nov 2024 12:03:08 -0500 (EST)
Subject: |WARNING| pw148295 [PATCH] bus/fslmc: fix bus scan return failure va
From: dpdklab@iol.unh.edu
To: Test Report <test-report@dpdk.org>
Cc: dpdk-test-reports@iol.unh.edu
In-Reply-To: <20241111102607.1571897-1-hemant.agrawal@nxp.com>
References: <20241111102607.1571897-1-hemant.agrawal@nxp.com>
Content-Type: text/plain
X-BeenThere: test-report@dpdk.org
X-Mailman-Version: 2.1.29
Precedence: list
List-Id: automatic DPDK test reports <test-report.dpdk.org>
List-Unsubscribe: <https://mails.dpdk.org/options/test-report>,
 <mailto:test-report-request@dpdk.org?subject=unsubscribe>
List-Archive: <http://mails.dpdk.org/archives/test-report/>
List-Post: <mailto:test-report@dpdk.org>
List-Help: <mailto:test-report-request@dpdk.org?subject=help>
List-Subscribe: <https://mails.dpdk.org/listinfo/test-report>,
 <mailto:test-report-request@dpdk.org?subject=subscribe>
Errors-To: test-report-bounces@dpdk.org

Test-Label: iol-compile-amd64-testing
Test-Status: WARNING
http://dpdk.org/patch/148295

_Testing issues_

Submitter: Hemant Agrawal <hemant.agrawal@nxp.com>
Date: Monday, November 11 2024 10:26:07 
DPDK git baseline: Repo:dpdk
  Branch: master
  CommitID:58ae3be1445b9f60d7595dc8729dbb4b839a4bcf

148295 --> testing issues

Upstream job id: Windows-Compile-DPDK-VS#3995

Test environment and result as below:

+---------------------+--------------------+------------------+-------------------+-------------------+
|     Environment     | dpdk_meson_compile | dpdk_compile_ovs | dpdk_compile_spdk | dpdk_msvc_compile |
+=====================+====================+==================+===================+===================+
| CentOS Stream 9     | PASS               | PASS             | WARN              | SKIPPED           |
+---------------------+--------------------+------------------+-------------------+-------------------+
| Debian 12           | PASS               | PASS             | WARN              | SKIPPED           |
+---------------------+--------------------+------------------+-------------------+-------------------+
| Fedora 39 (Clang)   | PASS               | PASS             | WARN              | SKIPPED           |
+---------------------+--------------------+------------------+-------------------+-------------------+
| Fedora 39           | PASS               | PASS             | WARN              | SKIPPED           |
+---------------------+--------------------+------------------+-------------------+-------------------+
| RHEL9               | PASS               | PASS             | SKIPPED           | SKIPPED           |
+---------------------+--------------------+------------------+-------------------+-------------------+
| Fedora 40 (Clang)   | PASS               | PASS             | WARN              | SKIPPED           |
+---------------------+--------------------+------------------+-------------------+-------------------+
| Fedora 40           | PASS               | PASS             | WARN              | SKIPPED           |
+---------------------+--------------------+------------------+-------------------+-------------------+
| openSUSE Leap 15    | PASS               | PASS             | SKIPPED           | SKIPPED           |
+---------------------+--------------------+------------------+-------------------+-------------------+
| RHEL8               | PASS               | PASS             | SKIPPED           | SKIPPED           |
+---------------------+--------------------+------------------+-------------------+-------------------+
| Ubuntu 20.04        | PASS               | PASS             | SKIPPED           | SKIPPED           |
+---------------------+--------------------+------------------+-------------------+-------------------+
| Ubuntu 22.04        | PASS               | PASS             | WARN              | SKIPPED           |
+---------------------+--------------------+------------------+-------------------+-------------------+
| Ubuntu 24.04        | PASS               | PASS             | WARN              | SKIPPED           |
+---------------------+--------------------+------------------+-------------------+-------------------+
| Alpine              | PASS               | PASS             | SKIPPED           | SKIPPED           |
+---------------------+--------------------+------------------+-------------------+-------------------+
| FreeBSD 13.4        | PASS               | SKIPPED          | SKIPPED           | SKIPPED           |
+---------------------+--------------------+------------------+-------------------+-------------------+
| FreeBSD 14.1        | PASS               | SKIPPED          | SKIPPED           | SKIPPED           |
+---------------------+--------------------+------------------+-------------------+-------------------+
| Windows Server 2022 | SKIPPED            | SKIPPED          | SKIPPED           | PASS              |
+---------------------+--------------------+------------------+-------------------+-------------------+

==== 20 line log output for Ubuntu 24.04 (dpdk_compile_spdk): ====
 --- Failed to get log output --- 
==== End log output ====

CentOS Stream 9
	Kernel: Depends on container host
	Compiler: gcc 11.4.1 20231218 (Red Hat 11.4.1-3)

Debian 12
	Kernel: Depends on container host
	Compiler: gcc (Debian 12.2.0-14) 12.2.0

Fedora 39 (Clang)
	Kernel: Depends on container host
	Compiler: clang 17.0.6 (Fedora 17.0.6-2.fc39)

Fedora 39
	Kernel: Depends on container host
	Compiler: gcc 13.3.1 20240522 (Red Hat 13.3.1-1)

RHEL9
	Kernel: Depends on container host
	Compiler: gcc 11.4.1 20231218 (Red Hat 11.4.1-3)

Fedora 40 (Clang)
	Kernel: Depends on container host
	Compiler: clang 18.1.6 (Fedora 18.1.6-3.fc40)

Fedora 40
	Kernel: Depends on container host
	Compiler: gcc 14.2.1 20240801 (Red Hat 14.2.1-1)

openSUSE Leap 15
	Kernel: Depends on container host
	Compiler: gcc (SUSE Linux) 7.5.0

RHEL8
	Kernel: Depends on container host
	Compiler: gcc 8.5.0 20210514 (Red Hat 8.5.0-22)

Ubuntu 20.04
	Kernel: Depends on container host
	Compiler: gcc (Ubuntu 9.4.0-1ubuntu1~20.04.2) 9.4.0

Ubuntu 22.04
	Kernel: Depends on container host
	Compiler: gcc (Ubuntu 11.4.0-1ubuntu1~22.04) 11.4.0

Ubuntu 24.04
	Kernel: Depends on container host
	Compiler: gcc (Ubuntu 13.2.0-23ubuntu4) 13.2.0

Alpine
	Kernel: Depends on container host
	Compiler: gcc (Alpine 13.2.1_git20240309) 13.2.1 20240309

FreeBSD 13.4
	Kernel: 13.4-RELEASE-p1
	Compiler: clang 18.1.6

FreeBSD 14.1
	Kernel: 14.1-RELEASE-p3
	Compiler: clang 18.1.5

Windows Server 2022
	Kernel: 10.0.20348.2031
	Compiler: clang 15.0.7, gcc 14.1.0 (MinGW), and MSVC VS 19.39.33521

To view detailed results, visit:
https://lab.dpdk.org/results/dashboard/patchsets/31880/

UNH-IOL DPDK Community Lab

To manage your email subscriptions, visit: 
https://lab.dpdk.org/results/dashboard/preferences/subscriptions/