From mboxrd@z Thu Jan  1 00:00:00 1970
Return-Path: <test-report-bounces@dpdk.org>
Received: from mails.dpdk.org (mails.dpdk.org [217.70.189.124])
	by inbox.dpdk.org (Postfix) with ESMTP id A1F4145CCB
	for <public@inbox.dpdk.org>; Mon, 11 Nov 2024 19:15:45 +0100 (CET)
Received: from mails.dpdk.org (localhost [127.0.0.1])
	by mails.dpdk.org (Postfix) with ESMTP id 9B64B400D6;
	Mon, 11 Nov 2024 19:15:45 +0100 (CET)
Received: from mail-io1-f99.google.com (mail-io1-f99.google.com
 [209.85.166.99]) by mails.dpdk.org (Postfix) with ESMTP id EEC1D40041
 for <test-report@dpdk.org>; Mon, 11 Nov 2024 19:15:44 +0100 (CET)
Received: by mail-io1-f99.google.com with SMTP id
 ca18e2360f4ac-83abe7fc77eso204644939f.0
 for <test-report@dpdk.org>; Mon, 11 Nov 2024 10:15:44 -0800 (PST)
DKIM-Signature: v=1; a=rsa-sha256; c=relaxed/relaxed;
 d=iol.unh.edu; s=unh-iol; t=1731348944; x=1731953744; darn=dpdk.org;
 h=references:in-reply-to:cc:to:from:subject:message-id:date:from:to
 :cc:subject:date:message-id:reply-to;
 bh=zuNGjMGOZh9iLqky7EoWEgxDaDiyrETlYFk/MYhJXqs=;
 b=AuwCyXM1EukMvouYcGSJfft9K5PIClsMxJ32sbGneRU444uATBfOZcNo8tyh/kf/TT
 h1gYOgYbqRnFJ32b73+kUyM6Uo98/9jrrIWS7D2iyJ7pBYM0NTimsQaKKKiA2AW6ltWa
 MCJaFxGJ0NxRTEmmuhDPPAII7qICriFX4FMfs=
X-Google-DKIM-Signature: v=1; a=rsa-sha256; c=relaxed/relaxed;
 d=1e100.net; s=20230601; t=1731348944; x=1731953744;
 h=references:in-reply-to:cc:to:from:subject:message-id:date
 :x-gm-message-state:from:to:cc:subject:date:message-id:reply-to;
 bh=zuNGjMGOZh9iLqky7EoWEgxDaDiyrETlYFk/MYhJXqs=;
 b=ZO2x5VAlqXla1EhkHos/NfglUKd2ujxbbgjhi5gKpm2ynk3lrcXxjcOojQgkKh3lA/
 GMNO918EYChZCJ25E3jlhXw4oAWJE+5ZeMaUJjfsURVodjHyK+v5Uu7IpDvNy1xa/Drw
 zyUEzn/zocxGKOw/jAfJEFB+AHPgAKcXHNZMnNRKxDsHkMl+99GjG8unyzUEPhlrrGe3
 CUUN3nWwrXhrAtGcHVGNC5oaav+8WE2Y504JyCSUMbxmBdbTxxbY4RN5PTWOUSUoZTeE
 xgQQXubxso7AHC/tDPIfdIAkxkSSOxodO1BFGvdlRNrAvnXSkrEpjtYVVKmuDYmZH0TQ
 cHYA==
X-Gm-Message-State: AOJu0YwijYFi0y3Rb0jAuPh6txzZvCQQVIrkHNpK/bHUYjOGUJEBdMu0
 fu3h7Mrc6SetvYrlJ5aE8qsrtX23B0S0LAnDHkejtDwvE5ebMTPQIdBSHe8lxsNjjrknsz0qW3b
 OZgnJITirPzekRHmT7gMc4kNhKfi6+QbJZ4Dl+sbk
X-Google-Smtp-Source: AGHT+IEOspfjzV84yrO+ER0ckrT2IkXlYJWUytp3mECvabJUA8vu6sHldZ3xsnuIf3oIeuQ9s/TERkNRkbsG
X-Received: by 2002:a05:6602:1614:b0:83a:7a19:1de0 with SMTP id
 ca18e2360f4ac-83e033611d7mr1607310639f.14.1731348944218; 
 Mon, 11 Nov 2024 10:15:44 -0800 (PST)
Received: from postal.iol.unh.edu (postal.iol.unh.edu. [132.177.123.84])
 by smtp-relay.gmail.com with ESMTPS id
 8926c6da1cb9f-4de788424e9sm473476173.64.2024.11.11.10.15.44
 (version=TLS1_2 cipher=ECDHE-ECDSA-AES128-GCM-SHA256 bits=128/128);
 Mon, 11 Nov 2024 10:15:44 -0800 (PST)
X-Relaying-Domain: iol.unh.edu
Date: Mon, 11 Nov 2024 10:15:44 -0800 (PST)
Message-ID: <673249d0.050a0220.1cde.ea24SMTPIN_ADDED_MISSING@mx.google.com>
Received: from [172.21.0.6] (unknown [172.18.0.240])
 by postal.iol.unh.edu (Postfix) with ESMTP id A54BC6052471;
 Mon, 11 Nov 2024 13:15:43 -0500 (EST)
Subject: |WARNING| pw148296-148301 [PATCH] [v9,7/7] test: add stress test sui
From: dpdklab@iol.unh.edu
To: Test Report <test-report@dpdk.org>
Cc: dpdk-test-reports@iol.unh.edu
In-Reply-To: <20241111122535.6214-8-konstantin.ananyev@huawei.com>
References: <20241111122535.6214-8-konstantin.ananyev@huawei.com>
Content-Type: text/plain
X-BeenThere: test-report@dpdk.org
X-Mailman-Version: 2.1.29
Precedence: list
List-Id: automatic DPDK test reports <test-report.dpdk.org>
List-Unsubscribe: <https://mails.dpdk.org/options/test-report>,
 <mailto:test-report-request@dpdk.org?subject=unsubscribe>
List-Archive: <http://mails.dpdk.org/archives/test-report/>
List-Post: <mailto:test-report@dpdk.org>
List-Help: <mailto:test-report-request@dpdk.org?subject=help>
List-Subscribe: <https://mails.dpdk.org/listinfo/test-report>,
 <mailto:test-report-request@dpdk.org?subject=subscribe>
Errors-To: test-report-bounces@dpdk.org

Test-Label: iol-compile-amd64-testing
Test-Status: WARNING
http://dpdk.org/patch/148301

_Testing issues_

Submitter: Konstantin Ananyev <konstantin.ananyev@huawei.com>
Date: Monday, November 11 2024 12:25:35 
DPDK git baseline: Repo:dpdk
  Branch: master
  CommitID:dae002ff55a416206e710b05a06f050d5bc4dc6d

148296-148301 --> testing issues

Upstream job id: Windows-Compile-DPDK-VS#3996

Test environment and result as below:

+---------------------+--------------------+------------------+-------------------+-------------------+
|     Environment     | dpdk_meson_compile | dpdk_compile_ovs | dpdk_compile_spdk | dpdk_msvc_compile |
+=====================+====================+==================+===================+===================+
| CentOS Stream 9     | PASS               | PASS             | WARN              | SKIPPED           |
+---------------------+--------------------+------------------+-------------------+-------------------+
| Debian 12           | PASS               | PASS             | WARN              | SKIPPED           |
+---------------------+--------------------+------------------+-------------------+-------------------+
| Fedora 39 (Clang)   | PASS               | PASS             | WARN              | SKIPPED           |
+---------------------+--------------------+------------------+-------------------+-------------------+
| Fedora 39           | PASS               | PASS             | WARN              | SKIPPED           |
+---------------------+--------------------+------------------+-------------------+-------------------+
| Fedora 40           | PASS               | PASS             | WARN              | SKIPPED           |
+---------------------+--------------------+------------------+-------------------+-------------------+
| RHEL8               | PASS               | PASS             | SKIPPED           | SKIPPED           |
+---------------------+--------------------+------------------+-------------------+-------------------+
| openSUSE Leap 15    | PASS               | PASS             | SKIPPED           | SKIPPED           |
+---------------------+--------------------+------------------+-------------------+-------------------+
| Fedora 40 (Clang)   | PASS               | PASS             | WARN              | SKIPPED           |
+---------------------+--------------------+------------------+-------------------+-------------------+
| RHEL9               | PASS               | PASS             | SKIPPED           | SKIPPED           |
+---------------------+--------------------+------------------+-------------------+-------------------+
| Ubuntu 20.04        | PASS               | PASS             | SKIPPED           | SKIPPED           |
+---------------------+--------------------+------------------+-------------------+-------------------+
| Ubuntu 22.04        | PASS               | PASS             | WARN              | SKIPPED           |
+---------------------+--------------------+------------------+-------------------+-------------------+
| Ubuntu 24.04        | PASS               | PASS             | WARN              | SKIPPED           |
+---------------------+--------------------+------------------+-------------------+-------------------+
| Alpine              | PASS               | PASS             | SKIPPED           | SKIPPED           |
+---------------------+--------------------+------------------+-------------------+-------------------+
| FreeBSD 13.4        | PASS               | SKIPPED          | SKIPPED           | SKIPPED           |
+---------------------+--------------------+------------------+-------------------+-------------------+
| FreeBSD 14.1        | PASS               | SKIPPED          | SKIPPED           | SKIPPED           |
+---------------------+--------------------+------------------+-------------------+-------------------+
| Windows Server 2022 | SKIPPED            | SKIPPED          | SKIPPED           | PASS              |
+---------------------+--------------------+------------------+-------------------+-------------------+

==== 20 line log output for Ubuntu 24.04 (dpdk_compile_spdk): ====
 --- Failed to get log output --- 
==== End log output ====

CentOS Stream 9
	Kernel: Depends on container host
	Compiler: gcc 11.4.1 20231218 (Red Hat 11.4.1-3)

Debian 12
	Kernel: Depends on container host
	Compiler: gcc (Debian 12.2.0-14) 12.2.0

Fedora 39 (Clang)
	Kernel: Depends on container host
	Compiler: clang 17.0.6 (Fedora 17.0.6-2.fc39)

Fedora 39
	Kernel: Depends on container host
	Compiler: gcc 13.3.1 20240522 (Red Hat 13.3.1-1)

Fedora 40
	Kernel: Depends on container host
	Compiler: gcc 14.2.1 20240801 (Red Hat 14.2.1-1)

RHEL8
	Kernel: Depends on container host
	Compiler: gcc 8.5.0 20210514 (Red Hat 8.5.0-22)

openSUSE Leap 15
	Kernel: Depends on container host
	Compiler: gcc (SUSE Linux) 7.5.0

Fedora 40 (Clang)
	Kernel: Depends on container host
	Compiler: clang 18.1.6 (Fedora 18.1.6-3.fc40)

RHEL9
	Kernel: Depends on container host
	Compiler: gcc 11.4.1 20231218 (Red Hat 11.4.1-3)

Ubuntu 20.04
	Kernel: Depends on container host
	Compiler: gcc (Ubuntu 9.4.0-1ubuntu1~20.04.2) 9.4.0

Ubuntu 22.04
	Kernel: Depends on container host
	Compiler: gcc (Ubuntu 11.4.0-1ubuntu1~22.04) 11.4.0

Ubuntu 24.04
	Kernel: Depends on container host
	Compiler: gcc (Ubuntu 13.2.0-23ubuntu4) 13.2.0

Alpine
	Kernel: Depends on container host
	Compiler: gcc (Alpine 13.2.1_git20240309) 13.2.1 20240309

FreeBSD 13.4
	Kernel: 13.4-RELEASE-p1
	Compiler: clang 18.1.6

FreeBSD 14.1
	Kernel: 14.1-RELEASE-p3
	Compiler: clang 18.1.5

Windows Server 2022
	Kernel: 10.0.20348.2031
	Compiler: clang 15.0.7, gcc 14.1.0 (MinGW), and MSVC VS 19.39.33521

To view detailed results, visit:
https://lab.dpdk.org/results/dashboard/patchsets/31881/

UNH-IOL DPDK Community Lab

To manage your email subscriptions, visit: 
https://lab.dpdk.org/results/dashboard/preferences/subscriptions/