From mboxrd@z Thu Jan  1 00:00:00 1970
Return-Path: <test-report-bounces@dpdk.org>
Received: from mails.dpdk.org (mails.dpdk.org [217.70.189.124])
	by inbox.dpdk.org (Postfix) with ESMTP id 9021645C7A
	for <public@inbox.dpdk.org>; Tue, 12 Nov 2024 19:42:32 +0100 (CET)
Received: from mails.dpdk.org (localhost [127.0.0.1])
	by mails.dpdk.org (Postfix) with ESMTP id 6F2374025F;
	Tue, 12 Nov 2024 19:42:32 +0100 (CET)
Received: from mail-pl1-f227.google.com (mail-pl1-f227.google.com
 [209.85.214.227])
 by mails.dpdk.org (Postfix) with ESMTP id F24FD40144
 for <test-report@dpdk.org>; Tue, 12 Nov 2024 19:42:30 +0100 (CET)
Received: by mail-pl1-f227.google.com with SMTP id
 d9443c01a7336-20cdda5cfb6so59857575ad.3
 for <test-report@dpdk.org>; Tue, 12 Nov 2024 10:42:30 -0800 (PST)
DKIM-Signature: v=1; a=rsa-sha256; c=relaxed/relaxed;
 d=iol.unh.edu; s=unh-iol; t=1731436950; x=1732041750; darn=dpdk.org;
 h=references:in-reply-to:cc:to:from:subject:message-id:date:from:to
 :cc:subject:date:message-id:reply-to;
 bh=q+mdpvVcpChg/BIIP5qdDD4CuZW8AO9zTVXi50oSLM8=;
 b=VW9Ph2KHu7I7nVVlIempCabc2wjjYGtMhOzABsbgY6/9GqD6ej1h0Ds3rkc62ykzPc
 iRyT+miaJM6xhoPJ0iidt0lgaaxI6CGeHKwkioP7tFUSPyhOv5Nw8ecNka6s7EQZ9np9
 r4YrUKUIEtsj/rYDF6x3WidFBmTFL2cIefSI4=
X-Google-DKIM-Signature: v=1; a=rsa-sha256; c=relaxed/relaxed;
 d=1e100.net; s=20230601; t=1731436950; x=1732041750;
 h=references:in-reply-to:cc:to:from:subject:message-id:date
 :x-gm-message-state:from:to:cc:subject:date:message-id:reply-to;
 bh=q+mdpvVcpChg/BIIP5qdDD4CuZW8AO9zTVXi50oSLM8=;
 b=wyRmeuvnTVOajhj3v2XIO3uKSWLxtvgsxGK82DcWyxjFBH4/PAoCTtyVCJviJwA+SM
 IVnvAq9AjAW2LfWpc17sKEDoJ07m/nxrIK8xVjGIct3V61jVXBWQ0mIHX+OTsTzLZs2n
 +BqaCSyuuZ7jcnkfAg04qLgGgGvk5dJu3Yvm5Fi/V2Y8Lp9q2KVmZBowX/8i091A1h4B
 /yUtnA13DBGixnODNPHEBkP943la2N3d7PaIQqH7t0yfMPViwjXJwwOXspaCwDwz+bCd
 z0UEvRAnsTK9exUXMP3Vs2A9hLuSk61Iv3RQ0Z9aG8bPhqIW8hzF+wTb4UW76C8NjzJp
 BQiQ==
X-Gm-Message-State: AOJu0Yxygvl8yaxN9uJImDB1f95uKJpEB5QnZuKcT0uKKBqYFmPg4Zre
 7hbMlbPOIKOg+7VGZImgXb26xBF5kyNLboO7PE8W6oX75UvnugIe03CCeCVwnMlrymKxrPh1l4N
 n5HDSoTw06nFbmO5IXv0SIIn0WLRqSNpjaimtAlci
X-Google-Smtp-Source: AGHT+IEk15XX3QjF8EVmVgasVKUZKKCknnkMlAJiMIk9uwFNoPCPJW1RqirBiQM3562PNYuADZK7U/LIyK71
X-Received: by 2002:a17:902:ea09:b0:20c:5404:ed69 with SMTP id
 d9443c01a7336-2118354f39dmr256839395ad.31.1731436949916; 
 Tue, 12 Nov 2024 10:42:29 -0800 (PST)
Received: from postal.iol.unh.edu (postal.iol.unh.edu. [132.177.123.84])
 by smtp-relay.gmail.com with ESMTPS id
 d9443c01a7336-21177df34fesm8147025ad.14.2024.11.12.10.42.29
 (version=TLS1_2 cipher=ECDHE-ECDSA-AES128-GCM-SHA256 bits=128/128);
 Tue, 12 Nov 2024 10:42:29 -0800 (PST)
X-Relaying-Domain: iol.unh.edu
Date: Tue, 12 Nov 2024 10:42:29 -0800 (PST)
Message-ID: <6733a195.170a0220.7554e.efceSMTPIN_ADDED_MISSING@mx.google.com>
Received: from [172.17.0.3] (unknown [172.18.0.217])
 by postal.iol.unh.edu (Postfix) with ESMTP id 61ECD6052471;
 Tue, 12 Nov 2024 13:42:29 -0500 (EST)
Subject: |SUCCESS| pw148356-148357 [PATCH] [2/2] ci: install libvirt
From: dpdklab@iol.unh.edu
To: Test Report <test-report@dpdk.org>
Cc: dpdk-test-reports@iol.unh.edu
In-Reply-To: <20241112103454.1543861-2-david.marchand@redhat.com>
References: <20241112103454.1543861-2-david.marchand@redhat.com>
Content-Type: text/plain
X-BeenThere: test-report@dpdk.org
X-Mailman-Version: 2.1.29
Precedence: list
List-Id: automatic DPDK test reports <test-report.dpdk.org>
List-Unsubscribe: <https://mails.dpdk.org/options/test-report>,
 <mailto:test-report-request@dpdk.org?subject=unsubscribe>
List-Archive: <http://mails.dpdk.org/archives/test-report/>
List-Post: <mailto:test-report@dpdk.org>
List-Help: <mailto:test-report-request@dpdk.org?subject=help>
List-Subscribe: <https://mails.dpdk.org/listinfo/test-report>,
 <mailto:test-report-request@dpdk.org?subject=subscribe>
Errors-To: test-report-bounces@dpdk.org

Test-Label: iol-sample-apps-testing
Test-Status: SUCCESS
http://dpdk.org/patch/148357

_Testing PASS_

Submitter: David Marchand <david.marchand@redhat.com>
Date: Tuesday, November 12 2024 10:34:54 
DPDK git baseline: Repo:dpdk
  Branch: master
  CommitID:49a841e1983acfaefdfe19957166d985ad921867

148356-148357 --> testing pass

Upstream job id: ACVP-FIPS-testing#7890

Test environment and result as below:

+--------------------+----------------------+----------------------+
|    Environment     | compressdev_zlib_pmd | dpdk_fips_validation |
+====================+======================+======================+
| Ubuntu 22.04 (ARM) | PASS                 | SKIPPED              |
+--------------------+----------------------+----------------------+
| Ubuntu 22.04       | PASS                 | SKIPPED              |
+--------------------+----------------------+----------------------+
| Ubuntu 20.04       | SKIPPED              | PASS                 |
+--------------------+----------------------+----------------------+


Ubuntu 22.04 (ARM)
	Kernel: 5.15.0-97-generic
	Compiler: gcc gcc (Ubuntu 11.4.0-1ubuntu1~22.04) 11.4.0

Ubuntu 22.04
	Kernel: 5.15.0-100-generic
	Compiler: gcc gcc (Ubuntu 11.4.0-1ubuntu1~22.04) 11.4.0

Ubuntu 20.04
	Kernel: Depends on container host
	Compiler: gcc (Ubuntu 9.4.0-1ubuntu1~20.04.2) 9.4.0

To view detailed results, visit:
https://lab.dpdk.org/results/dashboard/patchsets/31892/

UNH-IOL DPDK Community Lab

To manage your email subscriptions, visit: 
https://lab.dpdk.org/results/dashboard/preferences/subscriptions/