From mboxrd@z Thu Jan  1 00:00:00 1970
Return-Path: <test-report-bounces@dpdk.org>
Received: from mails.dpdk.org (mails.dpdk.org [217.70.189.124])
	by inbox.dpdk.org (Postfix) with ESMTP id 0F7FE45CD9
	for <public@inbox.dpdk.org>; Wed, 13 Nov 2024 15:50:28 +0100 (CET)
Received: from mails.dpdk.org (localhost [127.0.0.1])
	by mails.dpdk.org (Postfix) with ESMTP id 0855040290;
	Wed, 13 Nov 2024 15:50:28 +0100 (CET)
Received: from mail-pg1-f226.google.com (mail-pg1-f226.google.com
 [209.85.215.226])
 by mails.dpdk.org (Postfix) with ESMTP id D57DA4025E
 for <test-report@dpdk.org>; Wed, 13 Nov 2024 15:50:26 +0100 (CET)
Received: by mail-pg1-f226.google.com with SMTP id
 41be03b00d2f7-7f45ab88e7fso2319424a12.1
 for <test-report@dpdk.org>; Wed, 13 Nov 2024 06:50:26 -0800 (PST)
DKIM-Signature: v=1; a=rsa-sha256; c=relaxed/relaxed;
 d=iol.unh.edu; s=unh-iol; t=1731509426; x=1732114226; darn=dpdk.org;
 h=references:in-reply-to:cc:to:from:subject:message-id:date:from:to
 :cc:subject:date:message-id:reply-to;
 bh=ND7Hd2M0Ipzsgwe6EvR++O+h4Z1J9JX3K5kSySvQtnM=;
 b=aqvjqxSEObI8A/npz4ekedaH50/TTMw6LuG3MTeo/QeNdVht6EgCXCTgJYZ2oQpxCE
 mWCKVEpfU9CT1vd7Y2OmHRVEXY35zP9PrWUPVyfpzSmm83ndSSMJ3HPU2f+D//9Nsr3s
 g9VYghYTwFjt2HFR3L55HeedamnQENA3E9U+M=
X-Google-DKIM-Signature: v=1; a=rsa-sha256; c=relaxed/relaxed;
 d=1e100.net; s=20230601; t=1731509426; x=1732114226;
 h=references:in-reply-to:cc:to:from:subject:message-id:date
 :x-gm-message-state:from:to:cc:subject:date:message-id:reply-to;
 bh=ND7Hd2M0Ipzsgwe6EvR++O+h4Z1J9JX3K5kSySvQtnM=;
 b=pquH0rFO8RTp7lWHT+q+vcbjGIc2wl6/rNG/C1FBZu4Vq1EkmTaNftEFiKXabJebev
 aX28rpQDUNEOT0PHeKvxwymbmzWQVf3tEDRAPbqoQuUa3XKfq+h+MkBuWpZutLa6pKMy
 H8UjgC84zi9NQDktndXLV2JMt5UDOWmyDEQ3zw90UmbfTLXoncIkX7YkR9HxNGlEEw9L
 wG19R5deIO4uuXA+HkLtJ7h/yGDoYSo5/hdZIxUUbU5DELA8CyCnPUT0KkFJrH7UwvMt
 xWQqgeGMAZLqUdo1rTrmK8nsL5PuCVrQ15tJLBmst88bhennfG944bfBrfMgA8jlxrSr
 ucEQ==
X-Gm-Message-State: AOJu0YyC9h3VvsEQ2gapIQbmj9dgAapbH+YLU8pkC2MeOxsHkfRpfxEq
 PBfckxE5UALwf3/45c3S1z0VIcTSC94jhbVPUdr2B3N23nKxx5uBwEK60UbfLeflAG3LW/fqpw0
 ECRq+FLUe4HJo2J+plj2trzLAMq83jmjCSdKVphnB
X-Google-Smtp-Source: AGHT+IGqOAfIsAwv1DEcNqluDy+3ca9fH9kzf1VfTWKK1qsu5kaQwJbcstQ5i01GLVVK1qk4OWLrSVhB8yui
X-Received: by 2002:a05:6a20:7490:b0:1d5:10d6:92b9 with SMTP id
 adf61e73a8af0-1dc22b00e6cmr26172586637.30.1731509425769; 
 Wed, 13 Nov 2024 06:50:25 -0800 (PST)
Received: from postal.iol.unh.edu (postal.iol.unh.edu. [132.177.123.84])
 by smtp-relay.gmail.com with ESMTPS id
 41be03b00d2f7-7f41f62358bsm921622a12.22.2024.11.13.06.50.25
 (version=TLS1_2 cipher=ECDHE-ECDSA-AES128-GCM-SHA256 bits=128/128);
 Wed, 13 Nov 2024 06:50:25 -0800 (PST)
X-Relaying-Domain: iol.unh.edu
Date: Wed, 13 Nov 2024 06:50:25 -0800 (PST)
Message-ID: <6734bcb1.050a0220.13a977.5530SMTPIN_ADDED_MISSING@mx.google.com>
Received: from [172.21.0.7] (unknown [172.18.0.240])
 by postal.iol.unh.edu (Postfix) with ESMTP id 338566052471;
 Wed, 13 Nov 2024 09:50:25 -0500 (EST)
Subject: |SUCCESS| pw148387 [PATCH] doc/guides: add security document
From: dpdklab@iol.unh.edu
To: Test Report <test-report@dpdk.org>
Cc: dpdk-test-reports@iol.unh.edu
In-Reply-To: <20241113043813.67751-1-nandinipersad361@gmail.com>
References: <20241113043813.67751-1-nandinipersad361@gmail.com>
Content-Type: text/plain
X-BeenThere: test-report@dpdk.org
X-Mailman-Version: 2.1.29
Precedence: list
List-Id: automatic DPDK test reports <test-report.dpdk.org>
List-Unsubscribe: <https://mails.dpdk.org/options/test-report>,
 <mailto:test-report-request@dpdk.org?subject=unsubscribe>
List-Archive: <http://mails.dpdk.org/archives/test-report/>
List-Post: <mailto:test-report@dpdk.org>
List-Help: <mailto:test-report-request@dpdk.org?subject=help>
List-Subscribe: <https://mails.dpdk.org/listinfo/test-report>,
 <mailto:test-report-request@dpdk.org?subject=subscribe>
Errors-To: test-report-bounces@dpdk.org

Test-Label: iol-unit-amd64-testing
Test-Status: SUCCESS
http://dpdk.org/patch/148387

_Testing PASS_

Submitter: Nandini Persad <nandinipersad361@gmail.com>
Date: Wednesday, November 13 2024 04:38:13 
DPDK git baseline: Repo:dpdk
  Branch: master
  CommitID:c5df7a373ad07413d9652479272cd16adf989b06

148387 --> testing pass

Upstream job id: Generic-VM-Unit-Test-DPDK#26168

Test environment and result as below:

+---------------------+----------------+
|     Environment     | dpdk_unit_test |
+=====================+================+
| Debian 12           | PASS           |
+---------------------+----------------+
| CentOS Stream 9     | PASS           |
+---------------------+----------------+
| Fedora 39           | PASS           |
+---------------------+----------------+
| Fedora 40           | PASS           |
+---------------------+----------------+
| Fedora 39 (Clang)   | PASS           |
+---------------------+----------------+
| RHEL8               | PASS           |
+---------------------+----------------+
| Fedora 40 (Clang)   | PASS           |
+---------------------+----------------+
| Ubuntu 20.04        | PASS           |
+---------------------+----------------+
| RHEL9               | PASS           |
+---------------------+----------------+
| Ubuntu 22.04        | PASS           |
+---------------------+----------------+
| Ubuntu 24.04        | PASS           |
+---------------------+----------------+
| Windows Server 2022 | PASS           |
+---------------------+----------------+


Debian 12
	Kernel: Depends on container host
	Compiler: gcc (Debian 12.2.0-14) 12.2.0

CentOS Stream 9
	Kernel: Depends on container host
	Compiler: gcc 11.4.1 20231218 (Red Hat 11.4.1-3)

Fedora 39
	Kernel: Depends on container host
	Compiler: gcc 13.3.1 20240522 (Red Hat 13.3.1-1)

Fedora 40
	Kernel: Depends on container host
	Compiler: gcc 14.2.1 20240801 (Red Hat 14.2.1-1)

Fedora 39 (Clang)
	Kernel: Depends on container host
	Compiler: clang 17.0.6 (Fedora 17.0.6-2.fc39)

RHEL8
	Kernel: Depends on container host
	Compiler: gcc 8.5.0 20210514 (Red Hat 8.5.0-22)

Fedora 40 (Clang)
	Kernel: Depends on container host
	Compiler: clang 18.1.6 (Fedora 18.1.6-3.fc40)

Ubuntu 20.04
	Kernel: Depends on container host
	Compiler: gcc (Ubuntu 9.4.0-1ubuntu1~20.04.2) 9.4.0

RHEL9
	Kernel: Depends on container host
	Compiler: gcc 11.4.1 20231218 (Red Hat 11.4.1-3)

Ubuntu 22.04
	Kernel: Depends on container host
	Compiler: gcc (Ubuntu 11.4.0-1ubuntu1~22.04) 11.4.0

Ubuntu 24.04
	Kernel: Depends on container host
	Compiler: gcc (Ubuntu 13.2.0-23ubuntu4) 13.2.0

Windows Server 2022
	Kernel: 10.0.20348.2031
	Compiler: clang 15.0.7, gcc 14.1.0 (MinGW), and MSVC VS 19.39.33521

To view detailed results, visit:
https://lab.dpdk.org/results/dashboard/patchsets/31904/

UNH-IOL DPDK Community Lab

To manage your email subscriptions, visit: 
https://lab.dpdk.org/results/dashboard/preferences/subscriptions/