From mboxrd@z Thu Jan  1 00:00:00 1970
Return-Path: <test-report-bounces@dpdk.org>
Received: from mails.dpdk.org (mails.dpdk.org [217.70.189.124])
	by inbox.dpdk.org (Postfix) with ESMTP id C036045CFB
	for <public@inbox.dpdk.org>; Wed, 13 Nov 2024 23:22:07 +0100 (CET)
Received: from mails.dpdk.org (localhost [127.0.0.1])
	by mails.dpdk.org (Postfix) with ESMTP id BB5FA406B8;
	Wed, 13 Nov 2024 23:22:07 +0100 (CET)
Received: from mail-il1-f225.google.com (mail-il1-f225.google.com
 [209.85.166.225])
 by mails.dpdk.org (Postfix) with ESMTP id 14DE840674
 for <test-report@dpdk.org>; Wed, 13 Nov 2024 23:22:06 +0100 (CET)
Received: by mail-il1-f225.google.com with SMTP id
 e9e14a558f8ab-3a3b463e9b0so30066835ab.3
 for <test-report@dpdk.org>; Wed, 13 Nov 2024 14:22:06 -0800 (PST)
DKIM-Signature: v=1; a=rsa-sha256; c=relaxed/relaxed;
 d=iol.unh.edu; s=unh-iol; t=1731536525; x=1732141325; darn=dpdk.org;
 h=references:in-reply-to:cc:to:from:subject:message-id:date:from:to
 :cc:subject:date:message-id:reply-to;
 bh=9DxQ1+s54IKosgXy6yIEQXgXLAES/myyw5XgfLJyC7Q=;
 b=W3/EGbB7PTV08KUzUh771oStNyHGkM5zLmHR1W93N4eWuqWZaIUiDTzt1vZ5d8IxAM
 7RfnF7E0XcCqXVj0KBknA65Koq/laMXMZI+wPc2KRofPXLVR2janG1dycHTwfFNA2jAV
 drzmXbUFvNSRxZZCffMcF2AeGoOS2pO2CHMM4=
X-Google-DKIM-Signature: v=1; a=rsa-sha256; c=relaxed/relaxed;
 d=1e100.net; s=20230601; t=1731536525; x=1732141325;
 h=references:in-reply-to:cc:to:from:subject:message-id:date
 :x-gm-message-state:from:to:cc:subject:date:message-id:reply-to;
 bh=9DxQ1+s54IKosgXy6yIEQXgXLAES/myyw5XgfLJyC7Q=;
 b=KfGHtZ3xEIACvzxuZ5lcVwSwiy7pS9Ju/kGbcnLXiYI8ePLDfnBrn0ggSuIxrPIHBF
 dREiEQBm1WxwlfO3gD71dIDbxjgGEH6989Wu85M3Eeidc3SLA0PTGx+zF+fpgthIwWzG
 yMw3pSdq/toRE2hkgkgUYSLeyPkZWsWoz6glZooec1w8oeMsAXRTKDEwBI5Hj8/ukyDE
 dPulgfFke9KihDjMibmN8AyGYzyohsVGzvkvxPhMakIJfGuZ0CDpr6jLC87dklw5Z6sI
 7TMbKmUvtjFbTSNpo2RLwQcEH54y8qnXAPZAdLgmde75phyCvsvqQ1gwrDXs8ykyT6vr
 kTaw==
X-Gm-Message-State: AOJu0YyLTENMqqTFI6nOoAb82EX1DIsMuqWpsbevkjN6mvKVeArLgYos
 WMdW3lZEQox490hjAq3qUEOM2dld3k3eb3Cy4KFwwrmW8GBtdLV4a++ijDXWPY7q73AYVfsm73W
 EE2zn6TRDJYQZA37W+colxgptyePgJpInSB5Vsfty0JqgP2nQeac5Asf5
X-Google-Smtp-Source: AGHT+IFxwYBbDGc91DfXjy95+JLUzwdt6mMfsAqwulKtpf6K5g4WtXnyngv7O8FS3Ej2XEYfBGZPLi0GMAUg
X-Received: by 2002:a92:ab0a:0:b0:3a6:f82f:37c2 with SMTP id
 e9e14a558f8ab-3a6f82f3835mr152731275ab.5.1731536525378; 
 Wed, 13 Nov 2024 14:22:05 -0800 (PST)
Received: from postal.iol.unh.edu (postal.iol.unh.edu.
 [2606:4100:3880:1234::84]) by smtp-relay.gmail.com with ESMTPS id
 e9e14a558f8ab-3a6f982cc87sm14594495ab.42.2024.11.13.14.22.05
 (version=TLS1_2 cipher=ECDHE-ECDSA-AES128-GCM-SHA256 bits=128/128);
 Wed, 13 Nov 2024 14:22:05 -0800 (PST)
X-Relaying-Domain: iol.unh.edu
Date: Wed, 13 Nov 2024 14:22:05 -0800 (PST)
Message-ID: <6735268d.050a0220.ccccb.f336SMTPIN_ADDED_MISSING@mx.google.com>
Received: from [172.17.0.2] (unknown [172.18.0.217])
 by postal.iol.unh.edu (Postfix) with ESMTP id 082BA6052471;
 Wed, 13 Nov 2024 17:22:05 -0500 (EST)
Subject: |SUCCESS| pw148411 [PATCH] crypto/openssl: remove unneccessary null 
From: dpdklab@iol.unh.edu
To: Test Report <test-report@dpdk.org>
Cc: dpdk-test-reports@iol.unh.edu
In-Reply-To: <20241113155622.12011-1-stephen@networkplumber.org>
References: <20241113155622.12011-1-stephen@networkplumber.org>
Content-Type: text/plain
X-BeenThere: test-report@dpdk.org
X-Mailman-Version: 2.1.29
Precedence: list
List-Id: automatic DPDK test reports <test-report.dpdk.org>
List-Unsubscribe: <https://mails.dpdk.org/options/test-report>,
 <mailto:test-report-request@dpdk.org?subject=unsubscribe>
List-Archive: <http://mails.dpdk.org/archives/test-report/>
List-Post: <mailto:test-report@dpdk.org>
List-Help: <mailto:test-report-request@dpdk.org?subject=help>
List-Subscribe: <https://mails.dpdk.org/listinfo/test-report>,
 <mailto:test-report-request@dpdk.org?subject=subscribe>
Errors-To: test-report-bounces@dpdk.org

Test-Label: iol-unit-arm64-testing
Test-Status: SUCCESS
http://dpdk.org/patch/148411

_Testing PASS_

Submitter: Stephen Hemminger <stephen@networkplumber.org>
Date: Wednesday, November 13 2024 15:56:21 
DPDK git baseline: Repo:dpdk
  Branch: master
  CommitID:c5df7a373ad07413d9652479272cd16adf989b06

148411 --> testing pass

Upstream job id: Generic-Unit-Test-DPDK#291104

Test environment and result as below:

+-----------------------+----------------+--------------+---------------------------+------------------------------+
|      Environment      | dpdk_unit_test | lpm_autotest | cryptodev_sw_zuc_autotest | cryptodev_sw_snow3g_autotest |
+=======================+================+==============+===========================+==============================+
| Debian 12 (arm)       | PASS           | SKIPPED      | PASS                      | PASS                         |
+-----------------------+----------------+--------------+---------------------------+------------------------------+
| Fedora 39 (ARM)       | PASS           | SKIPPED      | SKIPPED                   | SKIPPED                      |
+-----------------------+----------------+--------------+---------------------------+------------------------------+
| CentOS Stream 9 (ARM) | PASS           | SKIPPED      | SKIPPED                   | SKIPPED                      |
+-----------------------+----------------+--------------+---------------------------+------------------------------+
| Fedora 40 (ARM)       | PASS           | SKIPPED      | SKIPPED                   | SKIPPED                      |
+-----------------------+----------------+--------------+---------------------------+------------------------------+
| Fedora 39 (ARM Clang) | PASS           | SKIPPED      | SKIPPED                   | SKIPPED                      |
+-----------------------+----------------+--------------+---------------------------+------------------------------+
| Fedora 40 (ARM Clang) | PASS           | SKIPPED      | SKIPPED                   | SKIPPED                      |
+-----------------------+----------------+--------------+---------------------------+------------------------------+
| RHEL9 (ARM)           | PASS           | SKIPPED      | SKIPPED                   | SKIPPED                      |
+-----------------------+----------------+--------------+---------------------------+------------------------------+
| Ubuntu 22.04 (ARM)    | PASS           | SKIPPED      | SKIPPED                   | SKIPPED                      |
+-----------------------+----------------+--------------+---------------------------+------------------------------+
| Ubuntu 20.04 (ARM)    | PASS           | SKIPPED      | SKIPPED                   | SKIPPED                      |
+-----------------------+----------------+--------------+---------------------------+------------------------------+
| Ubuntu 24.04 (ARM)    | PASS           | SKIPPED      | SKIPPED                   | SKIPPED                      |
+-----------------------+----------------+--------------+---------------------------+------------------------------+
| Ubuntu 20.04 ARM SVE  | SKIPPED        | PASS         | SKIPPED                   | SKIPPED                      |
+-----------------------+----------------+--------------+---------------------------+------------------------------+


Debian 12 (arm)
	Kernel: Depends on container host
	Compiler: gcc (Debian 12.2.0-14) 12.2.0

Fedora 39 (ARM)
	Kernel: Depends on container host
	Compiler: gcc 13.3.1 20240522 (Red Hat 13.3.1-1)

CentOS Stream 9 (ARM)
	Kernel: Depends on container host
	Compiler: gcc 11.4.1 20231218 (Red Hat 11.4.1-3)

Fedora 40 (ARM)
	Kernel: Depends on container host
	Compiler: gcc 14.2.1 20240801 (Red Hat 14.2.1-1)

Fedora 39 (ARM Clang)
	Kernel: Depends on container host
	Compiler: clang 17.0.6 (Fedora 17.0.6-2.fc39)

Fedora 40 (ARM Clang)
	Kernel: Depends on container host
	Compiler: clang 18.1.6 (Fedora 18.1.6-3.fc40)

RHEL9 (ARM)
	Kernel: Depends on container host
	Compiler: gcc 11.4.1 20231218 (Red Hat 11.4.1-3)

Ubuntu 22.04 (ARM)
	Kernel: Depends on container host
	Compiler: gcc (Ubuntu 11.4.0-1ubuntu1~22.04) 11.4.0

Ubuntu 20.04 (ARM)
	Kernel: Depends on container host
	Compiler: gcc (Ubuntu 9.4.0-1ubuntu1~20.04.2) 9.4.0

Ubuntu 24.04 (ARM)
	Kernel: Depends on container host
	Compiler: gcc (Ubuntu 13.2.0-23ubuntu4) 13.2.0

Ubuntu 20.04 ARM SVE
	Kernel: Depends on container host
	Compiler: gcc (Ubuntu 10.5.0-1ubuntu1~20.04) 10.5.0

To view detailed results, visit:
https://lab.dpdk.org/results/dashboard/patchsets/31910/

UNH-IOL DPDK Community Lab

To manage your email subscriptions, visit: 
https://lab.dpdk.org/results/dashboard/preferences/subscriptions/