From mboxrd@z Thu Jan  1 00:00:00 1970
Return-Path: <test-report-bounces@dpdk.org>
Received: from mails.dpdk.org (mails.dpdk.org [217.70.189.124])
	by inbox.dpdk.org (Postfix) with ESMTP id C3E1545CFF
	for <public@inbox.dpdk.org>; Thu, 14 Nov 2024 06:02:18 +0100 (CET)
Received: from mails.dpdk.org (localhost [127.0.0.1])
	by mails.dpdk.org (Postfix) with ESMTP id BBFE44066C;
	Thu, 14 Nov 2024 06:02:18 +0100 (CET)
Received: from mail-pl1-f225.google.com (mail-pl1-f225.google.com
 [209.85.214.225])
 by mails.dpdk.org (Postfix) with ESMTP id D522E400D5
 for <test-report@dpdk.org>; Thu, 14 Nov 2024 06:02:16 +0100 (CET)
Received: by mail-pl1-f225.google.com with SMTP id
 d9443c01a7336-21116b187c4so1252105ad.3
 for <test-report@dpdk.org>; Wed, 13 Nov 2024 21:02:16 -0800 (PST)
DKIM-Signature: v=1; a=rsa-sha256; c=relaxed/relaxed;
 d=iol.unh.edu; s=unh-iol; t=1731560536; x=1732165336; darn=dpdk.org;
 h=references:in-reply-to:cc:to:from:subject:message-id:date:from:to
 :cc:subject:date:message-id:reply-to;
 bh=YyTU8qLMttn0F45y7+QMgYU4OP2sJVItTuua9AwOB4Y=;
 b=GLy2PeG32osyhoDTjUAqaQh4cfwEceddPqs3RH3CsAB2djfy+0k3upgsqZQERUcyze
 wYCnqyIh5PnKoAAZH8bJWrMqfEzbAAqGWaCV8yaKFU0Kv7DPuInhD/W0He5LDdVHLp1J
 GrgaAL1HO6I6PWi4Rpt0+lwavT90odOZnSMuM=
X-Google-DKIM-Signature: v=1; a=rsa-sha256; c=relaxed/relaxed;
 d=1e100.net; s=20230601; t=1731560536; x=1732165336;
 h=references:in-reply-to:cc:to:from:subject:message-id:date
 :x-gm-message-state:from:to:cc:subject:date:message-id:reply-to;
 bh=YyTU8qLMttn0F45y7+QMgYU4OP2sJVItTuua9AwOB4Y=;
 b=db45SKZY8SdGaWFDUxE27oGCQNt4QJha1jWL96PXLydzfORCkojUEP8oRoKPirM9sT
 d/Jha5K5swvVhiAC+pa8/3N8nRmFFUnTmfFE4rjeFSFlpk6TGn+wG53awsvG1mASH15b
 rZNMcGwFBG6Z0AdQ4T+JJUznkMLyZofdOTxlKDJpPZb+D2LqMTjguIXqlsc+Wqd8H7eP
 QztHCjXQzWNqsfUBH4ZGWuU26va5/1akOrgG/soKdt5SEgNCgBQ/dhgmjKGkk6/UQM/M
 KbmAPZoQJ5NyEHZZtPr4Q0hb2vaU43H8BNJEVD53pqDHyUCY4DgL4ocL9mZXCfVC0tg4
 ZuDQ==
X-Gm-Message-State: AOJu0YzvGjmy93h6rK4OSxhhWJSL50juKDR7cWktDH2fdLu6ovdXLJj0
 z3IMiRwmFxP8d2qmSwnEbLDKkfVnr+dk5B8f8O1EmmCdZZigiw+hMWYFGwNObr5lI0sZ9EUVbOL
 OMuzX29/yMUmnT2IYjXF4vo4trmdmA5bDllfB/sbF
X-Google-Smtp-Source: AGHT+IH71/VELBcNMz0EfESQWLkdYYyM/pslZHcHkdOtzokKmUr9T+wNxYVRFlHoJRS5+X3rg/ETCsQMIbtN
X-Received: by 2002:a17:902:ec8d:b0:20c:7d7d:7ba8 with SMTP id
 d9443c01a7336-211c50be186mr13071705ad.46.1731560535889; 
 Wed, 13 Nov 2024 21:02:15 -0800 (PST)
Received: from postal.iol.unh.edu (postal.iol.unh.edu. [132.177.123.84])
 by smtp-relay.gmail.com with ESMTPS id
 d9443c01a7336-211c7cec4f6sm390905ad.75.2024.11.13.21.02.15
 (version=TLS1_2 cipher=ECDHE-ECDSA-AES128-GCM-SHA256 bits=128/128);
 Wed, 13 Nov 2024 21:02:15 -0800 (PST)
X-Relaying-Domain: iol.unh.edu
Date: Wed, 13 Nov 2024 21:02:15 -0800 (PST)
Message-ID: <67358457.170a0220.14ee04.09cbSMTPIN_ADDED_MISSING@mx.google.com>
Received: from [172.21.0.5] (unknown [172.18.0.240])
 by postal.iol.unh.edu (Postfix) with ESMTP id 160F26052471;
 Thu, 14 Nov 2024 00:02:15 -0500 (EST)
Subject: |SUCCESS| pw148430-148439 [PATCH] [RFC,10/10] app/test: fix operator
From: dpdklab@iol.unh.edu
To: Test Report <test-report@dpdk.org>
Cc: dpdk-test-reports@iol.unh.edu
In-Reply-To: <20241114001403.147609-11-stephen@networkplumber.org>
References: <20241114001403.147609-11-stephen@networkplumber.org>
Content-Type: text/plain
X-BeenThere: test-report@dpdk.org
X-Mailman-Version: 2.1.29
Precedence: list
List-Id: automatic DPDK test reports <test-report.dpdk.org>
List-Unsubscribe: <https://mails.dpdk.org/options/test-report>,
 <mailto:test-report-request@dpdk.org?subject=unsubscribe>
List-Archive: <http://mails.dpdk.org/archives/test-report/>
List-Post: <mailto:test-report@dpdk.org>
List-Help: <mailto:test-report-request@dpdk.org?subject=help>
List-Subscribe: <https://mails.dpdk.org/listinfo/test-report>,
 <mailto:test-report-request@dpdk.org?subject=subscribe>
Errors-To: test-report-bounces@dpdk.org

Test-Label: iol-unit-amd64-testing
Test-Status: SUCCESS
http://dpdk.org/patch/148439

_Testing PASS_

Submitter: Stephen Hemminger <stephen@networkplumber.org>
Date: Thursday, November 14 2024 00:12:22 
DPDK git baseline: Repo:dpdk
  Branch: master
  CommitID:78383e9816a8efe2ba16ec2ce65d51b94e6114e7

148430-148439 --> testing pass

Upstream job id: Generic-Unit-Test-DPDK#291277

Test environment and result as below:

+-------------------+----------------+
|    Environment    | dpdk_unit_test |
+===================+================+
| Fedora 39         | PASS           |
+-------------------+----------------+
| Debian 12         | PASS           |
+-------------------+----------------+
| CentOS Stream 9   | PASS           |
+-------------------+----------------+
| Fedora 39 (Clang) | PASS           |
+-------------------+----------------+
| Fedora 40 (Clang) | PASS           |
+-------------------+----------------+
| RHEL8             | PASS           |
+-------------------+----------------+
| RHEL9             | PASS           |
+-------------------+----------------+
| Ubuntu 20.04      | PASS           |
+-------------------+----------------+
| Fedora 40         | PASS           |
+-------------------+----------------+
| Ubuntu 24.04      | PASS           |
+-------------------+----------------+
| Ubuntu 22.04      | PASS           |
+-------------------+----------------+


Fedora 39
	Kernel: Depends on container host
	Compiler: gcc 13.3.1 20240522 (Red Hat 13.3.1-1)

Debian 12
	Kernel: Depends on container host
	Compiler: gcc (Debian 12.2.0-14) 12.2.0

CentOS Stream 9
	Kernel: Depends on container host
	Compiler: gcc 11.4.1 20231218 (Red Hat 11.4.1-3)

Fedora 39 (Clang)
	Kernel: Depends on container host
	Compiler: clang 17.0.6 (Fedora 17.0.6-2.fc39)

Fedora 40 (Clang)
	Kernel: Depends on container host
	Compiler: clang 18.1.6 (Fedora 18.1.6-3.fc40)

RHEL8
	Kernel: Depends on container host
	Compiler: gcc 8.5.0 20210514 (Red Hat 8.5.0-22)

RHEL9
	Kernel: Depends on container host
	Compiler: gcc 11.4.1 20231218 (Red Hat 11.4.1-3)

Ubuntu 20.04
	Kernel: Depends on container host
	Compiler: gcc (Ubuntu 9.4.0-1ubuntu1~20.04.2) 9.4.0

Fedora 40
	Kernel: Depends on container host
	Compiler: gcc 14.2.1 20240801 (Red Hat 14.2.1-1)

Ubuntu 24.04
	Kernel: Depends on container host
	Compiler: gcc (Ubuntu 13.2.0-23ubuntu4) 13.2.0

Ubuntu 22.04
	Kernel: Depends on container host
	Compiler: gcc (Ubuntu 11.4.0-1ubuntu1~22.04) 11.4.0

To view detailed results, visit:
https://lab.dpdk.org/results/dashboard/patchsets/31920/

UNH-IOL DPDK Community Lab

To manage your email subscriptions, visit: 
https://lab.dpdk.org/results/dashboard/preferences/subscriptions/