From mboxrd@z Thu Jan  1 00:00:00 1970
Return-Path: <test-report-bounces@dpdk.org>
Received: from mails.dpdk.org (mails.dpdk.org [217.70.189.124])
	by inbox.dpdk.org (Postfix) with ESMTP id BF2CE45D01
	for <public@inbox.dpdk.org>; Thu, 14 Nov 2024 08:41:39 +0100 (CET)
Received: from mails.dpdk.org (localhost [127.0.0.1])
	by mails.dpdk.org (Postfix) with ESMTP id BB729402A1;
	Thu, 14 Nov 2024 08:41:39 +0100 (CET)
Received: from mail-qv1-f100.google.com (mail-qv1-f100.google.com
 [209.85.219.100])
 by mails.dpdk.org (Postfix) with ESMTP id 68097400D5
 for <test-report@dpdk.org>; Thu, 14 Nov 2024 08:41:38 +0100 (CET)
Received: by mail-qv1-f100.google.com with SMTP id
 6a1803df08f44-6cbcc2bd800so2389196d6.0
 for <test-report@dpdk.org>; Wed, 13 Nov 2024 23:41:38 -0800 (PST)
DKIM-Signature: v=1; a=rsa-sha256; c=relaxed/relaxed;
 d=iol.unh.edu; s=unh-iol; t=1731570098; x=1732174898; darn=dpdk.org;
 h=references:in-reply-to:cc:to:from:subject:message-id:date:from:to
 :cc:subject:date:message-id:reply-to;
 bh=qRXv5Cthc4De6/eqPw4o4hAqIaZ2ZUNRyTOPxvCPQ3g=;
 b=GxCBnU/npm4aqpt3+S+smLUOXhGvC5ci84AqpreorHk0gwfCKG7WShgc4gqTCZOu55
 vklbTs9TY4ze40vIVRNRET2ykE0Kqa7X5CS3FlV3vlncUPwEL46+Mr/fyCgK+OV+LuDP
 CIsjD2O3hYzsdWC9T7FEmVbOKvvMgGrIRC2oU=
X-Google-DKIM-Signature: v=1; a=rsa-sha256; c=relaxed/relaxed;
 d=1e100.net; s=20230601; t=1731570098; x=1732174898;
 h=references:in-reply-to:cc:to:from:subject:message-id:date
 :x-gm-message-state:from:to:cc:subject:date:message-id:reply-to;
 bh=qRXv5Cthc4De6/eqPw4o4hAqIaZ2ZUNRyTOPxvCPQ3g=;
 b=tEN6LnzO4Zc7WBc0B847fZ0kJeHiYMdLhfJedDWhi7vx/f/h+0R0WeXa0K3aun+M9j
 KK20zZ3wd9ilJtJVnFxTRBnXcrYWOCLHjhtXXX4kuNW7ehb7slVtrXeeVgQ2e12g5tUc
 dGSWfO3TNvLPfUIzQcTVXxWFC+3cKKxCDeGqJE/xydCsHHirlnEkGoZx19+dA5q+sHNc
 Gn6NpqLMkFGqyI+d0BmqWYu0RN56ZPUOZ/W+t+B6CKSAqaM0XIXqPoT9xI2K3mif9Zca
 3qErw67Egwny5vkM18Qt6ENxtz6JIcdh+Z8SzgvoorYIiUsn6H7sFFZaA4wXwVaJ8bA7
 BenA==
X-Gm-Message-State: AOJu0YxFUrJQELjKI4H32DYxxbV6XtdGMH7TBvgCQYoR78H7mNfLTRXP
 c4UMooc4tuaQAtgFyuAn5VhT61rJecAOe+SMomkIc7HY73IDhtDeKm7NwEREOXSvKdsDicVznto
 FFNNge4JSt5hHtW8GpibgBrI7QOnzShMXyPzu/5Vy
X-Google-Smtp-Source: AGHT+IFHrG8VCjWDMUdIWs+f/lDbNN5DRB9k+o5rWxzVS0DivAh+P6tail95Nv5nKl6UEJKUHGzNMBQacrg+
X-Received: by 2002:ad4:5f48:0:b0:6d1:9f1b:b669 with SMTP id
 6a1803df08f44-6d3e910f669mr43787376d6.15.1731570097841; 
 Wed, 13 Nov 2024 23:41:37 -0800 (PST)
Received: from postal.iol.unh.edu (postal.iol.unh.edu. [132.177.123.84])
 by smtp-relay.gmail.com with ESMTPS id
 6a1803df08f44-6d3eea0dae5sm1193586d6.62.2024.11.13.23.41.37
 (version=TLS1_2 cipher=ECDHE-ECDSA-AES128-GCM-SHA256 bits=128/128);
 Wed, 13 Nov 2024 23:41:37 -0800 (PST)
X-Relaying-Domain: iol.unh.edu
Date: Wed, 13 Nov 2024 23:41:37 -0800 (PST)
Message-ID: <6735a9b1.050a0220.153f3c.1f78SMTPIN_ADDED_MISSING@mx.google.com>
Received: from [172.21.0.6] (unknown [172.18.0.240])
 by postal.iol.unh.edu (Postfix) with ESMTP id 89AD16052471;
 Thu, 14 Nov 2024 02:41:37 -0500 (EST)
Subject: |WARNING| pw148440-148441 [PATCH] [2/2] common/dpaax: do not disable
From: dpdklab@iol.unh.edu
To: Test Report <test-report@dpdk.org>
Cc: dpdk-test-reports@iol.unh.edu
In-Reply-To: <20241114003648.331795-3-stephen@networkplumber.org>
References: <20241114003648.331795-3-stephen@networkplumber.org>
Content-Type: text/plain
X-BeenThere: test-report@dpdk.org
X-Mailman-Version: 2.1.29
Precedence: list
List-Id: automatic DPDK test reports <test-report.dpdk.org>
List-Unsubscribe: <https://mails.dpdk.org/options/test-report>,
 <mailto:test-report-request@dpdk.org?subject=unsubscribe>
List-Archive: <http://mails.dpdk.org/archives/test-report/>
List-Post: <mailto:test-report@dpdk.org>
List-Help: <mailto:test-report-request@dpdk.org?subject=help>
List-Subscribe: <https://mails.dpdk.org/listinfo/test-report>,
 <mailto:test-report-request@dpdk.org?subject=subscribe>
Errors-To: test-report-bounces@dpdk.org

Test-Label: iol-compile-amd64-testing
Test-Status: WARNING
http://dpdk.org/patch/148441

_Testing issues_

Submitter: Stephen Hemminger <stephen@networkplumber.org>
Date: Thursday, November 14 2024 00:36:14 
DPDK git baseline: Repo:dpdk
  Branch: master
  CommitID:c5df7a373ad07413d9652479272cd16adf989b06

148440-148441 --> testing issues

Upstream job id: Generic-DPDK-Compile-Meson#333458

Test environment and result as below:

+-------------------+--------------------+------------------+-------------------+
|    Environment    | dpdk_meson_compile | dpdk_compile_ovs | dpdk_compile_spdk |
+===================+====================+==================+===================+
| CentOS Stream 9   | PASS               | PASS             | WARN              |
+-------------------+--------------------+------------------+-------------------+
| Debian 12         | PASS               | PASS             | WARN              |
+-------------------+--------------------+------------------+-------------------+
| Fedora 39 (Clang) | PASS               | PASS             | WARN              |
+-------------------+--------------------+------------------+-------------------+
| Fedora 40 (Clang) | PASS               | PASS             | WARN              |
+-------------------+--------------------+------------------+-------------------+
| Fedora 40         | PASS               | PASS             | WARN              |
+-------------------+--------------------+------------------+-------------------+
| openSUSE Leap 15  | PASS               | PASS             | SKIPPED           |
+-------------------+--------------------+------------------+-------------------+
| RHEL8             | PASS               | PASS             | SKIPPED           |
+-------------------+--------------------+------------------+-------------------+
| FreeBSD 13.4      | PASS               | SKIPPED          | SKIPPED           |
+-------------------+--------------------+------------------+-------------------+
| RHEL9             | PASS               | PASS             | SKIPPED           |
+-------------------+--------------------+------------------+-------------------+
| Ubuntu 20.04      | PASS               | PASS             | SKIPPED           |
+-------------------+--------------------+------------------+-------------------+
| Ubuntu 22.04      | PASS               | PASS             | WARN              |
+-------------------+--------------------+------------------+-------------------+
| Ubuntu 24.04      | PASS               | PASS             | WARN              |
+-------------------+--------------------+------------------+-------------------+
| Alpine            | PASS               | PASS             | SKIPPED           |
+-------------------+--------------------+------------------+-------------------+

==== 20 line log output for Ubuntu 24.04 (dpdk_compile_spdk): ====
 --- Failed to get log output --- 
==== End log output ====

CentOS Stream 9
	Kernel: Depends on container host
	Compiler: gcc 11.4.1 20231218 (Red Hat 11.4.1-3)

Debian 12
	Kernel: Depends on container host
	Compiler: gcc (Debian 12.2.0-14) 12.2.0

Fedora 39 (Clang)
	Kernel: Depends on container host
	Compiler: clang 17.0.6 (Fedora 17.0.6-2.fc39)

Fedora 40 (Clang)
	Kernel: Depends on container host
	Compiler: clang 18.1.6 (Fedora 18.1.6-3.fc40)

Fedora 40
	Kernel: Depends on container host
	Compiler: gcc 14.2.1 20240801 (Red Hat 14.2.1-1)

openSUSE Leap 15
	Kernel: Depends on container host
	Compiler: gcc (SUSE Linux) 7.5.0

RHEL8
	Kernel: Depends on container host
	Compiler: gcc 8.5.0 20210514 (Red Hat 8.5.0-22)

FreeBSD 13.4
	Kernel: 13.4-RELEASE-p1
	Compiler: clang 18.1.6

RHEL9
	Kernel: Depends on container host
	Compiler: gcc 11.4.1 20231218 (Red Hat 11.4.1-3)

Ubuntu 20.04
	Kernel: Depends on container host
	Compiler: gcc (Ubuntu 9.4.0-1ubuntu1~20.04.2) 9.4.0

Ubuntu 22.04
	Kernel: Depends on container host
	Compiler: gcc (Ubuntu 11.4.0-1ubuntu1~22.04) 11.4.0

Ubuntu 24.04
	Kernel: Depends on container host
	Compiler: gcc (Ubuntu 13.2.0-23ubuntu4) 13.2.0

Alpine
	Kernel: Depends on container host
	Compiler: gcc (Alpine 13.2.1_git20240309) 13.2.1 20240309

To view detailed results, visit:
https://lab.dpdk.org/results/dashboard/patchsets/31921/

UNH-IOL DPDK Community Lab

To manage your email subscriptions, visit: 
https://lab.dpdk.org/results/dashboard/preferences/subscriptions/