From mboxrd@z Thu Jan  1 00:00:00 1970
Return-Path: <test-report-bounces@dpdk.org>
Received: from mails.dpdk.org (mails.dpdk.org [217.70.189.124])
	by inbox.dpdk.org (Postfix) with ESMTP id 7A63F45D01
	for <public@inbox.dpdk.org>; Thu, 14 Nov 2024 08:49:33 +0100 (CET)
Received: from mails.dpdk.org (localhost [127.0.0.1])
	by mails.dpdk.org (Postfix) with ESMTP id 77B8542D27;
	Thu, 14 Nov 2024 08:49:33 +0100 (CET)
Received: from mail-oa1-f97.google.com (mail-oa1-f97.google.com
 [209.85.160.97]) by mails.dpdk.org (Postfix) with ESMTP id 20086402A1
 for <test-report@dpdk.org>; Thu, 14 Nov 2024 08:49:32 +0100 (CET)
Received: by mail-oa1-f97.google.com with SMTP id
 586e51a60fabf-295eb32566dso180616fac.1
 for <test-report@dpdk.org>; Wed, 13 Nov 2024 23:49:32 -0800 (PST)
DKIM-Signature: v=1; a=rsa-sha256; c=relaxed/relaxed;
 d=iol.unh.edu; s=unh-iol; t=1731570571; x=1732175371; darn=dpdk.org;
 h=references:in-reply-to:cc:to:from:subject:message-id:date:from:to
 :cc:subject:date:message-id:reply-to;
 bh=csJZORU0X3b49TzXR7tmGbuiFHCm7R06FBMAEuPpfZY=;
 b=FF8L8xSByHS12f+PUz+gDnoHdun0vmLoVpRePmPFe8IUgVYYQt7D1ETSBW8egfGNdq
 ixq6jSvvDFYu4cZ5u+G+QUooo313yN80BKn4jgza9A+7dqYwIXT0ogK4SVP8lP2kNO3p
 xNm1rSgrUO7x7BjLNslBUYH51SKlydLZb/VXY=
X-Google-DKIM-Signature: v=1; a=rsa-sha256; c=relaxed/relaxed;
 d=1e100.net; s=20230601; t=1731570571; x=1732175371;
 h=references:in-reply-to:cc:to:from:subject:message-id:date
 :x-gm-message-state:from:to:cc:subject:date:message-id:reply-to;
 bh=csJZORU0X3b49TzXR7tmGbuiFHCm7R06FBMAEuPpfZY=;
 b=LqAqR7ywdbs790SvVnxXJ0OmnYvp9PC7UDfwhwLqKvu+Q74nwJ2633S8SinqrwYxAk
 COdhl8WGLO8ecJHCRnv6heZlD4SLqXnc++GdT7Swyf1ky4tnj27QBEeSbWHnsfAhDNSK
 SLr9GlQ2jIzmjexgBDrZKMEaGdy3ZhY9ZmsI7mrmck0r+nCNdtmB2v3STfJJZJnJ3zla
 8ED9dQcAeCsDKWtfuTjxLbcp2MsWGLXKpyPv3qVeTZnsEKv0hRPueK4xAdsQeW8dxjm6
 xvN1GBJBLPqDmgnFBosksfb5RhwwKhZJfl3ZeOo4tbgZ51ydM9G2A8H2l4zpyf/m3fx6
 pF9w==
X-Gm-Message-State: AOJu0Yyq9N+nBo1RoIeOP6F84KXAOYtgy2cPzS5c50f4nt+Jdoxjh1Sh
 lwOf6X3tk2TL+IMK64hxOAVST4MtwhrVEG5aB/jtCdHr+bsqTgKIoHY8PzMjY2PD1XRAuRaz9v7
 hn/pKCzfLZvf4c80AqmEUABRCOVRPtePIh5Tn/5l3
X-Google-Smtp-Source: AGHT+IEIYZUkcdYZgb2fvtpo1tyLEL6YZvJ1SbHK86v975k6pdhU3QTzHfKWw4bRnbnr6Apkej3VvO3SOs88
X-Received: by 2002:a05:6870:d8cd:b0:277:d9f6:26f6 with SMTP id
 586e51a60fabf-29560063fa6mr22473504fac.12.1731570571208; 
 Wed, 13 Nov 2024 23:49:31 -0800 (PST)
Received: from postal.iol.unh.edu (postal.iol.unh.edu. [132.177.123.84])
 by smtp-relay.gmail.com with ESMTPS id
 006d021491bc7-5eea0266c08sm88120eaf.23.2024.11.13.23.49.31
 (version=TLS1_2 cipher=ECDHE-ECDSA-AES128-GCM-SHA256 bits=128/128);
 Wed, 13 Nov 2024 23:49:31 -0800 (PST)
X-Relaying-Domain: iol.unh.edu
Date: Wed, 13 Nov 2024 23:49:31 -0800 (PST)
Message-ID: <6735ab8b.050a0220.751f4.15eeSMTPIN_ADDED_MISSING@mx.google.com>
Received: from [172.17.0.5] (unknown [172.18.0.217])
 by postal.iol.unh.edu (Postfix) with ESMTP id AD0776052471;
 Thu, 14 Nov 2024 02:49:30 -0500 (EST)
Subject: |WARNING| pw148445-148452 [PATCH] [v2,8/8] test: remove unneeded mem
From: dpdklab@iol.unh.edu
To: Test Report <test-report@dpdk.org>
Cc: dpdk-test-reports@iol.unh.edu
In-Reply-To: <20241114015405.77060-9-stephen@networkplumber.org>
References: <20241114015405.77060-9-stephen@networkplumber.org>
Content-Type: text/plain
X-BeenThere: test-report@dpdk.org
X-Mailman-Version: 2.1.29
Precedence: list
List-Id: automatic DPDK test reports <test-report.dpdk.org>
List-Unsubscribe: <https://mails.dpdk.org/options/test-report>,
 <mailto:test-report-request@dpdk.org?subject=unsubscribe>
List-Archive: <http://mails.dpdk.org/archives/test-report/>
List-Post: <mailto:test-report@dpdk.org>
List-Help: <mailto:test-report-request@dpdk.org?subject=help>
List-Subscribe: <https://mails.dpdk.org/listinfo/test-report>,
 <mailto:test-report-request@dpdk.org?subject=subscribe>
Errors-To: test-report-bounces@dpdk.org

Test-Label: iol-compile-amd64-testing
Test-Status: WARNING
http://dpdk.org/patch/148452

_Testing issues_

Submitter: Stephen Hemminger <stephen@networkplumber.org>
Date: Thursday, November 14 2024 01:52:22 
DPDK git baseline: Repo:dpdk
  Branch: master
  CommitID:78383e9816a8efe2ba16ec2ce65d51b94e6114e7

148445-148452 --> testing issues

Upstream job id: Generic-DPDK-Compile-Meson#333445

Test environment and result as below:

+-------------------+--------------------+------------------+-------------------+
|    Environment    | dpdk_meson_compile | dpdk_compile_ovs | dpdk_compile_spdk |
+===================+====================+==================+===================+
| CentOS Stream 9   | PASS               | PASS             | WARN              |
+-------------------+--------------------+------------------+-------------------+
| Debian 12         | PASS               | PASS             | WARN              |
+-------------------+--------------------+------------------+-------------------+
| Fedora 39 (Clang) | PASS               | PASS             | WARN              |
+-------------------+--------------------+------------------+-------------------+
| Fedora 39         | PASS               | PASS             | WARN              |
+-------------------+--------------------+------------------+-------------------+
| Fedora 40 (Clang) | PASS               | PASS             | WARN              |
+-------------------+--------------------+------------------+-------------------+
| Fedora 40         | PASS               | PASS             | WARN              |
+-------------------+--------------------+------------------+-------------------+
| openSUSE Leap 15  | PASS               | PASS             | SKIPPED           |
+-------------------+--------------------+------------------+-------------------+
| RHEL8             | PASS               | PASS             | SKIPPED           |
+-------------------+--------------------+------------------+-------------------+
| RHEL9             | PASS               | PASS             | SKIPPED           |
+-------------------+--------------------+------------------+-------------------+
| Ubuntu 20.04      | PASS               | PASS             | SKIPPED           |
+-------------------+--------------------+------------------+-------------------+
| Ubuntu 22.04      | PASS               | PASS             | WARN              |
+-------------------+--------------------+------------------+-------------------+
| Ubuntu 24.04      | PASS               | PASS             | WARN              |
+-------------------+--------------------+------------------+-------------------+
| Alpine            | PASS               | PASS             | SKIPPED           |
+-------------------+--------------------+------------------+-------------------+
| FreeBSD 13.4      | PASS               | SKIPPED          | SKIPPED           |
+-------------------+--------------------+------------------+-------------------+
| FreeBSD 14.1      | PASS               | SKIPPED          | SKIPPED           |
+-------------------+--------------------+------------------+-------------------+

==== 20 line log output for Ubuntu 24.04 (dpdk_compile_spdk): ====
 --- Failed to get log output --- 
==== End log output ====

CentOS Stream 9
	Kernel: Depends on container host
	Compiler: gcc 11.4.1 20231218 (Red Hat 11.4.1-3)

Debian 12
	Kernel: Depends on container host
	Compiler: gcc (Debian 12.2.0-14) 12.2.0

Fedora 39 (Clang)
	Kernel: Depends on container host
	Compiler: clang 17.0.6 (Fedora 17.0.6-2.fc39)

Fedora 39
	Kernel: Depends on container host
	Compiler: gcc 13.3.1 20240522 (Red Hat 13.3.1-1)

Fedora 40 (Clang)
	Kernel: Depends on container host
	Compiler: clang 18.1.6 (Fedora 18.1.6-3.fc40)

Fedora 40
	Kernel: Depends on container host
	Compiler: gcc 14.2.1 20240801 (Red Hat 14.2.1-1)

openSUSE Leap 15
	Kernel: Depends on container host
	Compiler: gcc (SUSE Linux) 7.5.0

RHEL8
	Kernel: Depends on container host
	Compiler: gcc 8.5.0 20210514 (Red Hat 8.5.0-22)

RHEL9
	Kernel: Depends on container host
	Compiler: gcc 11.4.1 20231218 (Red Hat 11.4.1-3)

Ubuntu 20.04
	Kernel: Depends on container host
	Compiler: gcc (Ubuntu 9.4.0-1ubuntu1~20.04.2) 9.4.0

Ubuntu 22.04
	Kernel: Depends on container host
	Compiler: gcc (Ubuntu 11.4.0-1ubuntu1~22.04) 11.4.0

Ubuntu 24.04
	Kernel: Depends on container host
	Compiler: gcc (Ubuntu 13.2.0-23ubuntu4) 13.2.0

Alpine
	Kernel: Depends on container host
	Compiler: gcc (Alpine 13.2.1_git20240309) 13.2.1 20240309

FreeBSD 13.4
	Kernel: 13.4-RELEASE-p1
	Compiler: clang 18.1.6

FreeBSD 14.1
	Kernel: 14.1-RELEASE-p3
	Compiler: clang 18.1.5

To view detailed results, visit:
https://lab.dpdk.org/results/dashboard/patchsets/31923/

UNH-IOL DPDK Community Lab

To manage your email subscriptions, visit: 
https://lab.dpdk.org/results/dashboard/preferences/subscriptions/