From mboxrd@z Thu Jan  1 00:00:00 1970
Return-Path: <test-report-bounces@dpdk.org>
Received: from mails.dpdk.org (mails.dpdk.org [217.70.189.124])
	by inbox.dpdk.org (Postfix) with ESMTP id 1962645D01
	for <public@inbox.dpdk.org>; Thu, 14 Nov 2024 09:13:01 +0100 (CET)
Received: from mails.dpdk.org (localhost [127.0.0.1])
	by mails.dpdk.org (Postfix) with ESMTP id 16E1942D76;
	Thu, 14 Nov 2024 09:13:01 +0100 (CET)
Received: from mail-yw1-f226.google.com (mail-yw1-f226.google.com
 [209.85.128.226])
 by mails.dpdk.org (Postfix) with ESMTP id 0406242D6A
 for <test-report@dpdk.org>; Thu, 14 Nov 2024 09:12:59 +0100 (CET)
Received: by mail-yw1-f226.google.com with SMTP id
 00721157ae682-6ea50585bf2so3525867b3.3
 for <test-report@dpdk.org>; Thu, 14 Nov 2024 00:12:58 -0800 (PST)
DKIM-Signature: v=1; a=rsa-sha256; c=relaxed/relaxed;
 d=iol.unh.edu; s=unh-iol; t=1731571978; x=1732176778; darn=dpdk.org;
 h=references:in-reply-to:cc:to:from:subject:message-id:date:from:to
 :cc:subject:date:message-id:reply-to;
 bh=AhV8yUpUIf/353tS99NU6ROcTJi4+9q6OmYdBYFllTs=;
 b=d4tBhgNLu/GXqbehXGQjHIL+nai24zhZNIxydeVHm82xWdQWLUGXReUQsaTi7LFSco
 nO2pj1nl9XQrHUvzWpxY9s2657eNJbnG8i/8GAxegdLTk/xbTzvrd9+Ub8axN45e/+uI
 AyqKzajtdbiEHqPbu6CQvINrJ6Gxnh/pMR0Sw=
X-Google-DKIM-Signature: v=1; a=rsa-sha256; c=relaxed/relaxed;
 d=1e100.net; s=20230601; t=1731571978; x=1732176778;
 h=references:in-reply-to:cc:to:from:subject:message-id:date
 :x-gm-message-state:from:to:cc:subject:date:message-id:reply-to;
 bh=AhV8yUpUIf/353tS99NU6ROcTJi4+9q6OmYdBYFllTs=;
 b=aY4ooclN4CIezSaN245qhIrC1upJ9gNqvVztKBU2MxyciO9kYjuMe9c5wooW2doQfi
 59nXkh3VWu18AqbgrtS1f0qEFCSnTdgvlsquR7OmjsCpU+tnsi18mkcRnWaYeWfcu/MB
 Y/lul1mGswVyW9DTk37A6c/xkTO1mqN16mtM+Ex0la2YQimtTOfT0JXJJBAbksZMA49/
 dh7m0RN71N1B9l+gHqKCe77AoG9Cz9Jg/34uQwq2FU6RscwhlbCweK5wlHn4ZyKyrI+B
 a1XhvxC6MgJ3EKS5v1g8F/yAbMtyqg4TYqSqPM0DedXlbOO4pbLXTmpU7aIysda8M8Vt
 arMQ==
X-Gm-Message-State: AOJu0YykbmXfEeB8dJiGEiawvkUtnr+ncxMcl2j9Gy7dcZ2dPraRETY+
 uhHWIVG/rixB99chLEkOFd85qhkTnz/dRGTw9BlSx8zk4p9eurBjzstYGl+CQcnBq1+0codgAw4
 wv4/wWPr/DA7QW52agNlEbUV6qm3fCK7nz+FjEZpm
X-Google-Smtp-Source: AGHT+IERT8m6J96zV9QdypUxe7eGaIjL10f7/N2QSrK1ZcUcc02d/GfgbKZ4xcnaqBcAA7bHavGOeI8Hn65g
X-Received: by 2002:a05:6902:2d8a:b0:e30:d9b2:d8d1 with SMTP id
 3f1490d57ef6-e38142e56aamr725945276.52.1731571978274; 
 Thu, 14 Nov 2024 00:12:58 -0800 (PST)
Received: from postal.iol.unh.edu (postal.iol.unh.edu. [132.177.123.84])
 by smtp-relay.gmail.com with ESMTPS id
 6a1803df08f44-6d3ee864a54sm1350496d6.21.2024.11.14.00.12.58
 (version=TLS1_2 cipher=ECDHE-ECDSA-AES128-GCM-SHA256 bits=128/128);
 Thu, 14 Nov 2024 00:12:58 -0800 (PST)
X-Relaying-Domain: iol.unh.edu
Date: Thu, 14 Nov 2024 00:12:58 -0800 (PST)
Message-ID: <6735b10a.d40a0220.1fb809.2432SMTPIN_ADDED_MISSING@mx.google.com>
Received: from [172.17.0.4] (unknown [172.18.0.217])
 by postal.iol.unh.edu (Postfix) with ESMTP id EC84A6052471;
 Thu, 14 Nov 2024 03:12:57 -0500 (EST)
Subject: |WARNING| pw148374-148383 [PATCH] [v22,13/13] compress/zsda: add zsd
From: dpdklab@iol.unh.edu
To: Test Report <test-report@dpdk.org>
Cc: dpdk-test-reports@iol.unh.edu
In-Reply-To: <20241113023323.3228516-12-li.hanxiao@zte.com.cn>
References: <20241113023323.3228516-12-li.hanxiao@zte.com.cn>
Content-Type: text/plain
X-BeenThere: test-report@dpdk.org
X-Mailman-Version: 2.1.29
Precedence: list
List-Id: automatic DPDK test reports <test-report.dpdk.org>
List-Unsubscribe: <https://mails.dpdk.org/options/test-report>,
 <mailto:test-report-request@dpdk.org?subject=unsubscribe>
List-Archive: <http://mails.dpdk.org/archives/test-report/>
List-Post: <mailto:test-report@dpdk.org>
List-Help: <mailto:test-report-request@dpdk.org?subject=help>
List-Subscribe: <https://mails.dpdk.org/listinfo/test-report>,
 <mailto:test-report-request@dpdk.org?subject=subscribe>
Errors-To: test-report-bounces@dpdk.org

Test-Label: iol-compile-amd64-testing
Test-Status: WARNING
http://dpdk.org/patch/148383

_Testing issues_

Submitter: Hanxiao Li <li.hanxiao@zte.com.cn>
Date: Wednesday, November 13 2024 02:33:18 
DPDK git baseline: Repo:dpdk
  Branch: master
  CommitID:c5df7a373ad07413d9652479272cd16adf989b06

148374-148383 --> testing issues

Upstream job id: Windows-Compile-DPDK-Native#24470

Test environment and result as below:

+---------------------+--------------------+------------------+-------------------+-------------------+-----------------------+
|     Environment     | dpdk_meson_compile | dpdk_compile_ovs | dpdk_compile_spdk | dpdk_msvc_compile | dpdk_win_llvm_compile |
+=====================+====================+==================+===================+===================+=======================+
| Debian 12           | PASS               | PASS             | WARN              | SKIPPED           | SKIPPED               |
+---------------------+--------------------+------------------+-------------------+-------------------+-----------------------+
| Fedora 39 (Clang)   | PASS               | PASS             | WARN              | SKIPPED           | SKIPPED               |
+---------------------+--------------------+------------------+-------------------+-------------------+-----------------------+
| Fedora 39           | PASS               | PASS             | WARN              | SKIPPED           | SKIPPED               |
+---------------------+--------------------+------------------+-------------------+-------------------+-----------------------+
| Fedora 40 (Clang)   | PASS               | PASS             | WARN              | SKIPPED           | SKIPPED               |
+---------------------+--------------------+------------------+-------------------+-------------------+-----------------------+
| openSUSE Leap 15    | PASS               | PASS             | SKIPPED           | SKIPPED           | SKIPPED               |
+---------------------+--------------------+------------------+-------------------+-------------------+-----------------------+
| RHEL8               | PASS               | PASS             | SKIPPED           | SKIPPED           | SKIPPED               |
+---------------------+--------------------+------------------+-------------------+-------------------+-----------------------+
| RHEL9               | PASS               | PASS             | SKIPPED           | SKIPPED           | SKIPPED               |
+---------------------+--------------------+------------------+-------------------+-------------------+-----------------------+
| Ubuntu 22.04        | PASS               | PASS             | WARN              | SKIPPED           | SKIPPED               |
+---------------------+--------------------+------------------+-------------------+-------------------+-----------------------+
| FreeBSD 14.1        | PASS               | SKIPPED          | SKIPPED           | SKIPPED           | SKIPPED               |
+---------------------+--------------------+------------------+-------------------+-------------------+-----------------------+
| Fedora 40           | PASS               | PASS             | WARN              | SKIPPED           | SKIPPED               |
+---------------------+--------------------+------------------+-------------------+-------------------+-----------------------+
| FreeBSD 13.4        | PASS               | SKIPPED          | SKIPPED           | SKIPPED           | SKIPPED               |
+---------------------+--------------------+------------------+-------------------+-------------------+-----------------------+
| Ubuntu 20.04        | PASS               | PASS             | SKIPPED           | SKIPPED           | SKIPPED               |
+---------------------+--------------------+------------------+-------------------+-------------------+-----------------------+
| Ubuntu 24.04        | PASS               | PASS             | WARN              | SKIPPED           | SKIPPED               |
+---------------------+--------------------+------------------+-------------------+-------------------+-----------------------+
| CentOS Stream 9     | PASS               | PASS             | WARN              | SKIPPED           | SKIPPED               |
+---------------------+--------------------+------------------+-------------------+-------------------+-----------------------+
| Windows Server 2022 | SKIPPED            | SKIPPED          | SKIPPED           | PASS              | PASS                  |
+---------------------+--------------------+------------------+-------------------+-------------------+-----------------------+

==== 20 line log output for CentOS Stream 9 (dpdk_compile_spdk): ====
 --- Failed to get log output --- 
==== End log output ====

Debian 12
	Kernel: Depends on container host
	Compiler: gcc (Debian 12.2.0-14) 12.2.0

Fedora 39 (Clang)
	Kernel: Depends on container host
	Compiler: clang 17.0.6 (Fedora 17.0.6-2.fc39)

Fedora 39
	Kernel: Depends on container host
	Compiler: gcc 13.3.1 20240522 (Red Hat 13.3.1-1)

Fedora 40 (Clang)
	Kernel: Depends on container host
	Compiler: clang 18.1.6 (Fedora 18.1.6-3.fc40)

openSUSE Leap 15
	Kernel: Depends on container host
	Compiler: gcc (SUSE Linux) 7.5.0

RHEL8
	Kernel: Depends on container host
	Compiler: gcc 8.5.0 20210514 (Red Hat 8.5.0-22)

RHEL9
	Kernel: Depends on container host
	Compiler: gcc 11.4.1 20231218 (Red Hat 11.4.1-3)

Ubuntu 22.04
	Kernel: Depends on container host
	Compiler: gcc (Ubuntu 11.4.0-1ubuntu1~22.04) 11.4.0

FreeBSD 14.1
	Kernel: 14.1-RELEASE-p3
	Compiler: clang 18.1.5

Fedora 40
	Kernel: Depends on container host
	Compiler: gcc 14.2.1 20240801 (Red Hat 14.2.1-1)

FreeBSD 13.4
	Kernel: 13.4-RELEASE-p1
	Compiler: clang 18.1.6

Ubuntu 20.04
	Kernel: Depends on container host
	Compiler: gcc (Ubuntu 9.4.0-1ubuntu1~20.04.2) 9.4.0

Ubuntu 24.04
	Kernel: Depends on container host
	Compiler: gcc (Ubuntu 13.2.0-23ubuntu4) 13.2.0

CentOS Stream 9
	Kernel: Depends on container host
	Compiler: gcc 11.4.1 20231218 (Red Hat 11.4.1-3)

Windows Server 2022
	Kernel: 10.0.20348.2031
	Compiler: clang 15.0.7, gcc 14.1.0 (MinGW), and MSVC VS 19.39.33521

To view detailed results, visit:
https://lab.dpdk.org/results/dashboard/patchsets/31903/

UNH-IOL DPDK Community Lab

To manage your email subscriptions, visit: 
https://lab.dpdk.org/results/dashboard/preferences/subscriptions/