From mboxrd@z Thu Jan  1 00:00:00 1970
Return-Path: <test-report-bounces@dpdk.org>
Received: from mails.dpdk.org (mails.dpdk.org [217.70.189.124])
	by inbox.dpdk.org (Postfix) with ESMTP id B10D745D03
	for <public@inbox.dpdk.org>; Thu, 14 Nov 2024 10:53:39 +0100 (CET)
Received: from mails.dpdk.org (localhost [127.0.0.1])
	by mails.dpdk.org (Postfix) with ESMTP id ABBA040E45;
	Thu, 14 Nov 2024 10:53:39 +0100 (CET)
Received: from mail-pl1-f226.google.com (mail-pl1-f226.google.com
 [209.85.214.226])
 by mails.dpdk.org (Postfix) with ESMTP id DC02D4026F
 for <test-report@dpdk.org>; Thu, 14 Nov 2024 10:53:38 +0100 (CET)
Received: by mail-pl1-f226.google.com with SMTP id
 d9443c01a7336-20c803787abso3118305ad.0
 for <test-report@dpdk.org>; Thu, 14 Nov 2024 01:53:38 -0800 (PST)
DKIM-Signature: v=1; a=rsa-sha256; c=relaxed/relaxed;
 d=iol.unh.edu; s=unh-iol; t=1731578018; x=1732182818; darn=dpdk.org;
 h=references:in-reply-to:cc:to:from:subject:message-id:date:from:to
 :cc:subject:date:message-id:reply-to;
 bh=5dVmJle2FiOBo5kXKnjNYrXcEcaHpHWYayP+sjbumlo=;
 b=dvfraF4UDH3IAdeea7YAHEqEaNMAEAlO0Jh5h8sNRrGeFMM3I3kndNsgY9/Z0g3yyX
 ULuOfDQWlf7ea3M46oQKo5spbIBALjfEJnAP+liMw80g7bQ83G1ja7PyutIBrKtgtqIP
 /7GBHK47wwuf3/5J3NZNdVDzIuRVrgSirQDtw=
X-Google-DKIM-Signature: v=1; a=rsa-sha256; c=relaxed/relaxed;
 d=1e100.net; s=20230601; t=1731578018; x=1732182818;
 h=references:in-reply-to:cc:to:from:subject:message-id:date
 :x-gm-message-state:from:to:cc:subject:date:message-id:reply-to;
 bh=5dVmJle2FiOBo5kXKnjNYrXcEcaHpHWYayP+sjbumlo=;
 b=TMcy+P1msiv/f8fyFe5kwmHfgC0Zn1u6rLMq9dn3Lmge4POp+hdgnuKsDmwMnTQnG7
 /a+GezIf0SLN0iaojnJ1GCVmMgrBVQpSBGp7oSNt0qTG2aJS8AwMgM3XHi0IYObH3zE3
 hCr6E/6vU0NJ8ndtqrdZipvaY1233jb6Hq3M3WDWJV1eWv04iyjGOqt3ltIAqKDx8KzE
 4CgSoJtRNvgoBl52Uspx63uSkvl+PBsZWt1/e+xZR6dzYrKS/D/FUFuKPkufOZSw71jV
 JeShrCF2fPDkhIQlL1/42/M185A3adTkgYsn/yaSuvlwE9OauKFYW9A5pQRaJmeBY1Dc
 pscw==
X-Gm-Message-State: AOJu0Yz1kuQ/rpT+c9BusezdqSHTylRM1RwC22K0vmU7+XHy2QhvbQE7
 MxiC/YyvioWw/K5SorsN65lQsF+uO+zlQyDedE8aYP0kVkd6B7MDGYAfbcvPmux9G6KfMq5B8Zj
 uSmLtZnmSiygy/aER+elGCpVpG0Xw/zRPk0CjsKu9XavUSTBQLIBH76nJ
X-Google-Smtp-Source: AGHT+IFZtx0LsbnfRpcdwn/4nxvX63NTCc17TanxUj2OvnVH2dq/BLQAlCqTkGR9kOTDY6HGXDd8SmFLCwiz
X-Received: by 2002:a17:902:d4c9:b0:20c:da7c:6e8c with SMTP id
 d9443c01a7336-211c0f09698mr38928315ad.3.1731578016362; 
 Thu, 14 Nov 2024 01:53:36 -0800 (PST)
Received: from postal.iol.unh.edu (postal.iol.unh.edu.
 [2606:4100:3880:1234::84]) by smtp-relay.gmail.com with ESMTPS id
 41be03b00d2f7-7f8b39dcc51sm68796a12.32.2024.11.14.01.53.36
 (version=TLS1_2 cipher=ECDHE-ECDSA-AES128-GCM-SHA256 bits=128/128);
 Thu, 14 Nov 2024 01:53:36 -0800 (PST)
X-Relaying-Domain: iol.unh.edu
Date: Thu, 14 Nov 2024 01:53:36 -0800 (PST)
Message-ID: <6735c8a0.630a0220.2c98f6.1685SMTPIN_ADDED_MISSING@mx.google.com>
Received: from [172.17.0.3] (unknown [172.18.0.217])
 by postal.iol.unh.edu (Postfix) with ESMTP id 8C04F6052471;
 Thu, 14 Nov 2024 04:53:35 -0500 (EST)
Subject: |SUCCESS| pw148430-148439 [PATCH] [RFC,10/10] app/test: fix operator
From: dpdklab@iol.unh.edu
To: Test Report <test-report@dpdk.org>
Cc: dpdk-test-reports@iol.unh.edu
In-Reply-To: <20241114001403.147609-11-stephen@networkplumber.org>
References: <20241114001403.147609-11-stephen@networkplumber.org>
Content-Type: text/plain
X-BeenThere: test-report@dpdk.org
X-Mailman-Version: 2.1.29
Precedence: list
List-Id: automatic DPDK test reports <test-report.dpdk.org>
List-Unsubscribe: <https://mails.dpdk.org/options/test-report>,
 <mailto:test-report-request@dpdk.org?subject=unsubscribe>
List-Archive: <http://mails.dpdk.org/archives/test-report/>
List-Post: <mailto:test-report@dpdk.org>
List-Help: <mailto:test-report-request@dpdk.org?subject=help>
List-Subscribe: <https://mails.dpdk.org/listinfo/test-report>,
 <mailto:test-report-request@dpdk.org?subject=subscribe>
Errors-To: test-report-bounces@dpdk.org

Test-Label: iol-compile-arm64-testing
Test-Status: SUCCESS
http://dpdk.org/patch/148439

_Testing PASS_

Submitter: Stephen Hemminger <stephen@networkplumber.org>
Date: Thursday, November 14 2024 00:12:22 
DPDK git baseline: Repo:dpdk
  Branch: master
  CommitID:78383e9816a8efe2ba16ec2ce65d51b94e6114e7

148430-148439 --> testing pass

Upstream job id: Generic-DPDK-Compile-Meson#333395

Test environment and result as below:

+----------------------------------------+--------------------+
|              Environment               | dpdk_meson_compile |
+========================================+====================+
| Ubuntu 20.04 ARM GCC Cross Compile     | PASS               |
+----------------------------------------+--------------------+
| RHEL9 (ARM)                            | PASS               |
+----------------------------------------+--------------------+
| Debian 12 with MUSDK                   | PASS               |
+----------------------------------------+--------------------+
| Ubuntu 20.04 ARM SVE                   | PASS               |
+----------------------------------------+--------------------+
| Fedora 39 (ARM)                        | PASS               |
+----------------------------------------+--------------------+
| Fedora 40 (ARM)                        | PASS               |
+----------------------------------------+--------------------+
| Fedora 40 (ARM Clang)                  | PASS               |
+----------------------------------------+--------------------+
| Ubuntu 20.04 (ARM)                     | PASS               |
+----------------------------------------+--------------------+
| Ubuntu 22.04 (ARM)                     | PASS               |
+----------------------------------------+--------------------+
| Ubuntu 24.04 (ARM)                     | PASS               |
+----------------------------------------+--------------------+
| Ubuntu 20.04 ARM Clang Cross Compile   | PASS               |
+----------------------------------------+--------------------+
| Ubuntu 20.04 aarch32 GCC Cross Compile | PASS               |
+----------------------------------------+--------------------+
| Fedora 39 (ARM Clang)                  | PASS               |
+----------------------------------------+--------------------+
| CentOS Stream 9 (ARM)                  | PASS               |
+----------------------------------------+--------------------+
| Debian 12 (arm)                        | PASS               |
+----------------------------------------+--------------------+


Ubuntu 20.04 ARM GCC Cross Compile
	Kernel: Depends on container host
	Compiler: aarch64-linux-gnu-gcc (Ubuntu 9.4.0-1ubuntu1~20.04.2) 9.4.0

RHEL9 (ARM)
	Kernel: Depends on container host
	Compiler: gcc 11.4.1 20231218 (Red Hat 11.4.1-3)

Debian 12 with MUSDK
	Kernel: Depends on container host
	Compiler: gcc (Debian 12.2.0-14) 12.2.0

Ubuntu 20.04 ARM SVE
	Kernel: Depends on container host
	Compiler: gcc (Ubuntu 10.5.0-1ubuntu1~20.04) 10.5.0

Fedora 39 (ARM)
	Kernel: Depends on container host
	Compiler: gcc 13.3.1 20240522 (Red Hat 13.3.1-1)

Fedora 40 (ARM)
	Kernel: Depends on container host
	Compiler: gcc 14.2.1 20240801 (Red Hat 14.2.1-1)

Fedora 40 (ARM Clang)
	Kernel: Depends on container host
	Compiler: clang 18.1.6 (Fedora 18.1.6-3.fc40)

Ubuntu 20.04 (ARM)
	Kernel: Depends on container host
	Compiler: gcc (Ubuntu 9.4.0-1ubuntu1~20.04.2) 9.4.0

Ubuntu 22.04 (ARM)
	Kernel: Depends on container host
	Compiler: gcc (Ubuntu 11.4.0-1ubuntu1~22.04) 11.4.0

Ubuntu 24.04 (ARM)
	Kernel: Depends on container host
	Compiler: gcc (Ubuntu 13.2.0-23ubuntu4) 13.2.0

Ubuntu 20.04 ARM Clang Cross Compile
	Kernel: Depends on container host
	Compiler: clang 10.0.0-4ubuntu1

Ubuntu 20.04 aarch32 GCC Cross Compile
	Kernel: Depends on container host
	Compiler: gcc 9.4.0

Fedora 39 (ARM Clang)
	Kernel: Depends on container host
	Compiler: clang 17.0.6 (Fedora 17.0.6-2.fc39)

CentOS Stream 9 (ARM)
	Kernel: Depends on container host
	Compiler: gcc 11.4.1 20231218 (Red Hat 11.4.1-3)

Debian 12 (arm)
	Kernel: Depends on container host
	Compiler: gcc (Debian 12.2.0-14) 12.2.0

To view detailed results, visit:
https://lab.dpdk.org/results/dashboard/patchsets/31920/

UNH-IOL DPDK Community Lab

To manage your email subscriptions, visit: 
https://lab.dpdk.org/results/dashboard/preferences/subscriptions/