From mboxrd@z Thu Jan  1 00:00:00 1970
Return-Path: <test-report-bounces@dpdk.org>
Received: from mails.dpdk.org (mails.dpdk.org [217.70.189.124])
	by inbox.dpdk.org (Postfix) with ESMTP id CCC4445D07
	for <public@inbox.dpdk.org>; Thu, 14 Nov 2024 18:00:32 +0100 (CET)
Received: from mails.dpdk.org (localhost [127.0.0.1])
	by mails.dpdk.org (Postfix) with ESMTP id C90EB4025D;
	Thu, 14 Nov 2024 18:00:32 +0100 (CET)
Received: from mail-oi1-f225.google.com (mail-oi1-f225.google.com
 [209.85.167.225])
 by mails.dpdk.org (Postfix) with ESMTP id A7CBC4021F
 for <test-report@dpdk.org>; Thu, 14 Nov 2024 18:00:31 +0100 (CET)
Received: by mail-oi1-f225.google.com with SMTP id
 5614622812f47-3e5fcf464ecso478747b6e.0
 for <test-report@dpdk.org>; Thu, 14 Nov 2024 09:00:31 -0800 (PST)
DKIM-Signature: v=1; a=rsa-sha256; c=relaxed/relaxed;
 d=iol.unh.edu; s=unh-iol; t=1731603631; x=1732208431; darn=dpdk.org;
 h=references:in-reply-to:cc:to:from:subject:message-id:date:from:to
 :cc:subject:date:message-id:reply-to;
 bh=HomLGcpLRnynndLAClgMDX5VCLxVu2zlP6Tz9wPr91I=;
 b=gzJwxhKONWxQM+k+Jy18G9u6ieVaTpIZGh0DpQE62lekWByeTQ1CdBQK3Z5MryEmQP
 YOGVp5gWZVuTZ40TuHwbYLcGDJrcl8MquGeQHkUI6SmpxisX4CPzg9TkQxp+xmOYGiWM
 XYANnIsrn+p76F2w5cEwrjXJyOnXzUyuJNhL0=
X-Google-DKIM-Signature: v=1; a=rsa-sha256; c=relaxed/relaxed;
 d=1e100.net; s=20230601; t=1731603631; x=1732208431;
 h=references:in-reply-to:cc:to:from:subject:message-id:date
 :x-gm-message-state:from:to:cc:subject:date:message-id:reply-to;
 bh=HomLGcpLRnynndLAClgMDX5VCLxVu2zlP6Tz9wPr91I=;
 b=Tcr2e4mqZ8PRNTCGXvySKyK6Fa2yqVKCzc1jEb1VEQLU8FCSvJUKYOh9q2bnV4sLEy
 C+rCquOMXsOEMHtjPBF9IRvLn7K38yPv4auO4OnAesOm0ibtrLCDrX+AoN/PKuQet4V2
 +rwAB04lQ0+QxIRwWzAfpFljzkvFGiE5Ll+mBkeGc0Lc5ALAquL1JHt3cTiuxv6ajSfX
 T7Yo8dYbH8S1DmOqlX4S9UdtVHAYtf2UE37gbRsMTL+dVSXCWUGJSpDeg9N8snlqkMlL
 gssTpz5PN0Rim9WZot8hXbFnWXFRf4dcTviqNywQgaytDjCeBgZ1aQ1oO1XejztvA97k
 XB7A==
X-Gm-Message-State: AOJu0Ywn8b7ksUAwVhH9OTEKKZnKIn+XflT+6PkuMr++eLl8sb+iEO8u
 OT4VJEnM7ne6YRJdQ7mJhiHeYvMcGfjjHQoMxeGh/4U1zjkFYjMKQTRQ9NllEVHtZY1qVwgh5I6
 NGMFXsoCQiKCt4J/e0bMHymdqR3DExrOoz0mrfCFy
X-Google-Smtp-Source: AGHT+IGrqaBMCYSF4GXYQ4WwnwLhHTP5IAGT1fJpODaDeTJNjWj/MpKjCtPeqTtU/PUNfH2n/UtXc24UOWVe
X-Received: by 2002:a05:6871:3744:b0:288:6220:fe0b with SMTP id
 586e51a60fabf-29560047e93mr21692574fac.7.1731603630494; 
 Thu, 14 Nov 2024 09:00:30 -0800 (PST)
Received: from postal.iol.unh.edu (postal.iol.unh.edu. [132.177.123.84])
 by smtp-relay.gmail.com with ESMTPS id
 006d021491bc7-5eea016e521sm205523eaf.15.2024.11.14.09.00.30
 (version=TLS1_2 cipher=ECDHE-ECDSA-AES128-GCM-SHA256 bits=128/128);
 Thu, 14 Nov 2024 09:00:30 -0800 (PST)
X-Relaying-Domain: iol.unh.edu
Date: Thu, 14 Nov 2024 09:00:30 -0800 (PST)
Message-ID: <67362cae.4a0a0220.2eebe4.39ffSMTPIN_ADDED_MISSING@mx.google.com>
Received: from [172.17.0.2] (unknown [172.18.0.217])
 by postal.iol.unh.edu (Postfix) with ESMTP id ED11B6052471;
 Thu, 14 Nov 2024 12:00:29 -0500 (EST)
Subject: |SUCCESS| pw148471-148473 [PATCH] [v2,3/3] bus/dpaa: enabling clang 
From: dpdklab@iol.unh.edu
To: Test Report <test-report@dpdk.org>
Cc: dpdk-test-reports@iol.unh.edu
In-Reply-To: <20241114074437.2943885-3-hemant.agrawal@nxp.com>
References: <20241114074437.2943885-3-hemant.agrawal@nxp.com>
Content-Type: text/plain
X-BeenThere: test-report@dpdk.org
X-Mailman-Version: 2.1.29
Precedence: list
List-Id: automatic DPDK test reports <test-report.dpdk.org>
List-Unsubscribe: <https://mails.dpdk.org/options/test-report>,
 <mailto:test-report-request@dpdk.org?subject=unsubscribe>
List-Archive: <http://mails.dpdk.org/archives/test-report/>
List-Post: <mailto:test-report@dpdk.org>
List-Help: <mailto:test-report-request@dpdk.org?subject=help>
List-Subscribe: <https://mails.dpdk.org/listinfo/test-report>,
 <mailto:test-report-request@dpdk.org?subject=subscribe>
Errors-To: test-report-bounces@dpdk.org

Test-Label: iol-unit-amd64-testing
Test-Status: SUCCESS
http://dpdk.org/patch/148473

_Testing PASS_

Submitter: Hemant Agrawal <hemant.agrawal@nxp.com>
Date: Thursday, November 14 2024 07:44:37 
DPDK git baseline: Repo:dpdk
  Branch: master
  CommitID:012b02bdbc95a5ec3b293f2d37d8955140fd8831

148471-148473 --> testing pass

Upstream job id: Generic-Unit-Test-DPDK#291588

Test environment and result as below:

+-------------------+----------------+
|    Environment    | dpdk_unit_test |
+===================+================+
| CentOS Stream 9   | PASS           |
+-------------------+----------------+
| Debian 12         | PASS           |
+-------------------+----------------+
| Fedora 39         | PASS           |
+-------------------+----------------+
| Fedora 40         | PASS           |
+-------------------+----------------+
| Fedora 39 (Clang) | PASS           |
+-------------------+----------------+
| Ubuntu 20.04      | PASS           |
+-------------------+----------------+
| RHEL9             | PASS           |
+-------------------+----------------+
| RHEL8             | PASS           |
+-------------------+----------------+
| Fedora 40 (Clang) | PASS           |
+-------------------+----------------+
| Ubuntu 22.04      | PASS           |
+-------------------+----------------+
| Ubuntu 24.04      | PASS           |
+-------------------+----------------+


CentOS Stream 9
	Kernel: Depends on container host
	Compiler: gcc 11.4.1 20231218 (Red Hat 11.4.1-3)

Debian 12
	Kernel: Depends on container host
	Compiler: gcc (Debian 12.2.0-14) 12.2.0

Fedora 39
	Kernel: Depends on container host
	Compiler: gcc 13.3.1 20240522 (Red Hat 13.3.1-1)

Fedora 40
	Kernel: Depends on container host
	Compiler: gcc 14.2.1 20240801 (Red Hat 14.2.1-1)

Fedora 39 (Clang)
	Kernel: Depends on container host
	Compiler: clang 17.0.6 (Fedora 17.0.6-2.fc39)

Ubuntu 20.04
	Kernel: Depends on container host
	Compiler: gcc (Ubuntu 9.4.0-1ubuntu1~20.04.2) 9.4.0

RHEL9
	Kernel: Depends on container host
	Compiler: gcc 11.4.1 20231218 (Red Hat 11.4.1-3)

RHEL8
	Kernel: Depends on container host
	Compiler: gcc 8.5.0 20210514 (Red Hat 8.5.0-22)

Fedora 40 (Clang)
	Kernel: Depends on container host
	Compiler: clang 18.1.6 (Fedora 18.1.6-3.fc40)

Ubuntu 22.04
	Kernel: Depends on container host
	Compiler: gcc (Ubuntu 11.4.0-1ubuntu1~22.04) 11.4.0

Ubuntu 24.04
	Kernel: Depends on container host
	Compiler: gcc (Ubuntu 13.2.0-23ubuntu4) 13.2.0

To view detailed results, visit:
https://lab.dpdk.org/results/dashboard/patchsets/31928/

UNH-IOL DPDK Community Lab

To manage your email subscriptions, visit: 
https://lab.dpdk.org/results/dashboard/preferences/subscriptions/