From mboxrd@z Thu Jan  1 00:00:00 1970
Return-Path: <test-report-bounces@dpdk.org>
Received: from mails.dpdk.org (mails.dpdk.org [217.70.189.124])
	by inbox.dpdk.org (Postfix) with ESMTP id BA0B245D03
	for <public@inbox.dpdk.org>; Fri, 15 Nov 2024 01:10:18 +0100 (CET)
Received: from mails.dpdk.org (localhost [127.0.0.1])
	by mails.dpdk.org (Postfix) with ESMTP id AECD040278;
	Fri, 15 Nov 2024 01:10:18 +0100 (CET)
Received: from mail-pj1-f99.google.com (mail-pj1-f99.google.com
 [209.85.216.99]) by mails.dpdk.org (Postfix) with ESMTP id 5228F4026A
 for <test-report@dpdk.org>; Fri, 15 Nov 2024 01:10:17 +0100 (CET)
Received: by mail-pj1-f99.google.com with SMTP id
 98e67ed59e1d1-2e2e6a1042dso1012032a91.2
 for <test-report@dpdk.org>; Thu, 14 Nov 2024 16:10:17 -0800 (PST)
DKIM-Signature: v=1; a=rsa-sha256; c=relaxed/relaxed;
 d=iol.unh.edu; s=unh-iol; t=1731629416; x=1732234216; darn=dpdk.org;
 h=references:in-reply-to:cc:to:from:subject:message-id:date:from:to
 :cc:subject:date:message-id:reply-to;
 bh=YqoAJ6GPBDb0Sw9q3vismcHI9sGW3Rw1reDcs2quHjk=;
 b=RsLkNpzh5PVL5lc3QXqO69WEBqLjkbOEvu78kzo9LUjkhi3c8COeBcZFbi6voy9w30
 FZdM5YBR9Cc+fUutdfFIfDLrvKN+QX/p1SqgNS2L91CJ+T0J69csvt7exAj0m+y+3ciR
 ZoFGz/DxokW1ygVLQiL1q07r9lzclpRQHXJTk=
X-Google-DKIM-Signature: v=1; a=rsa-sha256; c=relaxed/relaxed;
 d=1e100.net; s=20230601; t=1731629416; x=1732234216;
 h=references:in-reply-to:cc:to:from:subject:message-id:date
 :x-gm-message-state:from:to:cc:subject:date:message-id:reply-to;
 bh=YqoAJ6GPBDb0Sw9q3vismcHI9sGW3Rw1reDcs2quHjk=;
 b=p0ODsKgTw8/4w1XPscIuMxZU0VeCegyy5jvWcLmGriOkuWTv4ziqLtU39sK2XW5Vex
 81wqropqB/xj9zAxseiGWjRYLLfwtbzenrG8iGXm7nEJQcnjKKJMdJo9Os4lPzx1d4VR
 pYCotC5WSva/q6Z/HQIOaDDZjEBbiT9IUkZ/8Z6iQkZMufr3i/wiyalrvzxk1dq8Xnzw
 yq/Evu8RWyQWlbCPSqcdJhFSabn79xF+El63xm3vfdRFvO4DR7ncx6CwcHLkGh12mls8
 NnnDblVIwW4tDBtXkorsSnWQRKQ3Dkq0URtqaS9APLw12F5i64LwFW2ZAQHkXN7HUkE3
 C33A==
X-Gm-Message-State: AOJu0Yx/+2fpJChXlOKwFUr2idL/Zox3Y3GGXEmIeohRIr0epVWxl71R
 b/u7s4DIEuTWQZFuBI5oJLrxtHAlYbdaNZL4jYbreQnprMGx3zSQll6XZgnH5oDgmVweiiRSZu3
 zt6b3qKHQLq2kl/2olqwko4N+BaTv4a3IdZHpr6bBd8xfG/pnAiH3OmNA
X-Google-Smtp-Source: AGHT+IEr3Ld6chbnaWisi8DPZvxfz/ZB7JP+b5sJtptOvPa5aAMUVMdm+oeXIzPlOSRNThqjlrXEd+ZoM5Ms
X-Received: by 2002:a17:90b:1a86:b0:2e2:cd6b:c6ca with SMTP id
 98e67ed59e1d1-2ea15568d87mr989952a91.25.1731629416521; 
 Thu, 14 Nov 2024 16:10:16 -0800 (PST)
Received: from postal.iol.unh.edu (postal.iol.unh.edu.
 [2606:4100:3880:1234::84]) by smtp-relay.gmail.com with ESMTPS id
 d9443c01a7336-211d0ebabdesm337055ad.17.2024.11.14.16.10.16
 (version=TLS1_2 cipher=ECDHE-ECDSA-AES128-GCM-SHA256 bits=128/128);
 Thu, 14 Nov 2024 16:10:16 -0800 (PST)
X-Relaying-Domain: iol.unh.edu
Date: Thu, 14 Nov 2024 16:10:16 -0800 (PST)
Message-ID: <67369168.170a0220.3dac2f.1273SMTPIN_ADDED_MISSING@mx.google.com>
Received: from [172.17.0.4] (unknown [172.18.0.217])
 by postal.iol.unh.edu (Postfix) with ESMTP id 9A2DD6052471;
 Thu, 14 Nov 2024 19:10:15 -0500 (EST)
Subject: |SUCCESS| pw148468-148470 [PATCH] [3/3] net/cnxk: fix build warnings
From: dpdklab@iol.unh.edu
To: Test Report <test-report@dpdk.org>
Cc: dpdk-test-reports@iol.unh.edu
In-Reply-To: <20241114073849.18752-3-skori@marvell.com>
References: <20241114073849.18752-3-skori@marvell.com>
Content-Type: text/plain
X-BeenThere: test-report@dpdk.org
X-Mailman-Version: 2.1.29
Precedence: list
List-Id: automatic DPDK test reports <test-report.dpdk.org>
List-Unsubscribe: <https://mails.dpdk.org/options/test-report>,
 <mailto:test-report-request@dpdk.org?subject=unsubscribe>
List-Archive: <http://mails.dpdk.org/archives/test-report/>
List-Post: <mailto:test-report@dpdk.org>
List-Help: <mailto:test-report-request@dpdk.org?subject=help>
List-Subscribe: <https://mails.dpdk.org/listinfo/test-report>,
 <mailto:test-report-request@dpdk.org?subject=subscribe>
Errors-To: test-report-bounces@dpdk.org

Test-Label: iol-unit-arm64-testing
Test-Status: SUCCESS
http://dpdk.org/patch/148470

_Testing PASS_

Submitter: Sunil Kumar Kori <skori@marvell.com>
Date: Thursday, November 14 2024 07:38:16 
DPDK git baseline: Repo:dpdk
  Branch: master
  CommitID:e44189836424fa8c30a3ace643c25defe0c618f2

148468-148470 --> testing pass

Upstream job id: Generic-Unit-Test-DPDK#291619

Test environment and result as below:

+-----------------------------+---------------------------+------------------------------+--------------+----------------+
|         Environment         | cryptodev_sw_zuc_autotest | cryptodev_sw_snow3g_autotest | lpm_autotest | dpdk_unit_test |
+=============================+===========================+==============================+==============+================+
| Debian 12 (arm)             | PASS                      | PASS                         | SKIPPED      | PASS           |
+-----------------------------+---------------------------+------------------------------+--------------+----------------+
| Ubuntu 20.04 ARM SVE        | SKIPPED                   | SKIPPED                      | PASS         | SKIPPED        |
+-----------------------------+---------------------------+------------------------------+--------------+----------------+
| CentOS Stream 9 (ARM)       | SKIPPED                   | SKIPPED                      | SKIPPED      | PASS           |
+-----------------------------+---------------------------+------------------------------+--------------+----------------+
| Fedora 39 (ARM Clang)       | SKIPPED                   | SKIPPED                      | SKIPPED      | PASS           |
+-----------------------------+---------------------------+------------------------------+--------------+----------------+
| Fedora 39 (ARM)             | SKIPPED                   | SKIPPED                      | SKIPPED      | PASS           |
+-----------------------------+---------------------------+------------------------------+--------------+----------------+
| Fedora 40 (ARM)             | SKIPPED                   | SKIPPED                      | SKIPPED      | PASS           |
+-----------------------------+---------------------------+------------------------------+--------------+----------------+
| RHEL9 (ARM)                 | SKIPPED                   | SKIPPED                      | SKIPPED      | PASS           |
+-----------------------------+---------------------------+------------------------------+--------------+----------------+
| Fedora 40 (ARM Clang)       | SKIPPED                   | SKIPPED                      | SKIPPED      | PASS           |
+-----------------------------+---------------------------+------------------------------+--------------+----------------+
| Ubuntu 20.04 (ARM)          | SKIPPED                   | SKIPPED                      | SKIPPED      | PASS           |
+-----------------------------+---------------------------+------------------------------+--------------+----------------+
| Ubuntu 22.04 (ARM)          | SKIPPED                   | SKIPPED                      | SKIPPED      | PASS           |
+-----------------------------+---------------------------+------------------------------+--------------+----------------+
| Ubuntu 24.04 (ARM)          | SKIPPED                   | SKIPPED                      | SKIPPED      | PASS           |
+-----------------------------+---------------------------+------------------------------+--------------+----------------+
| 32-bit Ubuntu 22.04.4 (ARM) | SKIPPED                   | SKIPPED                      | SKIPPED      | PASS           |
+-----------------------------+---------------------------+------------------------------+--------------+----------------+


Debian 12 (arm)
	Kernel: Depends on container host
	Compiler: gcc (Debian 12.2.0-14) 12.2.0

Ubuntu 20.04 ARM SVE
	Kernel: Depends on container host
	Compiler: gcc (Ubuntu 10.5.0-1ubuntu1~20.04) 10.5.0

CentOS Stream 9 (ARM)
	Kernel: Depends on container host
	Compiler: gcc 11.4.1 20231218 (Red Hat 11.4.1-3)

Fedora 39 (ARM Clang)
	Kernel: Depends on container host
	Compiler: clang 17.0.6 (Fedora 17.0.6-2.fc39)

Fedora 39 (ARM)
	Kernel: Depends on container host
	Compiler: gcc 13.3.1 20240522 (Red Hat 13.3.1-1)

Fedora 40 (ARM)
	Kernel: Depends on container host
	Compiler: gcc 14.2.1 20240801 (Red Hat 14.2.1-1)

RHEL9 (ARM)
	Kernel: Depends on container host
	Compiler: gcc 11.4.1 20231218 (Red Hat 11.4.1-3)

Fedora 40 (ARM Clang)
	Kernel: Depends on container host
	Compiler: clang 18.1.6 (Fedora 18.1.6-3.fc40)

Ubuntu 20.04 (ARM)
	Kernel: Depends on container host
	Compiler: gcc (Ubuntu 9.4.0-1ubuntu1~20.04.2) 9.4.0

Ubuntu 22.04 (ARM)
	Kernel: Depends on container host
	Compiler: gcc (Ubuntu 11.4.0-1ubuntu1~22.04) 11.4.0

Ubuntu 24.04 (ARM)
	Kernel: Depends on container host
	Compiler: gcc (Ubuntu 13.2.0-23ubuntu4) 13.2.0

32-bit Ubuntu 22.04.4 (ARM)
	Kernel: 5.15.83+ aarch64
	Compiler: gcc (Ubuntu 11.4.0-1ubuntu1~22.04) 11.4.0

To view detailed results, visit:
https://lab.dpdk.org/results/dashboard/patchsets/31927/

UNH-IOL DPDK Community Lab

To manage your email subscriptions, visit: 
https://lab.dpdk.org/results/dashboard/preferences/subscriptions/