From mboxrd@z Thu Jan  1 00:00:00 1970
Return-Path: <test-report-bounces@dpdk.org>
Received: from mails.dpdk.org (mails.dpdk.org [217.70.189.124])
	by inbox.dpdk.org (Postfix) with ESMTP id 605BB45D08
	for <public@inbox.dpdk.org>; Fri, 15 Nov 2024 02:47:09 +0100 (CET)
Received: from mails.dpdk.org (localhost [127.0.0.1])
	by mails.dpdk.org (Postfix) with ESMTP id 584B642ED4;
	Fri, 15 Nov 2024 02:47:09 +0100 (CET)
Received: from mail-qv1-f100.google.com (mail-qv1-f100.google.com
 [209.85.219.100])
 by mails.dpdk.org (Postfix) with ESMTP id 88A9442E52
 for <test-report@dpdk.org>; Fri, 15 Nov 2024 02:47:08 +0100 (CET)
Received: by mail-qv1-f100.google.com with SMTP id
 6a1803df08f44-6d382664fadso7201156d6.2
 for <test-report@dpdk.org>; Thu, 14 Nov 2024 17:47:08 -0800 (PST)
DKIM-Signature: v=1; a=rsa-sha256; c=relaxed/relaxed;
 d=iol.unh.edu; s=unh-iol; t=1731635228; x=1732240028; darn=dpdk.org;
 h=references:in-reply-to:cc:to:from:subject:message-id:date:from:to
 :cc:subject:date:message-id:reply-to;
 bh=x31idwTNmKRiS75ettZA7qFjAQxabERjWMfu2eVs+JI=;
 b=RobFukfA7Tc18NEeWq+PnA3qq6/bs1Fo/DADbo+eOLcIMAk+zMPio/Z7SF5mqraPP6
 +Wf6Z7FcmEQ/ljaWKsTYobvOdF4khk4vi2sUZ2wssnsS9kfsp+Mj90KVZ/nnKd1ANM4x
 u/wwTtVSYimh1Vvnsz/MHLs8DeKIkaz/1poIs=
X-Google-DKIM-Signature: v=1; a=rsa-sha256; c=relaxed/relaxed;
 d=1e100.net; s=20230601; t=1731635228; x=1732240028;
 h=references:in-reply-to:cc:to:from:subject:message-id:date
 :x-gm-message-state:from:to:cc:subject:date:message-id:reply-to;
 bh=x31idwTNmKRiS75ettZA7qFjAQxabERjWMfu2eVs+JI=;
 b=G9oNLqrbHwdj8NUn1AzkgNBDs0VCAWMKmW8yBnLx0x0hqfrNn+2/bYBFvaGfLvmFZw
 LKzWwGW7GW7gv/2+uyZ2I398qvMYMgbk86NzomLHYh2ioOwkozxoVuPELHMHhRvas63K
 BmcmCK2nG06vT0MA/Yl0NNCL667xmI8B4lC8Zimj02X3J/zVY2q4CjkXo8un8W3Hvffe
 ZhZe9jjIkONw5rUebmwW/iulslb1SZux62zX5E3rBM4WsRWuisD7ZEsJmMtg/j67smKl
 jZ5KNRnhbc8wtdlwjY9+omwK2TG+QSzt/MZ5+5E2fYFUnfXTFO9tM4Ky++xoV8SV+IA9
 yAGw==
X-Gm-Message-State: AOJu0YwlHcksDYyyL7+geRlr57Gp4PSVxJXF3xBJxvBmQefUZeVxyecT
 I8mHS/6EdqVOTedTcSIe1L0W7iBM5YJlDQ81JLdvWmpYfrvgXdLyj3PuQM+xCO3EC0PNnKk3k3g
 a65A+oWmNBV/vCmVRYghb8cW7jelMFCQkrZ0U37f6
X-Google-Smtp-Source: AGHT+IHCeHz1GvsapWgO3vWakdgvCXNNZrTEqHkCinNaB7h2+z3S0y58fRTao64lJBbr27vBE2Nc39SiccVD
X-Received: by 2002:a05:6214:488e:b0:6d3:5274:f37e with SMTP id
 6a1803df08f44-6d3fb84490dmr11221596d6.40.1731635227904; 
 Thu, 14 Nov 2024 17:47:07 -0800 (PST)
Received: from postal.iol.unh.edu (postal.iol.unh.edu. [132.177.123.84])
 by smtp-relay.gmail.com with ESMTPS id
 6a1803df08f44-6d3ee43b7bdsm3672696d6.0.2024.11.14.17.47.07
 (version=TLS1_2 cipher=ECDHE-ECDSA-AES128-GCM-SHA256 bits=128/128);
 Thu, 14 Nov 2024 17:47:07 -0800 (PST)
X-Relaying-Domain: iol.unh.edu
Date: Thu, 14 Nov 2024 17:47:07 -0800 (PST)
Message-ID: <6736a81b.050a0220.34d4fa.74b7SMTPIN_ADDED_MISSING@mx.google.com>
Received: from [172.21.0.9] (unknown [172.18.0.240])
 by postal.iol.unh.edu (Postfix) with ESMTP id 8C6276052471;
 Thu, 14 Nov 2024 20:47:07 -0500 (EST)
Subject: |SUCCESS| pw148508-148519 [PATCH] [v4,12/12] devtools/cocci: add scr
From: dpdklab@iol.unh.edu
To: Test Report <test-report@dpdk.org>
Cc: dpdk-test-reports@iol.unh.edu
In-Reply-To: <20241114184452.31854-13-stephen@networkplumber.org>
References: <20241114184452.31854-13-stephen@networkplumber.org>
Content-Type: text/plain
X-BeenThere: test-report@dpdk.org
X-Mailman-Version: 2.1.29
Precedence: list
List-Id: automatic DPDK test reports <test-report.dpdk.org>
List-Unsubscribe: <https://mails.dpdk.org/options/test-report>,
 <mailto:test-report-request@dpdk.org?subject=unsubscribe>
List-Archive: <http://mails.dpdk.org/archives/test-report/>
List-Post: <mailto:test-report@dpdk.org>
List-Help: <mailto:test-report-request@dpdk.org?subject=help>
List-Subscribe: <https://mails.dpdk.org/listinfo/test-report>,
 <mailto:test-report-request@dpdk.org?subject=subscribe>
Errors-To: test-report-bounces@dpdk.org

Test-Label: iol-unit-amd64-testing
Test-Status: SUCCESS
http://dpdk.org/patch/148519

_Testing PASS_

Submitter: Stephen Hemminger <stephen@networkplumber.org>
Date: Thursday, November 14 2024 18:43:34 
DPDK git baseline: Repo:dpdk
  Branch: master
  CommitID:78383e9816a8efe2ba16ec2ce65d51b94e6114e7

148508-148519 --> testing pass

Upstream job id: Generic-Unit-Test-DPDK#291850

Test environment and result as below:

+-------------------+----------------+
|    Environment    | dpdk_unit_test |
+===================+================+
| Debian 12         | PASS           |
+-------------------+----------------+
| CentOS Stream 9   | PASS           |
+-------------------+----------------+
| Fedora 39         | PASS           |
+-------------------+----------------+
| Fedora 40 (Clang) | PASS           |
+-------------------+----------------+
| Fedora 39 (Clang) | PASS           |
+-------------------+----------------+
| RHEL8             | PASS           |
+-------------------+----------------+
| Fedora 40         | PASS           |
+-------------------+----------------+
| RHEL9             | PASS           |
+-------------------+----------------+
| Ubuntu 20.04      | PASS           |
+-------------------+----------------+
| Ubuntu 24.04      | PASS           |
+-------------------+----------------+
| Ubuntu 22.04      | PASS           |
+-------------------+----------------+


Debian 12
	Kernel: Depends on container host
	Compiler: gcc (Debian 12.2.0-14) 12.2.0

CentOS Stream 9
	Kernel: Depends on container host
	Compiler: gcc 11.4.1 20231218 (Red Hat 11.4.1-3)

Fedora 39
	Kernel: Depends on container host
	Compiler: gcc 13.3.1 20240522 (Red Hat 13.3.1-1)

Fedora 40 (Clang)
	Kernel: Depends on container host
	Compiler: clang 18.1.6 (Fedora 18.1.6-3.fc40)

Fedora 39 (Clang)
	Kernel: Depends on container host
	Compiler: clang 17.0.6 (Fedora 17.0.6-2.fc39)

RHEL8
	Kernel: Depends on container host
	Compiler: gcc 8.5.0 20210514 (Red Hat 8.5.0-22)

Fedora 40
	Kernel: Depends on container host
	Compiler: gcc 14.2.1 20240801 (Red Hat 14.2.1-1)

RHEL9
	Kernel: Depends on container host
	Compiler: gcc 11.4.1 20231218 (Red Hat 11.4.1-3)

Ubuntu 20.04
	Kernel: Depends on container host
	Compiler: gcc (Ubuntu 9.4.0-1ubuntu1~20.04.2) 9.4.0

Ubuntu 24.04
	Kernel: Depends on container host
	Compiler: gcc (Ubuntu 13.2.0-23ubuntu4) 13.2.0

Ubuntu 22.04
	Kernel: Depends on container host
	Compiler: gcc (Ubuntu 11.4.0-1ubuntu1~22.04) 11.4.0

To view detailed results, visit:
https://lab.dpdk.org/results/dashboard/patchsets/31941/

UNH-IOL DPDK Community Lab

To manage your email subscriptions, visit: 
https://lab.dpdk.org/results/dashboard/preferences/subscriptions/