From mboxrd@z Thu Jan  1 00:00:00 1970
Return-Path: <test-report-bounces@dpdk.org>
Received: from mails.dpdk.org (mails.dpdk.org [217.70.189.124])
	by inbox.dpdk.org (Postfix) with ESMTP id 520DC45D08
	for <public@inbox.dpdk.org>; Fri, 15 Nov 2024 02:53:12 +0100 (CET)
Received: from mails.dpdk.org (localhost [127.0.0.1])
	by mails.dpdk.org (Postfix) with ESMTP id 129F542EF2;
	Fri, 15 Nov 2024 02:53:12 +0100 (CET)
Received: from mail-qv1-f100.google.com (mail-qv1-f100.google.com
 [209.85.219.100])
 by mails.dpdk.org (Postfix) with ESMTP id A742240612
 for <test-report@dpdk.org>; Fri, 15 Nov 2024 02:53:10 +0100 (CET)
Received: by mail-qv1-f100.google.com with SMTP id
 6a1803df08f44-6cbcc2bd800so10946286d6.0
 for <test-report@dpdk.org>; Thu, 14 Nov 2024 17:53:10 -0800 (PST)
DKIM-Signature: v=1; a=rsa-sha256; c=relaxed/relaxed;
 d=iol.unh.edu; s=unh-iol; t=1731635590; x=1732240390; darn=dpdk.org;
 h=references:in-reply-to:cc:to:from:subject:message-id:date:from:to
 :cc:subject:date:message-id:reply-to;
 bh=3RQdjHknH4nz5oO5WydP7CO+2IzeMrpIbBQpdVrYIl0=;
 b=JLMSddU949qZtjyFGkTk4s883CTBJ77jw72ihesvk0ntGKz+JtHTO4UfpY6TtUl9OW
 qnoOBVshVm6jLOrJIV3B7K8R0l9lhMnrupy1TDMdyGQ4sJQJByA6zXJnWbBc1cLdcH4W
 w6HQB9EFFBqYLlhW2QITDy40JphvsrQQMVGSg=
X-Google-DKIM-Signature: v=1; a=rsa-sha256; c=relaxed/relaxed;
 d=1e100.net; s=20230601; t=1731635590; x=1732240390;
 h=references:in-reply-to:cc:to:from:subject:message-id:date
 :x-gm-message-state:from:to:cc:subject:date:message-id:reply-to;
 bh=3RQdjHknH4nz5oO5WydP7CO+2IzeMrpIbBQpdVrYIl0=;
 b=wOc9rI3xxhiUvyP+FzXvZy6iIy4n//UBFZhDAxn5ka/zFCv10RVWsWwWsz2BYh3f1/
 y5N1sQ500EHIPicMsj8grZ317wQFO1mj/IuGtgiZeYemGGrpmuzE6Uc1IxKQzyuHlKJC
 WoFBkSqLJkSA9bwaWjltQ32g3z8KshX2/lY0qDE6droZNzR8aRJuKzAJVq3hYnvHALyA
 XJirMnVdaeDUvu1Ph9VvJRM7wfEW3F7awkArGGCpq7Tha6W0in3nJI/pbbKZeVJsrDJe
 NC3DOAUZmJJ71ya7qT8oD1PU3z5E6exhvxoi7kPaxm5ZZGbwYO9CtMnZtJEkqBFwt1my
 8C9w==
X-Gm-Message-State: AOJu0Yy8cCBRPJz4V9XktpwYAVxGLZOnIFnvmKvhd+tr04q05yFDq6c2
 KBYr8riSmTwpHZE3siVc36afBR8xOcE3l4Sjbg21Bo4pcagBzzQtUWph49h+JNjrUfVSTI5AhPi
 jONmESpMqXufxhJcuXVKWfxH3BOimrSRpggE/+/jPP0hLSUIU/e3/m8Yb
X-Google-Smtp-Source: AGHT+IFjWTWiJj1yNWtDpmw6diDhbEGJ2JIOaWDxQe1L7TRCJ9IvJOyRMSG1U1va+iI61vp0X0g/KH7Uuakm
X-Received: by 2002:a05:6214:400a:b0:6cb:5bde:d78 with SMTP id
 6a1803df08f44-6d3e8fa8366mr83125826d6.3.1731635590017; 
 Thu, 14 Nov 2024 17:53:10 -0800 (PST)
Received: from postal.iol.unh.edu (postal.iol.unh.edu.
 [2606:4100:3880:1234::84]) by smtp-relay.gmail.com with ESMTPS id
 6a1803df08f44-6d3ee8d97fasm3525086d6.32.2024.11.14.17.53.09
 (version=TLS1_2 cipher=ECDHE-ECDSA-AES128-GCM-SHA256 bits=128/128);
 Thu, 14 Nov 2024 17:53:10 -0800 (PST)
X-Relaying-Domain: iol.unh.edu
Date: Thu, 14 Nov 2024 17:53:10 -0800 (PST)
Message-ID: <6736a986.050a0220.3ad0c5.705eSMTPIN_ADDED_MISSING@mx.google.com>
Received: from [172.21.0.5] (unknown [172.18.0.240])
 by postal.iol.unh.edu (Postfix) with ESMTP id 9F1D66052471;
 Thu, 14 Nov 2024 20:53:09 -0500 (EST)
Subject: |SUCCESS| pw148390-148391 [PATCH] [v3,2/2] graph: add alignment to t
From: dpdklab@iol.unh.edu
To: Test Report <test-report@dpdk.org>
Cc: dpdk-test-reports@iol.unh.edu
In-Reply-To: <20241113073553.6125-2-chcchc88@163.com>
References: <20241113073553.6125-2-chcchc88@163.com>
Content-Type: text/plain
X-BeenThere: test-report@dpdk.org
X-Mailman-Version: 2.1.29
Precedence: list
List-Id: automatic DPDK test reports <test-report.dpdk.org>
List-Unsubscribe: <https://mails.dpdk.org/options/test-report>,
 <mailto:test-report-request@dpdk.org?subject=unsubscribe>
List-Archive: <http://mails.dpdk.org/archives/test-report/>
List-Post: <mailto:test-report@dpdk.org>
List-Help: <mailto:test-report-request@dpdk.org?subject=help>
List-Subscribe: <https://mails.dpdk.org/listinfo/test-report>,
 <mailto:test-report-request@dpdk.org?subject=subscribe>
Errors-To: test-report-bounces@dpdk.org

Test-Label: iol-sample-apps-testing
Test-Status: SUCCESS
http://dpdk.org/patch/148391

_Testing PASS_

Submitter: Huichao Cai <chcchc88@163.com>
Date: Wednesday, November 13 2024 07:35:53 
DPDK git baseline: Repo:dpdk
  Branch: master
  CommitID:c5df7a373ad07413d9652479272cd16adf989b06

148390-148391 --> testing pass

Upstream job id: ACVP-FIPS-testing#7909

Test environment and result as below:

+--------------------+----------------------+----------------------+
|    Environment     | compressdev_zlib_pmd | dpdk_fips_validation |
+====================+======================+======================+
| Ubuntu 22.04 (ARM) | PASS                 | SKIPPED              |
+--------------------+----------------------+----------------------+
| Ubuntu 22.04       | PASS                 | SKIPPED              |
+--------------------+----------------------+----------------------+
| Ubuntu 20.04       | SKIPPED              | PASS                 |
+--------------------+----------------------+----------------------+


Ubuntu 22.04 (ARM)
	Kernel: 5.15.0-97-generic
	Compiler: gcc gcc (Ubuntu 11.4.0-1ubuntu1~22.04) 11.4.0

Ubuntu 22.04
	Kernel: 5.15.0-100-generic
	Compiler: gcc gcc (Ubuntu 11.4.0-1ubuntu1~22.04) 11.4.0

Ubuntu 20.04
	Kernel: Depends on container host
	Compiler: gcc (Ubuntu 9.4.0-1ubuntu1~20.04.2) 9.4.0

To view detailed results, visit:
https://lab.dpdk.org/results/dashboard/patchsets/31907/

UNH-IOL DPDK Community Lab

To manage your email subscriptions, visit: 
https://lab.dpdk.org/results/dashboard/preferences/subscriptions/