From mboxrd@z Thu Jan  1 00:00:00 1970
Return-Path: <test-report-bounces@dpdk.org>
Received: from mails.dpdk.org (mails.dpdk.org [217.70.189.124])
	by inbox.dpdk.org (Postfix) with ESMTP id DB30945D1F
	for <public@inbox.dpdk.org>; Sat, 16 Nov 2024 10:06:18 +0100 (CET)
Received: from mails.dpdk.org (localhost [127.0.0.1])
	by mails.dpdk.org (Postfix) with ESMTP id C1E8840269;
	Sat, 16 Nov 2024 10:06:18 +0100 (CET)
Received: from mail-pj1-f98.google.com (mail-pj1-f98.google.com
 [209.85.216.98]) by mails.dpdk.org (Postfix) with ESMTP id 29E3D40151
 for <test-report@dpdk.org>; Sat, 16 Nov 2024 10:06:17 +0100 (CET)
Received: by mail-pj1-f98.google.com with SMTP id
 98e67ed59e1d1-2ea39638194so250114a91.2
 for <test-report@dpdk.org>; Sat, 16 Nov 2024 01:06:17 -0800 (PST)
DKIM-Signature: v=1; a=rsa-sha256; c=relaxed/relaxed;
 d=iol.unh.edu; s=unh-iol; t=1731747976; x=1732352776; darn=dpdk.org;
 h=references:in-reply-to:cc:to:from:subject:message-id:date:from:to
 :cc:subject:date:message-id:reply-to;
 bh=bsJH2j8K835Cac1E/Viri9TQcyjpQyMqvPT/LVhM+g8=;
 b=WBTt5V8316Eb4uW1udupH1G3gP1lpocKLla/lfs/BZCFQ06I537llO1dvCQUrps+Sh
 40Gx8gO0u/eXoxJ8SBgWSieRdJCbh4U2BDRHABIe9UXum3a1r1Y/FL+22apMvvq0GFl1
 OhWSuSIRGcGj4+W53O1OGbOvc9izDkdZuiMYc=
X-Google-DKIM-Signature: v=1; a=rsa-sha256; c=relaxed/relaxed;
 d=1e100.net; s=20230601; t=1731747976; x=1732352776;
 h=references:in-reply-to:cc:to:from:subject:message-id:date
 :x-gm-message-state:from:to:cc:subject:date:message-id:reply-to;
 bh=bsJH2j8K835Cac1E/Viri9TQcyjpQyMqvPT/LVhM+g8=;
 b=TD1yTBC7S98syhAQ85Q+LFoUv0Jadnb4GWIpINmrXEUU14nl+DYetFco7MFIO9Ys43
 aDo6y6LtnQt9DNuhJ9HKuYpNqGkhpjyM8p9hXS6Ib7qSSFEiksYLSTZlgb4fwwC42CuO
 msA+t/u5Ar76VSvhzVnaEqJYScjG6vGyAdKM8bi3wg7OBC6p+hHeB7AdxmFn1gpc5C7B
 cl2axPiyEjEqIJW32mVojqC9AUC6v+n5EFMt3Kt/CsEiC97ZVYxt9mCf14MuaE5DxGHI
 iJDpNOIPskYVXHhrRC2MYmK4AdgOv4bRHpi1V+sz0kWTBzRLpJ1wu8bRQ7dbuAIg5Vby
 ZgvQ==
X-Gm-Message-State: AOJu0Yx11Gs1lpZ6ISGVGPJ3l6TCnyTZaO5cSk+w0mEmPf7Xz2UI8ePd
 dvxxUDak0GI1AbdChbhOejIoUhxc3igA2NiU4LknL2oDQg0qhVtN3N4eroShgcx8ZsWZN752KKz
 lL0rYlQp/IDr1IFjPBCOXIRVDdsgr6Q4D+NToXN9B
X-Google-Smtp-Source: AGHT+IFvrRspSBQ8VyLyeeDXMeH+IHBTGYfyYSM08WEetbojpHT7MWH3k5QYaFXqLppnH348ZeWR8vv64zVB
X-Received: by 2002:a17:90b:3c0c:b0:2ea:4150:3f80 with SMTP id
 98e67ed59e1d1-2ea4150444fmr834675a91.18.1731747976246; 
 Sat, 16 Nov 2024 01:06:16 -0800 (PST)
Received: from postal.iol.unh.edu (postal.iol.unh.edu. [132.177.123.84])
 by smtp-relay.gmail.com with ESMTPS id
 98e67ed59e1d1-2ea024a3ff1sm461382a91.8.2024.11.16.01.06.16
 (version=TLS1_2 cipher=ECDHE-ECDSA-AES128-GCM-SHA256 bits=128/128);
 Sat, 16 Nov 2024 01:06:16 -0800 (PST)
X-Relaying-Domain: iol.unh.edu
Date: Sat, 16 Nov 2024 01:06:16 -0800 (PST)
Message-ID: <67386088.170a0220.245246.b873SMTPIN_ADDED_MISSING@mx.google.com>
Received: from [172.21.0.5] (unknown [172.18.0.240])
 by postal.iol.unh.edu (Postfix) with ESMTP id 6AA1E6052471;
 Sat, 16 Nov 2024 04:06:15 -0500 (EST)
Subject: |WARNING| pw148564-148565 [PATCH] [2/2] net/bnxt: add support for Rx
From: dpdklab@iol.unh.edu
To: Test Report <test-report@dpdk.org>
Cc: dpdk-test-reports@iol.unh.edu
In-Reply-To: <20241116011249.48013-2-ajit.khaparde@broadcom.com>
References: <20241116011249.48013-2-ajit.khaparde@broadcom.com>
Content-Type: text/plain
X-BeenThere: test-report@dpdk.org
X-Mailman-Version: 2.1.29
Precedence: list
List-Id: automatic DPDK test reports <test-report.dpdk.org>
List-Unsubscribe: <https://mails.dpdk.org/options/test-report>,
 <mailto:test-report-request@dpdk.org?subject=unsubscribe>
List-Archive: <http://mails.dpdk.org/archives/test-report/>
List-Post: <mailto:test-report@dpdk.org>
List-Help: <mailto:test-report-request@dpdk.org?subject=help>
List-Subscribe: <https://mails.dpdk.org/listinfo/test-report>,
 <mailto:test-report-request@dpdk.org?subject=subscribe>
Errors-To: test-report-bounces@dpdk.org

Test-Label: iol-compile-amd64-testing
Test-Status: WARNING
http://dpdk.org/patch/148565

_Testing issues_

Submitter: Ajit Khaparde <ajit.khaparde@broadcom.com>
Date: Saturday, November 16 2024 01:12:49 
DPDK git baseline: Repo:dpdk
  Branch: master
  CommitID:664c2350a92549c0754f1ead6514a3dc626d089a

148564-148565 --> testing issues

Upstream job id: Generic-DPDK-Compile-Meson#334712

Test environment and result as below:

+-------------------+--------------------+------------------+-------------------+
|    Environment    | dpdk_meson_compile | dpdk_compile_ovs | dpdk_compile_spdk |
+===================+====================+==================+===================+
| CentOS Stream 9   | PASS               | PASS             | WARN              |
+-------------------+--------------------+------------------+-------------------+
| Debian 12         | PASS               | PASS             | WARN              |
+-------------------+--------------------+------------------+-------------------+
| Fedora 39 (Clang) | PASS               | PASS             | WARN              |
+-------------------+--------------------+------------------+-------------------+
| Fedora 39         | PASS               | PASS             | WARN              |
+-------------------+--------------------+------------------+-------------------+
| Fedora 40 (Clang) | PASS               | PASS             | WARN              |
+-------------------+--------------------+------------------+-------------------+
| RHEL9             | PASS               | PASS             | SKIPPED           |
+-------------------+--------------------+------------------+-------------------+
| Fedora 40         | PASS               | PASS             | WARN              |
+-------------------+--------------------+------------------+-------------------+
| RHEL8             | PASS               | PASS             | SKIPPED           |
+-------------------+--------------------+------------------+-------------------+
| openSUSE Leap 15  | PASS               | PASS             | SKIPPED           |
+-------------------+--------------------+------------------+-------------------+
| Ubuntu 22.04      | PASS               | PASS             | WARN              |
+-------------------+--------------------+------------------+-------------------+
| Ubuntu 24.04      | PASS               | PASS             | WARN              |
+-------------------+--------------------+------------------+-------------------+
| Alpine            | PASS               | PASS             | SKIPPED           |
+-------------------+--------------------+------------------+-------------------+
| FreeBSD 13.4      | PASS               | SKIPPED          | SKIPPED           |
+-------------------+--------------------+------------------+-------------------+
| FreeBSD 14.1      | PASS               | SKIPPED          | SKIPPED           |
+-------------------+--------------------+------------------+-------------------+
| Ubuntu 20.04      | PASS               | PASS             | SKIPPED           |
+-------------------+--------------------+------------------+-------------------+

==== 20 line log output for Ubuntu 24.04 (dpdk_compile_spdk): ====
 --- Failed to get log output --- 
==== End log output ====

CentOS Stream 9
	Kernel: Depends on container host
	Compiler: gcc 11.4.1 20231218 (Red Hat 11.4.1-3)

Debian 12
	Kernel: Depends on container host
	Compiler: gcc (Debian 12.2.0-14) 12.2.0

Fedora 39 (Clang)
	Kernel: Depends on container host
	Compiler: clang 17.0.6 (Fedora 17.0.6-2.fc39)

Fedora 39
	Kernel: Depends on container host
	Compiler: gcc 13.3.1 20240522 (Red Hat 13.3.1-1)

Fedora 40 (Clang)
	Kernel: Depends on container host
	Compiler: clang 18.1.6 (Fedora 18.1.6-3.fc40)

RHEL9
	Kernel: Depends on container host
	Compiler: gcc 11.4.1 20231218 (Red Hat 11.4.1-3)

Fedora 40
	Kernel: Depends on container host
	Compiler: gcc 14.2.1 20240801 (Red Hat 14.2.1-1)

RHEL8
	Kernel: Depends on container host
	Compiler: gcc 8.5.0 20210514 (Red Hat 8.5.0-22)

openSUSE Leap 15
	Kernel: Depends on container host
	Compiler: gcc (SUSE Linux) 7.5.0

Ubuntu 22.04
	Kernel: Depends on container host
	Compiler: gcc (Ubuntu 11.4.0-1ubuntu1~22.04) 11.4.0

Ubuntu 24.04
	Kernel: Depends on container host
	Compiler: gcc (Ubuntu 13.2.0-23ubuntu4) 13.2.0

Alpine
	Kernel: Depends on container host
	Compiler: gcc (Alpine 13.2.1_git20240309) 13.2.1 20240309

FreeBSD 13.4
	Kernel: 13.4-RELEASE-p1
	Compiler: clang 18.1.6

FreeBSD 14.1
	Kernel: 14.1-RELEASE-p3
	Compiler: clang 18.1.5

Ubuntu 20.04
	Kernel: Depends on container host
	Compiler: gcc (Ubuntu 9.4.0-1ubuntu1~20.04.2) 9.4.0

To view detailed results, visit:
https://lab.dpdk.org/results/dashboard/patchsets/31952/

UNH-IOL DPDK Community Lab

To manage your email subscriptions, visit: 
https://lab.dpdk.org/results/dashboard/preferences/subscriptions/