From mboxrd@z Thu Jan  1 00:00:00 1970
Return-Path: <test-report-bounces@dpdk.org>
Received: from mails.dpdk.org (mails.dpdk.org [217.70.189.124])
	by inbox.dpdk.org (Postfix) with ESMTP id CC97F45D20
	for <public@inbox.dpdk.org>; Sat, 16 Nov 2024 13:44:22 +0100 (CET)
Received: from mails.dpdk.org (localhost [127.0.0.1])
	by mails.dpdk.org (Postfix) with ESMTP id C5204402E3;
	Sat, 16 Nov 2024 13:44:22 +0100 (CET)
Received: from mail-io1-f99.google.com (mail-io1-f99.google.com
 [209.85.166.99]) by mails.dpdk.org (Postfix) with ESMTP id 64C18402AB
 for <test-report@dpdk.org>; Sat, 16 Nov 2024 13:44:21 +0100 (CET)
Received: by mail-io1-f99.google.com with SMTP id
 ca18e2360f4ac-83b430a4cfdso99216039f.2
 for <test-report@dpdk.org>; Sat, 16 Nov 2024 04:44:21 -0800 (PST)
DKIM-Signature: v=1; a=rsa-sha256; c=relaxed/relaxed;
 d=iol.unh.edu; s=unh-iol; t=1731761060; x=1732365860; darn=dpdk.org;
 h=references:in-reply-to:cc:to:from:subject:message-id:date:from:to
 :cc:subject:date:message-id:reply-to;
 bh=6sn4bpqeqqxPybEa7pgjHu3Ej60povFUG2i58jN6tiw=;
 b=VdEZGiicN+5Ma1eArbkBMFOMceWc+H50Ezoqeh4GcWQB3RUFf9lMSzcgTeygAxENxE
 wQQXajBcviTvFJvSB0iJOFHLIax2RwiRjvRDlyGYyKpVhaqBotVCrcS0DRcRtNS4H5pO
 80ZAGplG4VCLciaC6TsX9yQvmCzKVKyXlwJZU=
X-Google-DKIM-Signature: v=1; a=rsa-sha256; c=relaxed/relaxed;
 d=1e100.net; s=20230601; t=1731761060; x=1732365860;
 h=references:in-reply-to:cc:to:from:subject:message-id:date
 :x-gm-message-state:from:to:cc:subject:date:message-id:reply-to;
 bh=6sn4bpqeqqxPybEa7pgjHu3Ej60povFUG2i58jN6tiw=;
 b=adBv0pkFwerMS2rz7Xb5gWug6r4tXYgv+Su5ZDIHX+h7VC0v15XuAb7fJBJCcENs+y
 +51c1mD77wgkLtZ0MnhoVLRY2cu6aaeIKIedOyBSwpjfcMejLaOPsWe+Sn+xJVwTNijj
 Z3D/EC/zRMn9GbtT3NfexGUgQUgLocHV9RyddgyyIGahwQ7VIGGeqJa+1Q3/KH1QnUS9
 yCXCrzQwbwT5mV9Q/OV3krXv5R7K57+QjrH7aQbFC3qVeBbd1FKMvDrxppSu7dSjs8Kz
 /tlecLbhylzHk3b2rJG9ysJsaLTGWvqBCGfsFuqtpWD+HGqQcoE/X+cCpJb9wMOsKlzS
 WFqg==
X-Gm-Message-State: AOJu0YzESzHhJvQ3DJh18YGeH96TgpM9H2MVUESPFmf11UYCtef+0TvZ
 tltBEnE0o7ThsB+t2tjvZQto4rw2XzqDio+IBzalZ/xRPKkWuvutVwOEqV7s0nMHPmQVGoSDsGZ
 gu8R3JrFVXngkJCa7tdeFfY+2n7NtCBDg2Dqu/31R
X-Google-Smtp-Source: AGHT+IEsNcytUH4J82S/M0n/wu5eEiR8Aqnc+MMUQOt8RD7IF8me5Hnadk0DT2uTJDHUMS2qC6Iz7soHkHOp
X-Received: by 2002:a05:6602:140b:b0:82a:2a67:9429 with SMTP id
 ca18e2360f4ac-83e6c2769a9mr646082839f.5.1731761060721; 
 Sat, 16 Nov 2024 04:44:20 -0800 (PST)
Received: from postal.iol.unh.edu (postal.iol.unh.edu. [132.177.123.84])
 by smtp-relay.gmail.com with ESMTPS id
 ca18e2360f4ac-83e6e127b28sm18008839f.27.2024.11.16.04.44.20
 (version=TLS1_2 cipher=ECDHE-ECDSA-AES128-GCM-SHA256 bits=128/128);
 Sat, 16 Nov 2024 04:44:20 -0800 (PST)
X-Relaying-Domain: iol.unh.edu
Date: Sat, 16 Nov 2024 04:44:20 -0800 (PST)
Message-ID: <673893a4.050a0220.2a8af8.80efSMTPIN_ADDED_MISSING@mx.google.com>
Received: from [172.17.0.2] (unknown [172.18.0.217])
 by postal.iol.unh.edu (Postfix) with ESMTP id 333086052471;
 Sat, 16 Nov 2024 07:44:20 -0500 (EST)
Subject: |SUCCESS| pw148486-148487 [PATCH] [v2,2/2] common/cnxk: add mailbox 
From: dpdklab@iol.unh.edu
To: Test Report <test-report@dpdk.org>
Cc: dpdk-test-reports@iol.unh.edu
In-Reply-To: <20241114093154.177536-2-hkalra@marvell.com>
References: <20241114093154.177536-2-hkalra@marvell.com>
Content-Type: text/plain
X-BeenThere: test-report@dpdk.org
X-Mailman-Version: 2.1.29
Precedence: list
List-Id: automatic DPDK test reports <test-report.dpdk.org>
List-Unsubscribe: <https://mails.dpdk.org/options/test-report>,
 <mailto:test-report-request@dpdk.org?subject=unsubscribe>
List-Archive: <http://mails.dpdk.org/archives/test-report/>
List-Post: <mailto:test-report@dpdk.org>
List-Help: <mailto:test-report-request@dpdk.org?subject=help>
List-Subscribe: <https://mails.dpdk.org/listinfo/test-report>,
 <mailto:test-report-request@dpdk.org?subject=subscribe>
Errors-To: test-report-bounces@dpdk.org

Test-Label: iol-compile-amd64-testing
Test-Status: SUCCESS
http://dpdk.org/patch/148487

_Testing PASS_

Submitter: Harman Kalra <hkalra@marvell.com>
Date: Thursday, November 14 2024 09:31:53 
DPDK git baseline: Repo:dpdk
  Branch: master
  CommitID:e44189836424fa8c30a3ace643c25defe0c618f2

148486-148487 --> testing pass

Upstream job id: Windows-Compile-DPDK-VS#4084

Test environment and result as below:

+---------------------+--------------------+------------------+-------------------+-------------------+
|     Environment     | dpdk_meson_compile | dpdk_compile_ovs | dpdk_compile_spdk | dpdk_msvc_compile |
+=====================+====================+==================+===================+===================+
| FreeBSD 13.4        | PASS               | SKIPPED          | SKIPPED           | SKIPPED           |
+---------------------+--------------------+------------------+-------------------+-------------------+
| FreeBSD 14.1        | PASS               | SKIPPED          | SKIPPED           | SKIPPED           |
+---------------------+--------------------+------------------+-------------------+-------------------+
| CentOS Stream 9     | PASS               | PASS             | PASS              | SKIPPED           |
+---------------------+--------------------+------------------+-------------------+-------------------+
| Fedora 39           | PASS               | PASS             | PASS              | SKIPPED           |
+---------------------+--------------------+------------------+-------------------+-------------------+
| Fedora 40 (Clang)   | PASS               | PASS             | PASS              | SKIPPED           |
+---------------------+--------------------+------------------+-------------------+-------------------+
| Fedora 40           | PASS               | PASS             | PASS              | SKIPPED           |
+---------------------+--------------------+------------------+-------------------+-------------------+
| openSUSE Leap 15    | PASS               | PASS             | SKIPPED           | SKIPPED           |
+---------------------+--------------------+------------------+-------------------+-------------------+
| RHEL8               | PASS               | PASS             | SKIPPED           | SKIPPED           |
+---------------------+--------------------+------------------+-------------------+-------------------+
| RHEL9               | PASS               | PASS             | SKIPPED           | SKIPPED           |
+---------------------+--------------------+------------------+-------------------+-------------------+
| Ubuntu 20.04        | PASS               | PASS             | SKIPPED           | SKIPPED           |
+---------------------+--------------------+------------------+-------------------+-------------------+
| Ubuntu 22.04        | PASS               | PASS             | PASS              | SKIPPED           |
+---------------------+--------------------+------------------+-------------------+-------------------+
| Alpine              | PASS               | PASS             | SKIPPED           | SKIPPED           |
+---------------------+--------------------+------------------+-------------------+-------------------+
| Debian 12           | PASS               | PASS             | PASS              | SKIPPED           |
+---------------------+--------------------+------------------+-------------------+-------------------+
| Fedora 39 (Clang)   | PASS               | PASS             | PASS              | SKIPPED           |
+---------------------+--------------------+------------------+-------------------+-------------------+
| Ubuntu 24.04        | PASS               | PASS             | PASS              | SKIPPED           |
+---------------------+--------------------+------------------+-------------------+-------------------+
| Windows Server 2022 | SKIPPED            | SKIPPED          | SKIPPED           | PASS              |
+---------------------+--------------------+------------------+-------------------+-------------------+


FreeBSD 13.4
	Kernel: 13.4-RELEASE-p1
	Compiler: clang 18.1.6

FreeBSD 14.1
	Kernel: 14.1-RELEASE-p3
	Compiler: clang 18.1.5

CentOS Stream 9
	Kernel: Depends on container host
	Compiler: gcc 11.4.1 20231218 (Red Hat 11.4.1-3)

Fedora 39
	Kernel: Depends on container host
	Compiler: gcc 13.3.1 20240522 (Red Hat 13.3.1-1)

Fedora 40 (Clang)
	Kernel: Depends on container host
	Compiler: clang 18.1.6 (Fedora 18.1.6-3.fc40)

Fedora 40
	Kernel: Depends on container host
	Compiler: gcc 14.2.1 20240801 (Red Hat 14.2.1-1)

openSUSE Leap 15
	Kernel: Depends on container host
	Compiler: gcc (SUSE Linux) 7.5.0

RHEL8
	Kernel: Depends on container host
	Compiler: gcc 8.5.0 20210514 (Red Hat 8.5.0-22)

RHEL9
	Kernel: Depends on container host
	Compiler: gcc 11.4.1 20231218 (Red Hat 11.4.1-3)

Ubuntu 20.04
	Kernel: Depends on container host
	Compiler: gcc (Ubuntu 9.4.0-1ubuntu1~20.04.2) 9.4.0

Ubuntu 22.04
	Kernel: Depends on container host
	Compiler: gcc (Ubuntu 11.4.0-1ubuntu1~22.04) 11.4.0

Alpine
	Kernel: Depends on container host
	Compiler: gcc (Alpine 13.2.1_git20240309) 13.2.1 20240309

Debian 12
	Kernel: Depends on container host
	Compiler: gcc (Debian 12.2.0-14) 12.2.0

Fedora 39 (Clang)
	Kernel: Depends on container host
	Compiler: clang 17.0.6 (Fedora 17.0.6-2.fc39)

Ubuntu 24.04
	Kernel: Depends on container host
	Compiler: gcc (Ubuntu 13.2.0-23ubuntu4) 13.2.0

Windows Server 2022
	Kernel: 10.0.20348.2031
	Compiler: clang 15.0.7, gcc 14.1.0 (MinGW), and MSVC VS 19.39.33521

To view detailed results, visit:
https://lab.dpdk.org/results/dashboard/patchsets/31934/

UNH-IOL DPDK Community Lab

To manage your email subscriptions, visit: 
https://lab.dpdk.org/results/dashboard/preferences/subscriptions/