From mboxrd@z Thu Jan  1 00:00:00 1970
Return-Path: <test-report-bounces@dpdk.org>
Received: from mails.dpdk.org (mails.dpdk.org [217.70.189.124])
	by inbox.dpdk.org (Postfix) with ESMTP id 8B15145D21
	for <public@inbox.dpdk.org>; Sat, 16 Nov 2024 14:10:11 +0100 (CET)
Received: from mails.dpdk.org (localhost [127.0.0.1])
	by mails.dpdk.org (Postfix) with ESMTP id 63DA8402E3;
	Sat, 16 Nov 2024 14:10:11 +0100 (CET)
Received: from mail-il1-f228.google.com (mail-il1-f228.google.com
 [209.85.166.228])
 by mails.dpdk.org (Postfix) with ESMTP id 61436402AB
 for <test-report@dpdk.org>; Sat, 16 Nov 2024 14:10:09 +0100 (CET)
Received: by mail-il1-f228.google.com with SMTP id
 e9e14a558f8ab-3a75cad5eddso583545ab.3
 for <test-report@dpdk.org>; Sat, 16 Nov 2024 05:10:09 -0800 (PST)
DKIM-Signature: v=1; a=rsa-sha256; c=relaxed/relaxed;
 d=iol.unh.edu; s=unh-iol; t=1731762609; x=1732367409; darn=dpdk.org;
 h=references:in-reply-to:cc:to:from:subject:message-id:date:from:to
 :cc:subject:date:message-id:reply-to;
 bh=csglUuJqricPg/ha6Ww4Kp+M8NR30SFkKxVhPk6Z8dw=;
 b=So1JDAcwt9hYJJ/DmNU+nzT+fyq7Z4NIStKIjfDChNS/Qh0HH71j3cppPvafV+rkkq
 oUa+Nh6E4vK/x2OMJkYipUGnZPOoi34eKo6+U0Wv9e4EccZgaqWvN+HOty97+vt/Wwct
 ESaTl0g380eILHZyTC3EUR3X9xkbqFGyhwtq8=
X-Google-DKIM-Signature: v=1; a=rsa-sha256; c=relaxed/relaxed;
 d=1e100.net; s=20230601; t=1731762609; x=1732367409;
 h=references:in-reply-to:cc:to:from:subject:message-id:date
 :x-gm-message-state:from:to:cc:subject:date:message-id:reply-to;
 bh=csglUuJqricPg/ha6Ww4Kp+M8NR30SFkKxVhPk6Z8dw=;
 b=VH2qQHqfOo6+mG0bceROrO855Md6tM04/1D+2wO3JCeTho4dEDMR0U5QfucDUYPWo+
 LuXAUGpftAoB6WPPHMNpnbabkefLuXGl8QzQY9glcZc96v5fMjrX2zMRXkFeIGkvGghf
 6ftpTB956RJt7ds0fvxQUp8Illh3HHBU0BslxwdbGRbIvruS/+3KIFi1F/vSrp0oT2sm
 K6Xoy/Z2nxFOJtsIuQFZ9h9/hRKvNK5x2n148j30q7vTHc+xnZF7pANFHXCFICsDUS8E
 eKkzn8rcWAsU6AjkDKySlQttuX1OkIgVMBxM1lJWPB6XDSe87KbrC2110sYz2EztbWHh
 yTrA==
X-Gm-Message-State: AOJu0Yy8ccd9k+LSnsxecB9qYZZzuxMD994HlK4Dk2OgTaK+IWct5uYy
 tTwZlarv2qKuikOXmpqWtxf3XM2I6GV28IIi8PVNkqsY56/O6Mq8AG8TViqMCV914O385grSSYM
 Zx9z0khSiakihCF6vObsi/U4YSrAAX3cyUC89C/EXeG5mmgfALNpYw6Wd
X-Google-Smtp-Source: AGHT+IEJHjObFLyeCjRJulwLnfH2QMOiKOiNBuD4CrSyvakUOOJG0alcG8SaNkGVIoSfElRPvf7EJfZZ5MIH
X-Received: by 2002:a92:c248:0:b0:3a2:7651:9867 with SMTP id
 e9e14a558f8ab-3a748058186mr54028725ab.13.1731762608668; 
 Sat, 16 Nov 2024 05:10:08 -0800 (PST)
Received: from postal.iol.unh.edu (postal.iol.unh.edu.
 [2606:4100:3880:1234::84]) by smtp-relay.gmail.com with ESMTPS id
 8926c6da1cb9f-4e0756c1458sm202278173.66.2024.11.16.05.10.08
 (version=TLS1_2 cipher=ECDHE-ECDSA-AES128-GCM-SHA256 bits=128/128);
 Sat, 16 Nov 2024 05:10:08 -0800 (PST)
X-Relaying-Domain: iol.unh.edu
Date: Sat, 16 Nov 2024 05:10:08 -0800 (PST)
Message-ID: <673899b0.050a0220.2871ba.92a8SMTPIN_ADDED_MISSING@mx.google.com>
Received: from [172.17.0.2] (unknown [172.18.0.217])
 by postal.iol.unh.edu (Postfix) with ESMTP id 1BD946052471;
 Sat, 16 Nov 2024 08:10:08 -0500 (EST)
Subject: |SUCCESS| pw148506-148507 [PATCH] [v2,2/2] net/e1000: fix incorrect 
From: dpdklab@iol.unh.edu
To: Test Report <test-report@dpdk.org>
Cc: dpdk-test-reports@iol.unh.edu
In-Reply-To: <20241114171342.19767-3-stephen@networkplumber.org>
References: <20241114171342.19767-3-stephen@networkplumber.org>
Content-Type: text/plain
X-BeenThere: test-report@dpdk.org
X-Mailman-Version: 2.1.29
Precedence: list
List-Id: automatic DPDK test reports <test-report.dpdk.org>
List-Unsubscribe: <https://mails.dpdk.org/options/test-report>,
 <mailto:test-report-request@dpdk.org?subject=unsubscribe>
List-Archive: <http://mails.dpdk.org/archives/test-report/>
List-Post: <mailto:test-report@dpdk.org>
List-Help: <mailto:test-report-request@dpdk.org?subject=help>
List-Subscribe: <https://mails.dpdk.org/listinfo/test-report>,
 <mailto:test-report-request@dpdk.org?subject=subscribe>
Errors-To: test-report-bounces@dpdk.org

Test-Label: iol-unit-amd64-testing
Test-Status: SUCCESS
http://dpdk.org/patch/148507

_Testing PASS_

Submitter: Stephen Hemminger <stephen@networkplumber.org>
Date: Thursday, November 14 2024 17:11:55 
DPDK git baseline: Repo:dpdk
  Branch: master
  CommitID:c5df7a373ad07413d9652479272cd16adf989b06

148506-148507 --> testing pass

Upstream job id: Generic-VM-Unit-Test-DPDK#26238

Test environment and result as below:

+---------------------+----------------+
|     Environment     | dpdk_unit_test |
+=====================+================+
| Fedora 40 (Clang)   | PASS           |
+---------------------+----------------+
| Debian 12           | PASS           |
+---------------------+----------------+
| CentOS Stream 9     | PASS           |
+---------------------+----------------+
| Fedora 39 (Clang)   | PASS           |
+---------------------+----------------+
| Ubuntu 20.04        | PASS           |
+---------------------+----------------+
| Ubuntu 22.04        | PASS           |
+---------------------+----------------+
| Fedora 40           | PASS           |
+---------------------+----------------+
| RHEL9               | PASS           |
+---------------------+----------------+
| Fedora 39           | PASS           |
+---------------------+----------------+
| RHEL8               | PASS           |
+---------------------+----------------+
| Ubuntu 24.04        | PASS           |
+---------------------+----------------+
| Windows Server 2022 | PASS           |
+---------------------+----------------+


Fedora 40 (Clang)
	Kernel: Depends on container host
	Compiler: clang 18.1.6 (Fedora 18.1.6-3.fc40)

Debian 12
	Kernel: Depends on container host
	Compiler: gcc (Debian 12.2.0-14) 12.2.0

CentOS Stream 9
	Kernel: Depends on container host
	Compiler: gcc 11.4.1 20231218 (Red Hat 11.4.1-3)

Fedora 39 (Clang)
	Kernel: Depends on container host
	Compiler: clang 17.0.6 (Fedora 17.0.6-2.fc39)

Ubuntu 20.04
	Kernel: Depends on container host
	Compiler: gcc (Ubuntu 9.4.0-1ubuntu1~20.04.2) 9.4.0

Ubuntu 22.04
	Kernel: Depends on container host
	Compiler: gcc (Ubuntu 11.4.0-1ubuntu1~22.04) 11.4.0

Fedora 40
	Kernel: Depends on container host
	Compiler: gcc 14.2.1 20240801 (Red Hat 14.2.1-1)

RHEL9
	Kernel: Depends on container host
	Compiler: gcc 11.4.1 20231218 (Red Hat 11.4.1-3)

Fedora 39
	Kernel: Depends on container host
	Compiler: gcc 13.3.1 20240522 (Red Hat 13.3.1-1)

RHEL8
	Kernel: Depends on container host
	Compiler: gcc 8.5.0 20210514 (Red Hat 8.5.0-22)

Ubuntu 24.04
	Kernel: Depends on container host
	Compiler: gcc (Ubuntu 13.2.0-23ubuntu4) 13.2.0

Windows Server 2022
	Kernel: 10.0.20348.2031
	Compiler: clang 15.0.7, gcc 14.1.0 (MinGW), and MSVC VS 19.39.33521

To view detailed results, visit:
https://lab.dpdk.org/results/dashboard/patchsets/31940/

UNH-IOL DPDK Community Lab

To manage your email subscriptions, visit: 
https://lab.dpdk.org/results/dashboard/preferences/subscriptions/