From mboxrd@z Thu Jan  1 00:00:00 1970
Return-Path: <test-report-bounces@dpdk.org>
Received: from mails.dpdk.org (mails.dpdk.org [217.70.189.124])
	by inbox.dpdk.org (Postfix) with ESMTP id 0BB4945D22
	for <public@inbox.dpdk.org>; Sat, 16 Nov 2024 16:06:20 +0100 (CET)
Received: from mails.dpdk.org (localhost [127.0.0.1])
	by mails.dpdk.org (Postfix) with ESMTP id E5CC1402E3;
	Sat, 16 Nov 2024 16:06:19 +0100 (CET)
Received: from mail-il1-f226.google.com (mail-il1-f226.google.com
 [209.85.166.226])
 by mails.dpdk.org (Postfix) with ESMTP id 5FEB5402AB
 for <test-report@dpdk.org>; Sat, 16 Nov 2024 16:06:19 +0100 (CET)
Received: by mail-il1-f226.google.com with SMTP id
 e9e14a558f8ab-3a6e960fb5dso2478845ab.0
 for <test-report@dpdk.org>; Sat, 16 Nov 2024 07:06:19 -0800 (PST)
DKIM-Signature: v=1; a=rsa-sha256; c=relaxed/relaxed;
 d=iol.unh.edu; s=unh-iol; t=1731769578; x=1732374378; darn=dpdk.org;
 h=references:in-reply-to:cc:to:from:subject:message-id:date:from:to
 :cc:subject:date:message-id:reply-to;
 bh=TANGgZLqSL16u1xT9l2frZ71ZkOrsvMKpoc+2dG50Ik=;
 b=YRowJ7L6fmhraLrH/nBnQ/u+XHt8EalEsFgW0Sdxw2DSGPcddNkrwtWaW4qrhDRtKY
 ekqHih9r0bq0b0rylMFH6BCE+DjT8BdjJjViz8K6UdGsPVBDgP4sb1kaK3dNi+AfkRNc
 piw5ZD9xwB6Gku+B9pY9v0swvaVvHfTfxXv8A=
X-Google-DKIM-Signature: v=1; a=rsa-sha256; c=relaxed/relaxed;
 d=1e100.net; s=20230601; t=1731769578; x=1732374378;
 h=references:in-reply-to:cc:to:from:subject:message-id:date
 :x-gm-message-state:from:to:cc:subject:date:message-id:reply-to;
 bh=TANGgZLqSL16u1xT9l2frZ71ZkOrsvMKpoc+2dG50Ik=;
 b=vzhiCO4jdcFh+ucD4Yp0uZHrpiTPRakCQwWpAPrJ9AC26yB8vUrB7dE36sE95KiGlC
 CnxSe3qOnXXQ0a7Q5vAHOdudWxsHlN1VUb9Svi7GLO6kTmiC2pJaRGCN2yKa9mwwem6L
 iGI5mXa0OcPUUnEJe1+VuwTpGdBZYy+mWHLIdsMnUk2InabDW+Ug/2ksn+DGuj1msgE2
 527zIzxFUvPGd9vvEmckVH55zdoloSDc7r+mPuYJJ6uZVGZYXY9nHabxj2zniJZ0XO3a
 8Y6nKU2f2jlYuZ8vUGkGaFYRpHKVvzzmxZF6y3NdnVl6N5LC430OrHMZ0tkBp/CP/rgI
 entA==
X-Gm-Message-State: AOJu0YyUxQvx7uCt3J/WrIlVTNuDAbWzVWSd0DCZlDRs/CYGIHphsGPD
 FWZFY5xG/LOjxtWhESEeZ82mDK6WPOmKKcE539COnAJFww1kooDNPKqfq4FXQo0W2DIvcX1y0U1
 F3uX0B+a3t5J9O1cNzdasLSxo5MicfQAaI/KK/pZP
X-Google-Smtp-Source: AGHT+IEiWlp1kC8qhwPkNMYfsnccsjShsEqD+DkHrcINI3Nu+dhJ3pGWex7huouQhXAxq8pXkeP29T0l/nkZ
X-Received: by 2002:a05:6e02:1545:b0:3a7:21c2:a3de with SMTP id
 e9e14a558f8ab-3a748002896mr59118405ab.4.1731769578695; 
 Sat, 16 Nov 2024 07:06:18 -0800 (PST)
Received: from postal.iol.unh.edu (postal.iol.unh.edu. [132.177.123.84])
 by smtp-relay.gmail.com with ESMTPS id
 e9e14a558f8ab-3a75c9f6548sm206625ab.49.2024.11.16.07.06.18
 (version=TLS1_2 cipher=ECDHE-ECDSA-AES128-GCM-SHA256 bits=128/128);
 Sat, 16 Nov 2024 07:06:18 -0800 (PST)
X-Relaying-Domain: iol.unh.edu
Date: Sat, 16 Nov 2024 07:06:18 -0800 (PST)
Message-ID: <6738b4ea.920a0220.1010d2.154bSMTPIN_ADDED_MISSING@mx.google.com>
Received: from [172.17.0.2] (unknown [172.18.0.217])
 by postal.iol.unh.edu (Postfix) with ESMTP id 28E966052471;
 Sat, 16 Nov 2024 10:06:18 -0500 (EST)
Subject: |SUCCESS| pw148486-148487 [PATCH] [v2,2/2] common/cnxk: add mailbox 
From: dpdklab@iol.unh.edu
To: Test Report <test-report@dpdk.org>
Cc: dpdk-test-reports@iol.unh.edu
In-Reply-To: <20241114093154.177536-2-hkalra@marvell.com>
References: <20241114093154.177536-2-hkalra@marvell.com>
Content-Type: text/plain
X-BeenThere: test-report@dpdk.org
X-Mailman-Version: 2.1.29
Precedence: list
List-Id: automatic DPDK test reports <test-report.dpdk.org>
List-Unsubscribe: <https://mails.dpdk.org/options/test-report>,
 <mailto:test-report-request@dpdk.org?subject=unsubscribe>
List-Archive: <http://mails.dpdk.org/archives/test-report/>
List-Post: <mailto:test-report@dpdk.org>
List-Help: <mailto:test-report-request@dpdk.org?subject=help>
List-Subscribe: <https://mails.dpdk.org/listinfo/test-report>,
 <mailto:test-report-request@dpdk.org?subject=subscribe>
Errors-To: test-report-bounces@dpdk.org

Test-Label: iol-compile-amd64-testing
Test-Status: SUCCESS
http://dpdk.org/patch/148487

_Testing PASS_

Submitter: Harman Kalra <hkalra@marvell.com>
Date: Thursday, November 14 2024 09:31:53 
DPDK git baseline: Repo:dpdk
  Branch: master
  CommitID:e44189836424fa8c30a3ace643c25defe0c618f2

148486-148487 --> testing pass

Upstream job id: Windows-Compile-DPDK-Native#24606

Test environment and result as below:

+---------------------+--------------------+------------------+-------------------+-------------------+----------------------+-----------------------+
|     Environment     | dpdk_meson_compile | dpdk_compile_ovs | dpdk_compile_spdk | dpdk_msvc_compile | dpdk_mingw64_compile | dpdk_win_llvm_compile |
+=====================+====================+==================+===================+===================+======================+=======================+
| FreeBSD 13.4        | PASS               | SKIPPED          | SKIPPED           | SKIPPED           | SKIPPED              | SKIPPED               |
+---------------------+--------------------+------------------+-------------------+-------------------+----------------------+-----------------------+
| FreeBSD 14.1        | PASS               | SKIPPED          | SKIPPED           | SKIPPED           | SKIPPED              | SKIPPED               |
+---------------------+--------------------+------------------+-------------------+-------------------+----------------------+-----------------------+
| CentOS Stream 9     | PASS               | PASS             | PASS              | SKIPPED           | SKIPPED              | SKIPPED               |
+---------------------+--------------------+------------------+-------------------+-------------------+----------------------+-----------------------+
| Fedora 39           | PASS               | PASS             | PASS              | SKIPPED           | SKIPPED              | SKIPPED               |
+---------------------+--------------------+------------------+-------------------+-------------------+----------------------+-----------------------+
| Fedora 40 (Clang)   | PASS               | PASS             | PASS              | SKIPPED           | SKIPPED              | SKIPPED               |
+---------------------+--------------------+------------------+-------------------+-------------------+----------------------+-----------------------+
| Fedora 40           | PASS               | PASS             | PASS              | SKIPPED           | SKIPPED              | SKIPPED               |
+---------------------+--------------------+------------------+-------------------+-------------------+----------------------+-----------------------+
| openSUSE Leap 15    | PASS               | PASS             | SKIPPED           | SKIPPED           | SKIPPED              | SKIPPED               |
+---------------------+--------------------+------------------+-------------------+-------------------+----------------------+-----------------------+
| RHEL8               | PASS               | PASS             | SKIPPED           | SKIPPED           | SKIPPED              | SKIPPED               |
+---------------------+--------------------+------------------+-------------------+-------------------+----------------------+-----------------------+
| RHEL9               | PASS               | PASS             | SKIPPED           | SKIPPED           | SKIPPED              | SKIPPED               |
+---------------------+--------------------+------------------+-------------------+-------------------+----------------------+-----------------------+
| Ubuntu 20.04        | PASS               | PASS             | SKIPPED           | SKIPPED           | SKIPPED              | SKIPPED               |
+---------------------+--------------------+------------------+-------------------+-------------------+----------------------+-----------------------+
| Ubuntu 22.04        | PASS               | PASS             | PASS              | SKIPPED           | SKIPPED              | SKIPPED               |
+---------------------+--------------------+------------------+-------------------+-------------------+----------------------+-----------------------+
| Alpine              | PASS               | PASS             | SKIPPED           | SKIPPED           | SKIPPED              | SKIPPED               |
+---------------------+--------------------+------------------+-------------------+-------------------+----------------------+-----------------------+
| Debian 12           | PASS               | PASS             | PASS              | SKIPPED           | SKIPPED              | SKIPPED               |
+---------------------+--------------------+------------------+-------------------+-------------------+----------------------+-----------------------+
| Fedora 39 (Clang)   | PASS               | PASS             | PASS              | SKIPPED           | SKIPPED              | SKIPPED               |
+---------------------+--------------------+------------------+-------------------+-------------------+----------------------+-----------------------+
| Ubuntu 24.04        | PASS               | PASS             | PASS              | SKIPPED           | SKIPPED              | SKIPPED               |
+---------------------+--------------------+------------------+-------------------+-------------------+----------------------+-----------------------+
| Windows Server 2022 | SKIPPED            | SKIPPED          | SKIPPED           | PASS              | PASS                 | PASS                  |
+---------------------+--------------------+------------------+-------------------+-------------------+----------------------+-----------------------+


FreeBSD 13.4
	Kernel: 13.4-RELEASE-p1
	Compiler: clang 18.1.6

FreeBSD 14.1
	Kernel: 14.1-RELEASE-p3
	Compiler: clang 18.1.5

CentOS Stream 9
	Kernel: Depends on container host
	Compiler: gcc 11.4.1 20231218 (Red Hat 11.4.1-3)

Fedora 39
	Kernel: Depends on container host
	Compiler: gcc 13.3.1 20240522 (Red Hat 13.3.1-1)

Fedora 40 (Clang)
	Kernel: Depends on container host
	Compiler: clang 18.1.6 (Fedora 18.1.6-3.fc40)

Fedora 40
	Kernel: Depends on container host
	Compiler: gcc 14.2.1 20240801 (Red Hat 14.2.1-1)

openSUSE Leap 15
	Kernel: Depends on container host
	Compiler: gcc (SUSE Linux) 7.5.0

RHEL8
	Kernel: Depends on container host
	Compiler: gcc 8.5.0 20210514 (Red Hat 8.5.0-22)

RHEL9
	Kernel: Depends on container host
	Compiler: gcc 11.4.1 20231218 (Red Hat 11.4.1-3)

Ubuntu 20.04
	Kernel: Depends on container host
	Compiler: gcc (Ubuntu 9.4.0-1ubuntu1~20.04.2) 9.4.0

Ubuntu 22.04
	Kernel: Depends on container host
	Compiler: gcc (Ubuntu 11.4.0-1ubuntu1~22.04) 11.4.0

Alpine
	Kernel: Depends on container host
	Compiler: gcc (Alpine 13.2.1_git20240309) 13.2.1 20240309

Debian 12
	Kernel: Depends on container host
	Compiler: gcc (Debian 12.2.0-14) 12.2.0

Fedora 39 (Clang)
	Kernel: Depends on container host
	Compiler: clang 17.0.6 (Fedora 17.0.6-2.fc39)

Ubuntu 24.04
	Kernel: Depends on container host
	Compiler: gcc (Ubuntu 13.2.0-23ubuntu4) 13.2.0

Windows Server 2022
	Kernel: 10.0.20348.2031
	Compiler: clang 15.0.7, gcc 14.1.0 (MinGW), and MSVC VS 19.39.33521

To view detailed results, visit:
https://lab.dpdk.org/results/dashboard/patchsets/31934/

UNH-IOL DPDK Community Lab

To manage your email subscriptions, visit: 
https://lab.dpdk.org/results/dashboard/preferences/subscriptions/