From mboxrd@z Thu Jan  1 00:00:00 1970
Return-Path: <test-report-bounces@dpdk.org>
Received: from mails.dpdk.org (mails.dpdk.org [217.70.189.124])
	by inbox.dpdk.org (Postfix) with ESMTP id 0E59B45CE9
	for <public@inbox.dpdk.org>; Sat, 16 Nov 2024 16:43:23 +0100 (CET)
Received: from mails.dpdk.org (localhost [127.0.0.1])
	by mails.dpdk.org (Postfix) with ESMTP id 0B44040270;
	Sat, 16 Nov 2024 16:43:23 +0100 (CET)
Received: from mail-qv1-f100.google.com (mail-qv1-f100.google.com
 [209.85.219.100])
 by mails.dpdk.org (Postfix) with ESMTP id 2265940269
 for <test-report@dpdk.org>; Sat, 16 Nov 2024 16:43:22 +0100 (CET)
Received: by mail-qv1-f100.google.com with SMTP id
 6a1803df08f44-6d382677c92so5165536d6.3
 for <test-report@dpdk.org>; Sat, 16 Nov 2024 07:43:22 -0800 (PST)
DKIM-Signature: v=1; a=rsa-sha256; c=relaxed/relaxed;
 d=iol.unh.edu; s=unh-iol; t=1731771801; x=1732376601; darn=dpdk.org;
 h=references:in-reply-to:cc:to:from:subject:message-id:date:from:to
 :cc:subject:date:message-id:reply-to;
 bh=gduPRGKCimIxaS99LC3PAnRXjbcxXQ3V/4+GDPdFQ1w=;
 b=T/l+Amo2VOVYtX5Hxp98biCxy8mksWUv3uGoQKmjJvkzB96lEKjkHxfjHOcFL/2IyY
 ELTdtnE2C219eIjW+g18uEmMfSCGlWUvrZqeswJNzRT+zd5qqR8dt19EF9cR/iEx270j
 as+vqAURabRCCOzRjJsxxTgroNC4R+euRJklQ=
X-Google-DKIM-Signature: v=1; a=rsa-sha256; c=relaxed/relaxed;
 d=1e100.net; s=20230601; t=1731771801; x=1732376601;
 h=references:in-reply-to:cc:to:from:subject:message-id:date
 :x-gm-message-state:from:to:cc:subject:date:message-id:reply-to;
 bh=gduPRGKCimIxaS99LC3PAnRXjbcxXQ3V/4+GDPdFQ1w=;
 b=PeO/fHLE6hD6k1XU/JCgj1PjqxZ1qALMKjLCDbCGFs1fUENkN9r5l0blEhkfhujAK/
 tHpYxFMMVg8GnF1KmfXUFhDuYcz8z+uO92MiZLXhBLn2Aj531xfamVZLHItBpsaGze8D
 lmtkZLY6YkyXWsefQfXQLTjZzRlyk8aqrqAKa5fPRJKB0DcqSaBweNmrZp2or0yQZQir
 f0nJy3AiECoyAg9tq4kA5FIvsFcU1z3bN7cczhZpKUOev/V3sKAojjMJTzU5zuVM4KwY
 Z0HoJCaamPv1u4RM0TNv05GV2S/ocO4z3sVH6XTOmjszSsdhbhZFIOeGoEhgkqe7Fd0g
 aYrA==
X-Gm-Message-State: AOJu0YyOMJpar4wlZKSuNCjq/12zXHKULv+Tf4oRHZ/Lxe7u5MPcXdMH
 SNxGeBNW8S1OePK22iHGxZ7vSMzMm41IfOzbcsowglzIrYDD0Nrrmy5Slg0t0TA+UwwORCHR3gQ
 02yuW5PK9H+k0yRbML8K5TlVjV1+gd21OXLDGvOBi
X-Google-Smtp-Source: AGHT+IEnbT0eG9r6BY4X7192vhjN917Yc4ElqYcszf3dHu87zyI/9Xvyh2smcK8xITiLF+C/kZARjpGD3ghX
X-Received: by 2002:a05:6214:3992:b0:6d3:f904:5359 with SMTP id
 6a1803df08f44-6d3fb821c77mr94443736d6.33.1731771801467; 
 Sat, 16 Nov 2024 07:43:21 -0800 (PST)
Received: from postal.iol.unh.edu (postal.iol.unh.edu. [132.177.123.84])
 by smtp-relay.gmail.com with ESMTPS id
 6a1803df08f44-6d40dcad418sm706816d6.65.2024.11.16.07.43.21
 (version=TLS1_2 cipher=ECDHE-ECDSA-AES128-GCM-SHA256 bits=128/128);
 Sat, 16 Nov 2024 07:43:21 -0800 (PST)
X-Relaying-Domain: iol.unh.edu
Date: Sat, 16 Nov 2024 07:43:21 -0800 (PST)
Message-ID: <6738bd99.050a0220.1c22b1.4d2bSMTPIN_ADDED_MISSING@mx.google.com>
Received: from [172.17.0.2] (unknown [172.18.0.217])
 by postal.iol.unh.edu (Postfix) with ESMTP id 346256052471;
 Sat, 16 Nov 2024 10:43:21 -0500 (EST)
Subject: |WARNING| pw148478-148480 [PATCH] [v4,3/3] test/graph: fix graph aut
From: dpdklab@iol.unh.edu
To: Test Report <test-report@dpdk.org>
Cc: dpdk-test-reports@iol.unh.edu
In-Reply-To: <20241114090806.3266673-3-kirankumark@marvell.com>
References: <20241114090806.3266673-3-kirankumark@marvell.com>
Content-Type: text/plain
X-BeenThere: test-report@dpdk.org
X-Mailman-Version: 2.1.29
Precedence: list
List-Id: automatic DPDK test reports <test-report.dpdk.org>
List-Unsubscribe: <https://mails.dpdk.org/options/test-report>,
 <mailto:test-report-request@dpdk.org?subject=unsubscribe>
List-Archive: <http://mails.dpdk.org/archives/test-report/>
List-Post: <mailto:test-report@dpdk.org>
List-Help: <mailto:test-report-request@dpdk.org?subject=help>
List-Subscribe: <https://mails.dpdk.org/listinfo/test-report>,
 <mailto:test-report-request@dpdk.org?subject=subscribe>
Errors-To: test-report-bounces@dpdk.org

Test-Label: iol-compile-amd64-testing
Test-Status: WARNING
http://dpdk.org/patch/148480

_Testing issues_

Submitter: Kiran Kumar Kokkilagadda <kirankumark@marvell.com>
Date: Thursday, November 14 2024 09:08:06 
DPDK git baseline: Repo:dpdk
  Branch: master
  CommitID:78383e9816a8efe2ba16ec2ce65d51b94e6114e7

148478-148480 --> testing issues

Upstream job id: Windows-Compile-DPDK-Native#24611

Test environment and result as below:

+---------------------+--------------------+------------------+-------------------+-------------------+----------------------+
|     Environment     | dpdk_meson_compile | dpdk_compile_ovs | dpdk_compile_spdk | dpdk_msvc_compile | dpdk_mingw64_compile |
+=====================+====================+==================+===================+===================+======================+
| FreeBSD 13.4        | PASS               | SKIPPED          | SKIPPED           | SKIPPED           | SKIPPED              |
+---------------------+--------------------+------------------+-------------------+-------------------+----------------------+
| FreeBSD 14.1        | PASS               | SKIPPED          | SKIPPED           | SKIPPED           | SKIPPED              |
+---------------------+--------------------+------------------+-------------------+-------------------+----------------------+
| CentOS Stream 9     | PASS               | PASS             | WARN              | SKIPPED           | SKIPPED              |
+---------------------+--------------------+------------------+-------------------+-------------------+----------------------+
| Debian 12           | PASS               | PASS             | WARN              | SKIPPED           | SKIPPED              |
+---------------------+--------------------+------------------+-------------------+-------------------+----------------------+
| Fedora 39 (Clang)   | PASS               | PASS             | WARN              | SKIPPED           | SKIPPED              |
+---------------------+--------------------+------------------+-------------------+-------------------+----------------------+
| Fedora 39           | PASS               | PASS             | WARN              | SKIPPED           | SKIPPED              |
+---------------------+--------------------+------------------+-------------------+-------------------+----------------------+
| Fedora 40 (Clang)   | PASS               | PASS             | WARN              | SKIPPED           | SKIPPED              |
+---------------------+--------------------+------------------+-------------------+-------------------+----------------------+
| Fedora 40           | PASS               | PASS             | WARN              | SKIPPED           | SKIPPED              |
+---------------------+--------------------+------------------+-------------------+-------------------+----------------------+
| openSUSE Leap 15    | PASS               | PASS             | SKIPPED           | SKIPPED           | SKIPPED              |
+---------------------+--------------------+------------------+-------------------+-------------------+----------------------+
| RHEL8               | PASS               | PASS             | SKIPPED           | SKIPPED           | SKIPPED              |
+---------------------+--------------------+------------------+-------------------+-------------------+----------------------+
| RHEL9               | PASS               | PASS             | SKIPPED           | SKIPPED           | SKIPPED              |
+---------------------+--------------------+------------------+-------------------+-------------------+----------------------+
| Ubuntu 20.04        | PASS               | PASS             | SKIPPED           | SKIPPED           | SKIPPED              |
+---------------------+--------------------+------------------+-------------------+-------------------+----------------------+
| Ubuntu 22.04        | PASS               | PASS             | WARN              | SKIPPED           | SKIPPED              |
+---------------------+--------------------+------------------+-------------------+-------------------+----------------------+
| Ubuntu 24.04        | PASS               | PASS             | WARN              | SKIPPED           | SKIPPED              |
+---------------------+--------------------+------------------+-------------------+-------------------+----------------------+
| Alpine              | PASS               | PASS             | SKIPPED           | SKIPPED           | SKIPPED              |
+---------------------+--------------------+------------------+-------------------+-------------------+----------------------+
| Windows Server 2022 | SKIPPED            | SKIPPED          | SKIPPED           | PASS              | PASS                 |
+---------------------+--------------------+------------------+-------------------+-------------------+----------------------+

==== 20 line log output for Ubuntu 24.04 (dpdk_compile_spdk): ====
 --- Failed to get log output --- 
==== End log output ====

FreeBSD 13.4
	Kernel: 13.4-RELEASE-p1
	Compiler: clang 18.1.6

FreeBSD 14.1
	Kernel: 14.1-RELEASE-p3
	Compiler: clang 18.1.5

CentOS Stream 9
	Kernel: Depends on container host
	Compiler: gcc 11.4.1 20231218 (Red Hat 11.4.1-3)

Debian 12
	Kernel: Depends on container host
	Compiler: gcc (Debian 12.2.0-14) 12.2.0

Fedora 39 (Clang)
	Kernel: Depends on container host
	Compiler: clang 17.0.6 (Fedora 17.0.6-2.fc39)

Fedora 39
	Kernel: Depends on container host
	Compiler: gcc 13.3.1 20240522 (Red Hat 13.3.1-1)

Fedora 40 (Clang)
	Kernel: Depends on container host
	Compiler: clang 18.1.6 (Fedora 18.1.6-3.fc40)

Fedora 40
	Kernel: Depends on container host
	Compiler: gcc 14.2.1 20240801 (Red Hat 14.2.1-1)

openSUSE Leap 15
	Kernel: Depends on container host
	Compiler: gcc (SUSE Linux) 7.5.0

RHEL8
	Kernel: Depends on container host
	Compiler: gcc 8.5.0 20210514 (Red Hat 8.5.0-22)

RHEL9
	Kernel: Depends on container host
	Compiler: gcc 11.4.1 20231218 (Red Hat 11.4.1-3)

Ubuntu 20.04
	Kernel: Depends on container host
	Compiler: gcc (Ubuntu 9.4.0-1ubuntu1~20.04.2) 9.4.0

Ubuntu 22.04
	Kernel: Depends on container host
	Compiler: gcc (Ubuntu 11.4.0-1ubuntu1~22.04) 11.4.0

Ubuntu 24.04
	Kernel: Depends on container host
	Compiler: gcc (Ubuntu 13.2.0-23ubuntu4) 13.2.0

Alpine
	Kernel: Depends on container host
	Compiler: gcc (Alpine 13.2.1_git20240309) 13.2.1 20240309

Windows Server 2022
	Kernel: 10.0.20348.2031
	Compiler: clang 15.0.7, gcc 14.1.0 (MinGW), and MSVC VS 19.39.33521

To view detailed results, visit:
https://lab.dpdk.org/results/dashboard/patchsets/31932/

UNH-IOL DPDK Community Lab

To manage your email subscriptions, visit: 
https://lab.dpdk.org/results/dashboard/preferences/subscriptions/