From mboxrd@z Thu Jan  1 00:00:00 1970
Return-Path: <test-report-bounces@dpdk.org>
Received: from mails.dpdk.org (mails.dpdk.org [217.70.189.124])
	by inbox.dpdk.org (Postfix) with ESMTP id A995345D11
	for <public@inbox.dpdk.org>; Sat, 16 Nov 2024 19:38:15 +0100 (CET)
Received: from mails.dpdk.org (localhost [127.0.0.1])
	by mails.dpdk.org (Postfix) with ESMTP id 685DA40270;
	Sat, 16 Nov 2024 19:38:15 +0100 (CET)
Received: from mail-qv1-f100.google.com (mail-qv1-f100.google.com
 [209.85.219.100])
 by mails.dpdk.org (Postfix) with ESMTP id EF93040269
 for <test-report@dpdk.org>; Sat, 16 Nov 2024 19:38:13 +0100 (CET)
Received: by mail-qv1-f100.google.com with SMTP id
 6a1803df08f44-6d415acf76aso4935226d6.0
 for <test-report@dpdk.org>; Sat, 16 Nov 2024 10:38:13 -0800 (PST)
DKIM-Signature: v=1; a=rsa-sha256; c=relaxed/relaxed;
 d=iol.unh.edu; s=unh-iol; t=1731782293; x=1732387093; darn=dpdk.org;
 h=references:in-reply-to:cc:to:from:subject:message-id:date:from:to
 :cc:subject:date:message-id:reply-to;
 bh=7fbfQiy1n5uuVP64lk2iZB0rDAnFj+ZfSt7hpzVrqlI=;
 b=gCSX0UQUvCLQ206CUCLUu9ubozp8MNN3UNJERxbydgI0QWvdS5IuI0EGpcFZZvzVzg
 whWlLUEoZ7qv6LzdNeZvZN8+BKyd46nBkYTgd7Z2Ye6UWVfOnCqeXGNlbQgSsXB2pn6I
 5z4IlNfWzkGtMIeAlReR6zlCsU6xUAtgT3cck=
X-Google-DKIM-Signature: v=1; a=rsa-sha256; c=relaxed/relaxed;
 d=1e100.net; s=20230601; t=1731782293; x=1732387093;
 h=references:in-reply-to:cc:to:from:subject:message-id:date
 :x-gm-message-state:from:to:cc:subject:date:message-id:reply-to;
 bh=7fbfQiy1n5uuVP64lk2iZB0rDAnFj+ZfSt7hpzVrqlI=;
 b=NDd/c4I9d79XSCojDyrmFEwP7X2kiaWZUx5ySGlmriLOlDWYLwWm1EsYa/2Z6zwfon
 9qxHbx+6nkKqs2kyxsoLtmtCPFmrEj2/uflqkQxnV9JtF9NpPYd08TufFDoAEal1QrTH
 q4Ad++snlED8ikwonPib2TzaB5hllpg8oxwEKIGJ3AubWPKE/FhInU3rXi2iN8lq/Hq+
 3COLC9GLsx1sbjN+U/EZATzeIoWTpBsNHgD6+etxgWA2jfqhzfzRKaZiqYNVZOLfIedB
 k80Hf9V6BRJNdvfZxnPKM5Id4o1rQxMpBrCTYrdU49h9WVOvyWulxm0zdHx9TayqGHij
 oVhQ==
X-Gm-Message-State: AOJu0YwKoU1odt3O0tXg0+5RTtC3euROa7ixBrTbIvtgBo0PTI1U9Qw+
 4PCsAIa396rYY46mbzzD5m0fRtaEiirdUdavdzsjhuwStZwo2YvySdOBakeWoqJ1miXKgd9GFz0
 4KI/K7dOMfF2Ix0q3H98kKqdJ+fnOV0lB3y5N6e8O
X-Google-Smtp-Source: AGHT+IFvOobkM/ls4YdsU0zkSRNWnMpO+BR8a9uS6/cBRcCswqXk1ru0N6mRJmlUKnYQCIXOfftss/VD2W4/
X-Received: by 2002:a05:6214:4306:b0:6c5:ab33:5244 with SMTP id
 6a1803df08f44-6d3fb8216bdmr102661446d6.31.1731782293368; 
 Sat, 16 Nov 2024 10:38:13 -0800 (PST)
Received: from postal.iol.unh.edu (postal.iol.unh.edu. [132.177.123.84])
 by smtp-relay.gmail.com with ESMTPS id
 6a1803df08f44-6d40dcac48bsm947216d6.66.2024.11.16.10.38.13
 (version=TLS1_2 cipher=ECDHE-ECDSA-AES128-GCM-SHA256 bits=128/128);
 Sat, 16 Nov 2024 10:38:13 -0800 (PST)
X-Relaying-Domain: iol.unh.edu
Date: Sat, 16 Nov 2024 10:38:13 -0800 (PST)
Message-ID: <6738e695.050a0220.338c0.63baSMTPIN_ADDED_MISSING@mx.google.com>
Received: from [172.17.0.2] (unknown [172.18.0.217])
 by postal.iol.unh.edu (Postfix) with ESMTP id 10E8C6052471;
 Sat, 16 Nov 2024 13:38:13 -0500 (EST)
Subject: |WARNING| pw148453-148463 [PATCH] [v3,11/11] net/ntnic: remove unnec
From: dpdklab@iol.unh.edu
To: Test Report <test-report@dpdk.org>
Cc: dpdk-test-reports@iol.unh.edu
In-Reply-To: <20241114023738.141821-12-stephen@networkplumber.org>
References: <20241114023738.141821-12-stephen@networkplumber.org>
Content-Type: text/plain
X-BeenThere: test-report@dpdk.org
X-Mailman-Version: 2.1.29
Precedence: list
List-Id: automatic DPDK test reports <test-report.dpdk.org>
List-Unsubscribe: <https://mails.dpdk.org/options/test-report>,
 <mailto:test-report-request@dpdk.org?subject=unsubscribe>
List-Archive: <http://mails.dpdk.org/archives/test-report/>
List-Post: <mailto:test-report@dpdk.org>
List-Help: <mailto:test-report-request@dpdk.org?subject=help>
List-Subscribe: <https://mails.dpdk.org/listinfo/test-report>,
 <mailto:test-report-request@dpdk.org?subject=subscribe>
Errors-To: test-report-bounces@dpdk.org

Test-Label: iol-compile-amd64-testing
Test-Status: WARNING
http://dpdk.org/patch/148463

_Testing issues_

Submitter: Stephen Hemminger <stephen@networkplumber.org>
Date: Thursday, November 14 2024 02:36:00 
DPDK git baseline: Repo:dpdk
  Branch: master
  CommitID:78383e9816a8efe2ba16ec2ce65d51b94e6114e7

148453-148463 --> testing issues

Upstream job id: Windows-Compile-DPDK-Native#24632

Test environment and result as below:

+---------------------+--------------------+------------------+-------------------+-------------------+----------------------+-----------------------+
|     Environment     | dpdk_meson_compile | dpdk_compile_ovs | dpdk_compile_spdk | dpdk_msvc_compile | dpdk_mingw64_compile | dpdk_win_llvm_compile |
+=====================+====================+==================+===================+===================+======================+=======================+
| CentOS Stream 9     | PASS               | PASS             | WARN              | SKIPPED           | SKIPPED              | SKIPPED               |
+---------------------+--------------------+------------------+-------------------+-------------------+----------------------+-----------------------+
| Debian 12           | PASS               | PASS             | WARN              | SKIPPED           | SKIPPED              | SKIPPED               |
+---------------------+--------------------+------------------+-------------------+-------------------+----------------------+-----------------------+
| Fedora 39 (Clang)   | PASS               | PASS             | WARN              | SKIPPED           | SKIPPED              | SKIPPED               |
+---------------------+--------------------+------------------+-------------------+-------------------+----------------------+-----------------------+
| Fedora 39           | PASS               | PASS             | WARN              | SKIPPED           | SKIPPED              | SKIPPED               |
+---------------------+--------------------+------------------+-------------------+-------------------+----------------------+-----------------------+
| Fedora 40 (Clang)   | PASS               | PASS             | WARN              | SKIPPED           | SKIPPED              | SKIPPED               |
+---------------------+--------------------+------------------+-------------------+-------------------+----------------------+-----------------------+
| Fedora 40           | PASS               | PASS             | WARN              | SKIPPED           | SKIPPED              | SKIPPED               |
+---------------------+--------------------+------------------+-------------------+-------------------+----------------------+-----------------------+
| openSUSE Leap 15    | PASS               | PASS             | SKIPPED           | SKIPPED           | SKIPPED              | SKIPPED               |
+---------------------+--------------------+------------------+-------------------+-------------------+----------------------+-----------------------+
| RHEL8               | PASS               | PASS             | SKIPPED           | SKIPPED           | SKIPPED              | SKIPPED               |
+---------------------+--------------------+------------------+-------------------+-------------------+----------------------+-----------------------+
| RHEL9               | PASS               | PASS             | SKIPPED           | SKIPPED           | SKIPPED              | SKIPPED               |
+---------------------+--------------------+------------------+-------------------+-------------------+----------------------+-----------------------+
| Ubuntu 20.04        | PASS               | PASS             | SKIPPED           | SKIPPED           | SKIPPED              | SKIPPED               |
+---------------------+--------------------+------------------+-------------------+-------------------+----------------------+-----------------------+
| Ubuntu 22.04        | PASS               | PASS             | WARN              | SKIPPED           | SKIPPED              | SKIPPED               |
+---------------------+--------------------+------------------+-------------------+-------------------+----------------------+-----------------------+
| Ubuntu 24.04        | PASS               | PASS             | WARN              | SKIPPED           | SKIPPED              | SKIPPED               |
+---------------------+--------------------+------------------+-------------------+-------------------+----------------------+-----------------------+
| Alpine              | PASS               | PASS             | SKIPPED           | SKIPPED           | SKIPPED              | SKIPPED               |
+---------------------+--------------------+------------------+-------------------+-------------------+----------------------+-----------------------+
| FreeBSD 13.4        | PASS               | SKIPPED          | SKIPPED           | SKIPPED           | SKIPPED              | SKIPPED               |
+---------------------+--------------------+------------------+-------------------+-------------------+----------------------+-----------------------+
| FreeBSD 14.1        | PASS               | SKIPPED          | SKIPPED           | SKIPPED           | SKIPPED              | SKIPPED               |
+---------------------+--------------------+------------------+-------------------+-------------------+----------------------+-----------------------+
| Windows Server 2022 | SKIPPED            | SKIPPED          | SKIPPED           | PASS              | PASS                 | PASS                  |
+---------------------+--------------------+------------------+-------------------+-------------------+----------------------+-----------------------+

==== 20 line log output for Ubuntu 24.04 (dpdk_compile_spdk): ====
 --- Failed to get log output --- 
==== End log output ====

CentOS Stream 9
	Kernel: Depends on container host
	Compiler: gcc 11.4.1 20231218 (Red Hat 11.4.1-3)

Debian 12
	Kernel: Depends on container host
	Compiler: gcc (Debian 12.2.0-14) 12.2.0

Fedora 39 (Clang)
	Kernel: Depends on container host
	Compiler: clang 17.0.6 (Fedora 17.0.6-2.fc39)

Fedora 39
	Kernel: Depends on container host
	Compiler: gcc 13.3.1 20240522 (Red Hat 13.3.1-1)

Fedora 40 (Clang)
	Kernel: Depends on container host
	Compiler: clang 18.1.6 (Fedora 18.1.6-3.fc40)

Fedora 40
	Kernel: Depends on container host
	Compiler: gcc 14.2.1 20240801 (Red Hat 14.2.1-1)

openSUSE Leap 15
	Kernel: Depends on container host
	Compiler: gcc (SUSE Linux) 7.5.0

RHEL8
	Kernel: Depends on container host
	Compiler: gcc 8.5.0 20210514 (Red Hat 8.5.0-22)

RHEL9
	Kernel: Depends on container host
	Compiler: gcc 11.4.1 20231218 (Red Hat 11.4.1-3)

Ubuntu 20.04
	Kernel: Depends on container host
	Compiler: gcc (Ubuntu 9.4.0-1ubuntu1~20.04.2) 9.4.0

Ubuntu 22.04
	Kernel: Depends on container host
	Compiler: gcc (Ubuntu 11.4.0-1ubuntu1~22.04) 11.4.0

Ubuntu 24.04
	Kernel: Depends on container host
	Compiler: gcc (Ubuntu 13.2.0-23ubuntu4) 13.2.0

Alpine
	Kernel: Depends on container host
	Compiler: gcc (Alpine 13.2.1_git20240309) 13.2.1 20240309

FreeBSD 13.4
	Kernel: 13.4-RELEASE-p1
	Compiler: clang 18.1.6

FreeBSD 14.1
	Kernel: 14.1-RELEASE-p3
	Compiler: clang 18.1.5

Windows Server 2022
	Kernel: 10.0.20348.2031
	Compiler: clang 15.0.7, gcc 14.1.0 (MinGW), and MSVC VS 19.39.33521

To view detailed results, visit:
https://lab.dpdk.org/results/dashboard/patchsets/31924/

UNH-IOL DPDK Community Lab

To manage your email subscriptions, visit: 
https://lab.dpdk.org/results/dashboard/preferences/subscriptions/