From mboxrd@z Thu Jan  1 00:00:00 1970
Return-Path: <test-report-bounces@dpdk.org>
Received: from mails.dpdk.org (mails.dpdk.org [217.70.189.124])
	by inbox.dpdk.org (Postfix) with ESMTP id 12DEC45D39
	for <public@inbox.dpdk.org>; Mon, 18 Nov 2024 22:20:44 +0100 (CET)
Received: from mails.dpdk.org (localhost [127.0.0.1])
	by mails.dpdk.org (Postfix) with ESMTP id EF0CB40E35;
	Mon, 18 Nov 2024 22:20:43 +0100 (CET)
Received: from mail-pf1-f227.google.com (mail-pf1-f227.google.com
 [209.85.210.227])
 by mails.dpdk.org (Postfix) with ESMTP id B94A740A7F
 for <test-report@dpdk.org>; Mon, 18 Nov 2024 22:20:41 +0100 (CET)
Received: by mail-pf1-f227.google.com with SMTP id
 d2e1a72fcca58-71e592d7f6eso1611767b3a.3
 for <test-report@dpdk.org>; Mon, 18 Nov 2024 13:20:41 -0800 (PST)
DKIM-Signature: v=1; a=rsa-sha256; c=relaxed/relaxed;
 d=iol.unh.edu; s=unh-iol; t=1731964841; x=1732569641; darn=dpdk.org;
 h=references:in-reply-to:cc:to:from:subject:message-id:date:from:to
 :cc:subject:date:message-id:reply-to;
 bh=D2Nx5EGU7GFcoapUlQ21AAOoBfePTfJ3crjNQxwXjlM=;
 b=fLlX+UpVBpkbyX9xot9UT8WiB2Wq3DdihfH0lD4sa+RuqdmlpnRmwSJ+HYhb7J/wP1
 b/KGygpAq+WLG5EgvznzjNec45tm1rEl956iIiwTcE+2bLrPeRmphpUaOEvHX2UleEaD
 2m+5giA5VNL3fP9xdmEdFtfR9dc/yX5Ujwi5g=
X-Google-DKIM-Signature: v=1; a=rsa-sha256; c=relaxed/relaxed;
 d=1e100.net; s=20230601; t=1731964841; x=1732569641;
 h=references:in-reply-to:cc:to:from:subject:message-id:date
 :x-gm-message-state:from:to:cc:subject:date:message-id:reply-to;
 bh=D2Nx5EGU7GFcoapUlQ21AAOoBfePTfJ3crjNQxwXjlM=;
 b=edWYvbUiUCh/LdpGV1W5Pj0/uLRqIc+qS110XTYVDwVJydsYydm4d5f9SVeER5jrVP
 JINeEkZSWMGWj9GK2XNBZNbh6Pzc0BUgcn9mYq26pvxhBdDiVQxjXkAejZXFXhM4Mh0x
 MLOmOP0nAzM2veIbD5Jru8oqrfY3kMl2kxghcCHocTpl8zj93izBoLpuEtzaoIPi7Cxe
 gIYre89YPy49TnpNubFqhTmzXm3d8j9FDdANndzvawXkINY/L5yTf4VMR3fHiajExuci
 5EbshmgFPwwIvV+19Mr0moThfrp4Ev1hV3ji2qCUtY1B6hDZ4MuJwNS+8N/r6exVoWve
 rhFA==
X-Gm-Message-State: AOJu0YyEiA/a9gl0PMqCjahcY7wIrBhSpEHvoKyuu+ULizAvdGcQICBa
 FeYBY1wrNFjz+GTy2X9Fgf133ep66bIdLgez3IACbpg8JrDkmP17OYIfl1To6PEXIAJAtoJli9y
 Q/0NkdAkteNGM5OvQGg9XYU1l2FdmTZTx67u1eNtd
X-Google-Smtp-Source: AGHT+IHdKKTOOqSWDkhfCIVjI1u1VufLPya4OKKI6YUOWtTOlxU6+UCctO8OSNAYH+MSxXIMN8TjS8md+Kql
X-Received: by 2002:aa7:888d:0:b0:71d:ee1b:c854 with SMTP id
 d2e1a72fcca58-72476b9717bmr18820437b3a.9.1731964840823; 
 Mon, 18 Nov 2024 13:20:40 -0800 (PST)
Received: from postal.iol.unh.edu (postal.iol.unh.edu. [132.177.123.84])
 by smtp-relay.gmail.com with ESMTPS id
 d2e1a72fcca58-72477107816sm469217b3a.1.2024.11.18.13.20.40
 (version=TLS1_2 cipher=ECDHE-ECDSA-AES128-GCM-SHA256 bits=128/128);
 Mon, 18 Nov 2024 13:20:40 -0800 (PST)
X-Relaying-Domain: iol.unh.edu
Date: Mon, 18 Nov 2024 13:20:40 -0800 (PST)
Message-ID: <673bafa8.a70a0220.34ad5a.a79bSMTPIN_ADDED_MISSING@mx.google.com>
Received: from [172.17.0.4] (unknown [172.18.0.217])
 by postal.iol.unh.edu (Postfix) with ESMTP id 0A8406052471;
 Mon, 18 Nov 2024 16:20:40 -0500 (EST)
Subject: |WARNING| pw148582-148583 [PATCH] [v2,2/2] app/testpmd: fix aged flo
From: dpdklab@iol.unh.edu
To: Test Report <test-report@dpdk.org>
Cc: dpdk-test-reports@iol.unh.edu
In-Reply-To: <20241118102528.1858308-3-dvo-plv@napatech.com>
References: <20241118102528.1858308-3-dvo-plv@napatech.com>
Content-Type: text/plain
X-BeenThere: test-report@dpdk.org
X-Mailman-Version: 2.1.29
Precedence: list
List-Id: automatic DPDK test reports <test-report.dpdk.org>
List-Unsubscribe: <https://mails.dpdk.org/options/test-report>,
 <mailto:test-report-request@dpdk.org?subject=unsubscribe>
List-Archive: <http://mails.dpdk.org/archives/test-report/>
List-Post: <mailto:test-report@dpdk.org>
List-Help: <mailto:test-report-request@dpdk.org?subject=help>
List-Subscribe: <https://mails.dpdk.org/listinfo/test-report>,
 <mailto:test-report-request@dpdk.org?subject=subscribe>
Errors-To: test-report-bounces@dpdk.org

Test-Label: iol-compile-amd64-testing
Test-Status: WARNING
http://dpdk.org/patch/148583

_Testing issues_

Submitter: Danylo Vodopianov <dvo-plv@napatech.com>
Date: Monday, November 18 2024 10:25:28 
DPDK git baseline: Repo:dpdk
  Branch: master
  CommitID:f275665c45d5f1bf84fe04de39f936af049ba991

148582-148583 --> testing issues

Upstream job id: Windows-Compile-DPDK-Native#24739

Test environment and result as below:

+---------------------+--------------------+------------------+-------------------+-------------------+-----------------------+
|     Environment     | dpdk_meson_compile | dpdk_compile_ovs | dpdk_compile_spdk | dpdk_msvc_compile | dpdk_win_llvm_compile |
+=====================+====================+==================+===================+===================+=======================+
| CentOS Stream 9     | PASS               | PASS             | WARN              | SKIPPED           | SKIPPED               |
+---------------------+--------------------+------------------+-------------------+-------------------+-----------------------+
| Debian 12           | PASS               | PASS             | WARN              | SKIPPED           | SKIPPED               |
+---------------------+--------------------+------------------+-------------------+-------------------+-----------------------+
| Fedora 39 (Clang)   | PASS               | PASS             | WARN              | SKIPPED           | SKIPPED               |
+---------------------+--------------------+------------------+-------------------+-------------------+-----------------------+
| Fedora 40 (Clang)   | PASS               | PASS             | WARN              | SKIPPED           | SKIPPED               |
+---------------------+--------------------+------------------+-------------------+-------------------+-----------------------+
| Fedora 39           | PASS               | PASS             | WARN              | SKIPPED           | SKIPPED               |
+---------------------+--------------------+------------------+-------------------+-------------------+-----------------------+
| Fedora 40           | PASS               | PASS             | WARN              | SKIPPED           | SKIPPED               |
+---------------------+--------------------+------------------+-------------------+-------------------+-----------------------+
| openSUSE Leap 15    | PASS               | PASS             | SKIPPED           | SKIPPED           | SKIPPED               |
+---------------------+--------------------+------------------+-------------------+-------------------+-----------------------+
| RHEL8               | PASS               | PASS             | SKIPPED           | SKIPPED           | SKIPPED               |
+---------------------+--------------------+------------------+-------------------+-------------------+-----------------------+
| Ubuntu 20.04        | PASS               | PASS             | SKIPPED           | SKIPPED           | SKIPPED               |
+---------------------+--------------------+------------------+-------------------+-------------------+-----------------------+
| Ubuntu 22.04        | PASS               | PASS             | WARN              | SKIPPED           | SKIPPED               |
+---------------------+--------------------+------------------+-------------------+-------------------+-----------------------+
| Ubuntu 24.04        | PASS               | PASS             | WARN              | SKIPPED           | SKIPPED               |
+---------------------+--------------------+------------------+-------------------+-------------------+-----------------------+
| Alpine              | PASS               | PASS             | SKIPPED           | SKIPPED           | SKIPPED               |
+---------------------+--------------------+------------------+-------------------+-------------------+-----------------------+
| FreeBSD 13.4        | PASS               | SKIPPED          | SKIPPED           | SKIPPED           | SKIPPED               |
+---------------------+--------------------+------------------+-------------------+-------------------+-----------------------+
| FreeBSD 14.1        | PASS               | SKIPPED          | SKIPPED           | SKIPPED           | SKIPPED               |
+---------------------+--------------------+------------------+-------------------+-------------------+-----------------------+
| RHEL9               | PASS               | PASS             | SKIPPED           | SKIPPED           | SKIPPED               |
+---------------------+--------------------+------------------+-------------------+-------------------+-----------------------+
| Windows Server 2022 | SKIPPED            | SKIPPED          | SKIPPED           | PASS              | PASS                  |
+---------------------+--------------------+------------------+-------------------+-------------------+-----------------------+

==== 20 line log output for Ubuntu 24.04 (dpdk_compile_spdk): ====
 --- Failed to get log output --- 
==== End log output ====

CentOS Stream 9
	Kernel: Depends on container host
	Compiler: gcc 11.4.1 20231218 (Red Hat 11.4.1-3)

Debian 12
	Kernel: Depends on container host
	Compiler: gcc (Debian 12.2.0-14) 12.2.0

Fedora 39 (Clang)
	Kernel: Depends on container host
	Compiler: clang 17.0.6 (Fedora 17.0.6-2.fc39)

Fedora 40 (Clang)
	Kernel: Depends on container host
	Compiler: clang 18.1.6 (Fedora 18.1.6-3.fc40)

Fedora 39
	Kernel: Depends on container host
	Compiler: gcc 13.3.1 20240522 (Red Hat 13.3.1-1)

Fedora 40
	Kernel: Depends on container host
	Compiler: gcc 14.2.1 20240801 (Red Hat 14.2.1-1)

openSUSE Leap 15
	Kernel: Depends on container host
	Compiler: gcc (SUSE Linux) 7.5.0

RHEL8
	Kernel: Depends on container host
	Compiler: gcc 8.5.0 20210514 (Red Hat 8.5.0-22)

Ubuntu 20.04
	Kernel: Depends on container host
	Compiler: gcc (Ubuntu 9.4.0-1ubuntu1~20.04.2) 9.4.0

Ubuntu 22.04
	Kernel: Depends on container host
	Compiler: gcc (Ubuntu 11.4.0-1ubuntu1~22.04) 11.4.0

Ubuntu 24.04
	Kernel: Depends on container host
	Compiler: gcc (Ubuntu 13.2.0-23ubuntu4) 13.2.0

Alpine
	Kernel: Depends on container host
	Compiler: gcc (Alpine 13.2.1_git20240309) 13.2.1 20240309

FreeBSD 13.4
	Kernel: 13.4-RELEASE-p1
	Compiler: clang 18.1.6

FreeBSD 14.1
	Kernel: 14.1-RELEASE-p3
	Compiler: clang 18.1.5

RHEL9
	Kernel: Depends on container host
	Compiler: gcc 11.4.1 20231218 (Red Hat 11.4.1-3)

Windows Server 2022
	Kernel: 10.0.20348.2031
	Compiler: clang 15.0.7, gcc 14.1.0 (MinGW), and MSVC VS 19.39.33521

To view detailed results, visit:
https://lab.dpdk.org/results/dashboard/patchsets/31962/

UNH-IOL DPDK Community Lab

To manage your email subscriptions, visit: 
https://lab.dpdk.org/results/dashboard/preferences/subscriptions/