From mboxrd@z Thu Jan  1 00:00:00 1970
Return-Path: <test-report-bounces@dpdk.org>
Received: from mails.dpdk.org (mails.dpdk.org [217.70.189.124])
	by inbox.dpdk.org (Postfix) with ESMTP id 44EC845EE5
	for <public@inbox.dpdk.org>; Thu, 19 Dec 2024 04:28:03 +0100 (CET)
Received: from mails.dpdk.org (localhost [127.0.0.1])
	by mails.dpdk.org (Postfix) with ESMTP id 2AC2940299;
	Thu, 19 Dec 2024 04:28:03 +0100 (CET)
Received: from mail-qv1-f99.google.com (mail-qv1-f99.google.com
 [209.85.219.99]) by mails.dpdk.org (Postfix) with ESMTP id 75940400EF
 for <test-report@dpdk.org>; Thu, 19 Dec 2024 04:28:01 +0100 (CET)
Received: by mail-qv1-f99.google.com with SMTP id
 6a1803df08f44-6d8878ec049so3128456d6.3
 for <test-report@dpdk.org>; Wed, 18 Dec 2024 19:28:01 -0800 (PST)
DKIM-Signature: v=1; a=rsa-sha256; c=relaxed/relaxed;
 d=iol.unh.edu; s=unh-iol; t=1734578881; x=1735183681; darn=dpdk.org;
 h=references:in-reply-to:cc:to:from:subject:message-id:date:from:to
 :cc:subject:date:message-id:reply-to;
 bh=u1zoTC2pfvMB95f5xXrGcfhRPml5nWzIpR83ZLIa+mI=;
 b=f5+1qqhiV3TEXR1njfLVYRasfJ7bQZnp61bUl5VizBm5IJdsLOYD3FeDAOpa7VLi4v
 zi62nT65Db2AcG88fj9g1lvVujcUvOmgMEfgnb00eyxLHD5CGYoa64D2cKCjq/WBQzqE
 nTUcf/OaOJ1qEDmlRYqmQ6cUkyrh+g03Kz9ds=
X-Google-DKIM-Signature: v=1; a=rsa-sha256; c=relaxed/relaxed;
 d=1e100.net; s=20230601; t=1734578881; x=1735183681;
 h=references:in-reply-to:cc:to:from:subject:message-id:date
 :x-gm-message-state:from:to:cc:subject:date:message-id:reply-to;
 bh=u1zoTC2pfvMB95f5xXrGcfhRPml5nWzIpR83ZLIa+mI=;
 b=ETS0vohvZrQWaaiRAmMs3o0A7ne0v7PofKfypd3q2pXvyaUARRMP3B2+7HnVyQ/8/N
 kqwlyqdWB0N0/uNYBrdagtV7jwANg4EgIUaQRhhGQTPOD1DUzQvEYhMnEXWTc27fZZzt
 QnB0hWG8Zex//ujataoIz3d2uM5ZAVHzfQVf5Sv5nMpprrCUKkMIzmpNpWZ4P2KU3mlo
 XeyINq3IXAdCCmAarTHUt8iU+AWb5E/PVEYaU8YQp3AykVflSwhLTGN1+FYHzSzO437C
 DU4LyzEtDx3x8LZrpjJyZgrMDKPRob/UcX6E6fjN0lWnxa5l9jJ9v/gC1w5oYl73A9xP
 wTYA==
X-Gm-Message-State: AOJu0YxXaxBceuDrg7PyiATEx5aIU245WxndYVzLp60+wdgTbp6gKERd
 SpTrYxRCciikrkYHoz2OWaJ6M3B6mZ8/32zdM4SOPLPobUoMuYqIB3l6JvyLWvtG+lkwabsp/PR
 4/xkhiW+WWh4sFn1oS4F5NZjkJFDe3EaEkF78PWQB
X-Gm-Gg: ASbGncvuJMOEZSaAS889d6BUAOHa1Tan2wQQWbOW2H0QUFv027Xdzi4srhxkYRODELt
 eC6woFJVhZFFoDxFgFAWPnauI+WgjB6JF+IErwHg78QtAkYfHtqfx/wazrYQh15xP9Hf/fhwIjH
 6RGPUr2QE6vqsKfPOYmLG4nRDIUUZcPmsSnz1nsMtviX/nSp0TIadkqmvRY2u5Kycn+b5fEvj/l
 2V/aHQ0q17dyO7hYwE/bG8vPY0IBmNnHbIGBoK8RnLABm1RpI+4DjZzKAz1aZrxSjKOazes/D6U
 JA==
X-Google-Smtp-Source: AGHT+IH+y2RIaTwWl/pySqkV5rhg1CdDPIbTYEuBxqoMfHq2iDFavJ61/ctTjrfaVxWHCQvV1UFddcMGHHXA
X-Received: by 2002:a05:6214:202b:b0:6d4:287d:b8d6 with SMTP id
 6a1803df08f44-6dd091b26eemr87381376d6.18.1734578880808; 
 Wed, 18 Dec 2024 19:28:00 -0800 (PST)
Received: from postal.iol.unh.edu (postal.iol.unh.edu. [132.177.123.84])
 by smtp-relay.gmail.com with ESMTPS id
 6a1803df08f44-6dd181a34easm282106d6.48.2024.12.18.19.28.00
 (version=TLS1_2 cipher=ECDHE-ECDSA-AES128-GCM-SHA256 bits=128/128);
 Wed, 18 Dec 2024 19:28:00 -0800 (PST)
X-Relaying-Domain: iol.unh.edu
Date: Wed, 18 Dec 2024 19:28:00 -0800 (PST)
Message-ID: <676392c0.050a0220.2eb7a0.2367SMTPIN_ADDED_MISSING@mx.google.com>
Received: from [172.17.0.4] (unknown [172.18.0.217])
 by postal.iol.unh.edu (Postfix) with ESMTP id 828826052471;
 Wed, 18 Dec 2024 22:28:00 -0500 (EST)
Subject: |WARNING| pw149306 [PATCH] bus/fslmc: fix use after rte_free
From: dpdklab@iol.unh.edu
To: Test Report <test-report@dpdk.org>
Cc: dpdk-test-reports@iol.unh.edu
In-Reply-To: <20241218170530.140747-1-stephen@networkplumber.org>
References: <20241218170530.140747-1-stephen@networkplumber.org>
Content-Type: text/plain
X-BeenThere: test-report@dpdk.org
X-Mailman-Version: 2.1.29
Precedence: list
List-Id: automatic DPDK test reports <test-report.dpdk.org>
List-Unsubscribe: <https://mails.dpdk.org/options/test-report>,
 <mailto:test-report-request@dpdk.org?subject=unsubscribe>
List-Archive: <http://mails.dpdk.org/archives/test-report/>
List-Post: <mailto:test-report@dpdk.org>
List-Help: <mailto:test-report-request@dpdk.org?subject=help>
List-Subscribe: <https://mails.dpdk.org/listinfo/test-report>,
 <mailto:test-report-request@dpdk.org?subject=subscribe>
Errors-To: test-report-bounces@dpdk.org

Test-Label: iol-compile-amd64-testing
Test-Status: WARNING
http://dpdk.org/patch/149306

_Testing issues_

Submitter: Stephen Hemminger <stephen@networkplumber.org>
Date: Wednesday, December 18 2024 17:05:30 
DPDK git baseline: Repo:dpdk
  Branch: master
  CommitID:4dc4e33ffa108e945fc8a1e2bbc7819791faa61e

149306 --> testing issues

Upstream job id: Windows-Compile-DPDK-Native#25419

Test environment and result as below:

+---------------------+--------------------+------------------+-------------------+-------------------+-----------------------+
|     Environment     | dpdk_meson_compile | dpdk_compile_ovs | dpdk_compile_spdk | dpdk_msvc_compile | dpdk_win_llvm_compile |
+=====================+====================+==================+===================+===================+=======================+
| CentOS Stream 9     | PASS               | PASS             | PASS              | SKIPPED           | SKIPPED               |
+---------------------+--------------------+------------------+-------------------+-------------------+-----------------------+
| Fedora 39 (Clang)   | PASS               | PASS             | PASS              | SKIPPED           | SKIPPED               |
+---------------------+--------------------+------------------+-------------------+-------------------+-----------------------+
| Debian 12           | PASS               | PASS             | PASS              | SKIPPED           | SKIPPED               |
+---------------------+--------------------+------------------+-------------------+-------------------+-----------------------+
| Fedora 39           | PASS               | PASS             | PASS              | SKIPPED           | SKIPPED               |
+---------------------+--------------------+------------------+-------------------+-------------------+-----------------------+
| Fedora 40           | PASS               | PASS             | PASS              | SKIPPED           | SKIPPED               |
+---------------------+--------------------+------------------+-------------------+-------------------+-----------------------+
| openSUSE Leap 15    | PASS               | WARN             | SKIPPED           | SKIPPED           | SKIPPED               |
+---------------------+--------------------+------------------+-------------------+-------------------+-----------------------+
| RHEL9               | PASS               | PASS             | SKIPPED           | SKIPPED           | SKIPPED               |
+---------------------+--------------------+------------------+-------------------+-------------------+-----------------------+
| Ubuntu 20.04        | PASS               | WARN             | SKIPPED           | SKIPPED           | SKIPPED               |
+---------------------+--------------------+------------------+-------------------+-------------------+-----------------------+
| Ubuntu 22.04        | PASS               | PASS             | PASS              | SKIPPED           | SKIPPED               |
+---------------------+--------------------+------------------+-------------------+-------------------+-----------------------+
| Ubuntu 24.04        | PASS               | PASS             | PASS              | SKIPPED           | SKIPPED               |
+---------------------+--------------------+------------------+-------------------+-------------------+-----------------------+
| Alpine              | PASS               | PASS             | SKIPPED           | SKIPPED           | SKIPPED               |
+---------------------+--------------------+------------------+-------------------+-------------------+-----------------------+
| FreeBSD 13.4        | PASS               | SKIPPED          | SKIPPED           | SKIPPED           | SKIPPED               |
+---------------------+--------------------+------------------+-------------------+-------------------+-----------------------+
| RHEL8               | PASS               | PASS             | SKIPPED           | SKIPPED           | SKIPPED               |
+---------------------+--------------------+------------------+-------------------+-------------------+-----------------------+
| FreeBSD 14.2        | PASS               | SKIPPED          | SKIPPED           | SKIPPED           | SKIPPED               |
+---------------------+--------------------+------------------+-------------------+-------------------+-----------------------+
| Fedora 40 (Clang)   | PASS               | PASS             | PASS              | SKIPPED           | SKIPPED               |
+---------------------+--------------------+------------------+-------------------+-------------------+-----------------------+
| Windows Server 2022 | SKIPPED            | SKIPPED          | SKIPPED           | PASS              | PASS                  |
+---------------------+--------------------+------------------+-------------------+-------------------+-----------------------+

==== 20 line log output for Ubuntu 20.04 (dpdk_compile_ovs): ====
 --- Failed to get log output --- 
==== End log output ====

CentOS Stream 9
	Kernel: Depends on container host
	Compiler: gcc 11.4.1 20231218 (Red Hat 11.4.1-3)

Fedora 39 (Clang)
	Kernel: Depends on container host
	Compiler: clang 17.0.6 (Fedora 17.0.6-2.fc39)

Debian 12
	Kernel: Depends on container host
	Compiler: gcc (Debian 12.2.0-14) 12.2.0

Fedora 39
	Kernel: Depends on container host
	Compiler: gcc 13.3.1 20240522 (Red Hat 13.3.1-1)

Fedora 40
	Kernel: Depends on container host
	Compiler: gcc 14.2.1 20240801 (Red Hat 14.2.1-1)

openSUSE Leap 15
	Kernel: Depends on container host
	Compiler: gcc (SUSE Linux) 7.5.0

RHEL9
	Kernel: Depends on container host
	Compiler: gcc 11.4.1 20231218 (Red Hat 11.4.1-3)

Ubuntu 20.04
	Kernel: Depends on container host
	Compiler: gcc (Ubuntu 9.4.0-1ubuntu1~20.04.2) 9.4.0

Ubuntu 22.04
	Kernel: Depends on container host
	Compiler: gcc (Ubuntu 11.4.0-1ubuntu1~22.04) 11.4.0

Ubuntu 24.04
	Kernel: Depends on container host
	Compiler: gcc (Ubuntu 13.2.0-23ubuntu4) 13.2.0

Alpine
	Kernel: Depends on container host
	Compiler: gcc (Alpine 13.2.1_git20240309) 13.2.1 20240309

FreeBSD 13.4
	Kernel: 13.4-RELEASE-p1
	Compiler: clang 18.1.6

RHEL8
	Kernel: Depends on container host
	Compiler: gcc 8.5.0 20210514 (Red Hat 8.5.0-22)

FreeBSD 14.2
	Kernel: 14.2-RELEASE
	Compiler: clang 18.1.6

Fedora 40 (Clang)
	Kernel: Depends on container host
	Compiler: clang 18.1.6 (Fedora 18.1.6-3.fc40)

Windows Server 2022
	Kernel: 10.0.20348.2031
	Compiler: clang 15.0.7, gcc 14.1.0 (MinGW), and MSVC VS 19.39.33521

To view detailed results, visit:
https://lab.dpdk.org/results/dashboard/patchsets/32161/

UNH-IOL DPDK Community Lab

To manage your email subscriptions, visit: 
https://lab.dpdk.org/results/dashboard/preferences/subscriptions/