From mboxrd@z Thu Jan  1 00:00:00 1970
Return-Path: <test-report-bounces@dpdk.org>
Received: from mails.dpdk.org (mails.dpdk.org [217.70.189.124])
	by inbox.dpdk.org (Postfix) with ESMTP id DEAEE46351
	for <public@inbox.dpdk.org>; Thu,  6 Mar 2025 00:04:12 +0100 (CET)
Received: from mails.dpdk.org (localhost [127.0.0.1])
	by mails.dpdk.org (Postfix) with ESMTP id DA549402E6;
	Thu,  6 Mar 2025 00:04:12 +0100 (CET)
Received: from mail-il1-f226.google.com (mail-il1-f226.google.com
 [209.85.166.226])
 by mails.dpdk.org (Postfix) with ESMTP id 9FD4B40275
 for <test-report@dpdk.org>; Thu,  6 Mar 2025 00:04:11 +0100 (CET)
Received: by mail-il1-f226.google.com with SMTP id
 e9e14a558f8ab-3d3e25323cfso334235ab.3
 for <test-report@dpdk.org>; Wed, 05 Mar 2025 15:04:11 -0800 (PST)
DKIM-Signature: v=1; a=rsa-sha256; c=relaxed/relaxed;
 d=iol.unh.edu; s=unh-iol; t=1741215851; x=1741820651; darn=dpdk.org;
 h=references:in-reply-to:cc:to:from:subject:message-id:date:from:to
 :cc:subject:date:message-id:reply-to;
 bh=rjwZq5DRBWUfVxHQxvoHKf0SDEudA9XUc/JNblC7KTs=;
 b=XXhKq8Pn09sQYRXYedX483VBvXyc7sFhJkVBI+9VjU78ins+NJgRl5HfhqzxVA/Y5P
 Sh0SiHFhIrv+fN3gLym4asgx3u285E5t3uZlgijSQH4Bxk2szZD5awiD+GxBBWdUTi5t
 s28w8zI1n+TqWYPz5tgcaUsvSncZ+fkVVs350=
X-Google-DKIM-Signature: v=1; a=rsa-sha256; c=relaxed/relaxed;
 d=1e100.net; s=20230601; t=1741215851; x=1741820651;
 h=references:in-reply-to:cc:to:from:subject:message-id:date
 :x-gm-message-state:from:to:cc:subject:date:message-id:reply-to;
 bh=rjwZq5DRBWUfVxHQxvoHKf0SDEudA9XUc/JNblC7KTs=;
 b=pZxRXnbhm3Kq2Aopk9IxWLmfgwgt7pX1CLsrHRr/mGCIguC7gknyC9K5op6PkbtjJO
 rxM/2gFpsZ04Pt6ZQ9YDgVDpyNa6U04zu1M+WWjhcUZ469uaqUOtwTAoPcheYNlKGrtS
 b/Edab7M73bRry3gJ3vrfFsrwXBpQ6Ushq0K6YG4erCKHhnoude0HjTnt4L/7UGhczz0
 ZEwT8Kv2/BwzvNaJi5zAi6FGC6hOOTFw4+stkvuuh7Tniepr3JNu5N+7HLfX07U3NmzH
 HJKucXMC239Wxubqg73ygHEtXLszH3mniHwtE1lbCD5ob0bRN23UCIMGoWDM64t1Akiu
 L8Lg==
X-Gm-Message-State: AOJu0Yzsj9DpjgwwycPnX0Bs+/i3foakl0a3kQ2EDd7ohqRRuqb1+fJW
 MJp33i7M89kgNIo2NiHcL8LTEi8d9eLVlLObG6xM3gDzM0DSztzundvoAjPFa6RktA2j6fUImwT
 fEYECFuTTshJXMX6f7REqB0a0wM411+VX8+AWb9xQ5ztce2wAR0ClHEIH
X-Gm-Gg: ASbGncvbrJJXslBPxyubI7Pibb7P/JQ7QSHjTscaJLJGY+l5vd+ExQn+Rocy1kadkD2
 AREts9KENdnMMAG+PzZ7SgZ8oHWpCcghbpc87NYRRLUB9UMfF8UK9ZXkwMB1ImJFVTcPi2hJO3p
 mo759r2RxuFwyK4ja3pnEhankKs/pPwxMgNFFYEZRHz57DivtBMXd3+8saMXczeLESMpOJIu6uU
 A55ITr+5Tjegviejmc3eTAFqJx9SRU0myVE/fdDz8gvSSpO9z3E/n4+Y2VTyV9ZXDNC7+gTK/yG
 Q+ArIOM4du5fussDqSq2ClwQbPojhwm/Kt1iIkf7AiuypPBlxWRH
X-Google-Smtp-Source: AGHT+IGJM4qcJcVdtXF5SeeQ8/m1SrShoiaH4qaTsGYNhiM7ckMLcjz+QUw85Sc3P/y5d5HVEO2MPCSaMDvg
X-Received: by 2002:a05:6e02:1d03:b0:3d3:e2d9:5a58 with SMTP id
 e9e14a558f8ab-3d42b97c976mr50054775ab.17.1741215850911; 
 Wed, 05 Mar 2025 15:04:10 -0800 (PST)
Received: from postal.iol.unh.edu (postal.iol.unh.edu.
 [2606:4100:3880:1234::84]) by smtp-relay.gmail.com with ESMTPS id
 e9e14a558f8ab-3d3deee5fa6sm7933125ab.65.2025.03.05.15.04.10
 (version=TLS1_2 cipher=ECDHE-ECDSA-AES128-GCM-SHA256 bits=128/128);
 Wed, 05 Mar 2025 15:04:10 -0800 (PST)
X-Relaying-Domain: iol.unh.edu
Date: Wed, 05 Mar 2025 15:04:10 -0800 (PST)
Message-ID: <67c8d86a.920a0220.fa0b4.b06fSMTPIN_ADDED_MISSING@mx.google.com>
Received: from [172.21.0.7] (unknown [172.18.0.240])
 by postal.iol.unh.edu (Postfix) with ESMTP id 53D606052471;
 Wed,  5 Mar 2025 18:04:10 -0500 (EST)
Subject: |SUCCESS| pw152262 [PATCH] [RFC] eal: add new function versioning ma
From: dpdklab@iol.unh.edu
To: Test Report <test-report@dpdk.org>
Cc: dpdk-test-reports@iol.unh.edu
In-Reply-To: <20250305212349.2036410-1-david.marchand@redhat.com>
References: <20250305212349.2036410-1-david.marchand@redhat.com>
Content-Type: text/plain
X-BeenThere: test-report@dpdk.org
X-Mailman-Version: 2.1.29
Precedence: list
List-Id: automatic DPDK test reports <test-report.dpdk.org>
List-Unsubscribe: <https://mails.dpdk.org/options/test-report>,
 <mailto:test-report-request@dpdk.org?subject=unsubscribe>
List-Archive: <http://mails.dpdk.org/archives/test-report/>
List-Post: <mailto:test-report@dpdk.org>
List-Help: <mailto:test-report-request@dpdk.org?subject=help>
List-Subscribe: <https://mails.dpdk.org/listinfo/test-report>,
 <mailto:test-report-request@dpdk.org?subject=subscribe>
Errors-To: test-report-bounces@dpdk.org

Test-Label: iol-compile-amd64-testing
Test-Status: SUCCESS
http://dpdk.org/patch/152262

_Testing PASS_

Submitter: David Marchand <david.marchand@redhat.com>
Date: Wednesday, March 05 2025 21:23:49 
DPDK git baseline: Repo:dpdk
  Branch: master
  CommitID:7fa30bca91de033016b9b1b34dbda20ce347a298

152262 --> testing pass

Upstream job id: Generic-VM-DPDK-Compile-Meson#33780

Test environment and result as below:

+---------------------+-------------------+--------------------+
|     Environment     | dpdk_msvc_compile | dpdk_meson_compile |
+=====================+===================+====================+
| Windows Server 2022 | PASS              | SKIPPED            |
+---------------------+-------------------+--------------------+
| FreeBSD 13.4        | SKIPPED           | PASS               |
+---------------------+-------------------+--------------------+
| FreeBSD 14.2        | SKIPPED           | PASS               |
+---------------------+-------------------+--------------------+


Windows Server 2022
	Kernel: 10.0.20348.2031
	Compiler: clang 15.0.7, gcc 14.1.0 (MinGW), and MSVC VS 19.39.33521

FreeBSD 13.4
	Kernel: 13.4-RELEASE-p1
	Compiler: clang 18.1.6

FreeBSD 14.2
	Kernel: 14.2-RELEASE
	Compiler: clang 18.1.6

To view detailed results, visit:
https://lab.dpdk.org/results/dashboard/patchsets/32763/

UNH-IOL DPDK Community Lab

To manage your email subscriptions, visit: 
https://lab.dpdk.org/results/dashboard/preferences/subscriptions/