From mboxrd@z Thu Jan  1 00:00:00 1970
Return-Path: <test-report-bounces@dpdk.org>
Received: from mails.dpdk.org (mails.dpdk.org [217.70.189.124])
	by inbox.dpdk.org (Postfix) with ESMTP id 54F4746351
	for <public@inbox.dpdk.org>; Thu,  6 Mar 2025 00:49:37 +0100 (CET)
Received: from mails.dpdk.org (localhost [127.0.0.1])
	by mails.dpdk.org (Postfix) with ESMTP id 344EC402A3;
	Thu,  6 Mar 2025 00:49:37 +0100 (CET)
Received: from mail-qk1-f226.google.com (mail-qk1-f226.google.com
 [209.85.222.226])
 by mails.dpdk.org (Postfix) with ESMTP id C2E4A4029E
 for <test-report@dpdk.org>; Thu,  6 Mar 2025 00:49:35 +0100 (CET)
Received: by mail-qk1-f226.google.com with SMTP id
 af79cd13be357-7c08fc20194so9822185a.2
 for <test-report@dpdk.org>; Wed, 05 Mar 2025 15:49:35 -0800 (PST)
DKIM-Signature: v=1; a=rsa-sha256; c=relaxed/relaxed;
 d=iol.unh.edu; s=unh-iol; t=1741218575; x=1741823375; darn=dpdk.org;
 h=references:in-reply-to:cc:to:from:subject:message-id:date:from:to
 :cc:subject:date:message-id:reply-to;
 bh=O61QUSmnkXHMhNi1pFB2G+Mi4VW2atxdbMqgjFu2DEU=;
 b=dJ8wqN4Q8dIOYBdvnZMgj1nn0VRQXeIh5GDalwccdn2ufVkVqyEVl+UhporLhvqGWA
 DOwO0uedkEUW4qS02aaMbouzZPxcUPzRTK38hNvfISI/Dn4SAKX5TCagWlxcur4P1xIA
 4AYnl9UIP9QTUAGmpoJi8Y8NA2/J5CUb5Ccrc=
X-Google-DKIM-Signature: v=1; a=rsa-sha256; c=relaxed/relaxed;
 d=1e100.net; s=20230601; t=1741218575; x=1741823375;
 h=references:in-reply-to:cc:to:from:subject:message-id:date
 :x-gm-message-state:from:to:cc:subject:date:message-id:reply-to;
 bh=O61QUSmnkXHMhNi1pFB2G+Mi4VW2atxdbMqgjFu2DEU=;
 b=QiYOMNcGwX5kdvqGdEbQHPzvjBqowbWo7xvwNvkp8tZ2Umon0xI4NRJZCUFz+MEAAm
 RQjm4lhq7DdCNpwWs4t/6bJYyUda2F/wXJXw90zVIVJup7VE9W7BDLgLUyZAl3Nc6p1S
 DegPfz3tO2svtHm2aPE1HpPYuGz7pJ3wAaA43syQ1BFsdkXErkvJaghy5FVgUrUHLjOe
 8jqzvUTfNprZZG0ON2IJkkoqUJX+mjOe46nwNYpb4BRbMnGPE/SfF/gPtR7mcCiVznjQ
 NGAjaTIEs34R/aBhYo6xhpYUsc81Bs84yIGJGjnDCqTjjcvnSCE48k2R61axLi8Pt8vv
 n8mg==
X-Gm-Message-State: AOJu0YxJvrv2ta9a/leY3O+APlkB58TbUrYpHuxYv9je92qMSmEl3t5J
 nJfIdH6Sr0GEtD8hvCqJHRb27rs5e+sXjrDpM19asIb3v5pt5YFSTmYQcS0+Vl6kcjS651GwjbI
 DiOxlGErXVyizsg6DU0r1Z5/3CevfXJULN2bv6+wq
X-Gm-Gg: ASbGnctrcdw5B1tuZFpyIeCi32D8d+vceXzA8Qv8/n5DTFI5SZ47K6rBUPs+dwQtQ25
 EtOzHR7GFjkuzm8GF29CjjXMjhWFFhZAeZoiwvHrRznYtJGmlcqj24hJPh+5rqXLltCuRaOnW+I
 U5J7M4PMurCoVp9Fz8AVkNtXeHJ58xclC2tXM+KNLwxY4Dwfjo0eh0nYMPb30H3Kw645FnMOm/E
 djSPs+yAAUCKQWJWJOzMVmqFhnpKQunoX67FqOUX1HX92YtKsi5zOnPJhkbPGxkINthSntrr+i4
 3qKkZOBORfwmo86y8h9JiXMPx3FcTvDSlLlTCad/
X-Google-Smtp-Source: AGHT+IGHXn3QuICtdJiauJNhSPC7Rg/LPW4MEg5sc7aRgl3WSRdlOaHIXDQLuQUM4sLyTU4q+gaqr6Sg7rG1
X-Received: by 2002:a05:620a:26a7:b0:7c2:49a6:86e1 with SMTP id
 af79cd13be357-7c3d8e79cefmr954842285a.40.1741218575150; 
 Wed, 05 Mar 2025 15:49:35 -0800 (PST)
Received: from postal.iol.unh.edu (postal.iol.unh.edu. [132.177.123.84])
 by smtp-relay.gmail.com with ESMTPS id
 af79cd13be357-7c3e5524b05sm815385a.6.2025.03.05.15.49.35
 (version=TLS1_2 cipher=ECDHE-ECDSA-AES128-GCM-SHA256 bits=128/128);
 Wed, 05 Mar 2025 15:49:35 -0800 (PST)
X-Relaying-Domain: iol.unh.edu
Date: Wed, 05 Mar 2025 15:49:35 -0800 (PST)
Message-ID: <67c8e30f.050a0220.3741a0.08a2SMTPIN_ADDED_MISSING@mx.google.com>
Received: from [172.21.0.7] (unknown [172.18.0.240])
 by postal.iol.unh.edu (Postfix) with ESMTP id B72436052471;
 Wed,  5 Mar 2025 18:49:34 -0500 (EST)
Subject: |SUCCESS| pw152262 [PATCH] [RFC] eal: add new function versioning ma
From: dpdklab@iol.unh.edu
To: Test Report <test-report@dpdk.org>
Cc: dpdk-test-reports@iol.unh.edu
In-Reply-To: <20250305212349.2036410-1-david.marchand@redhat.com>
References: <20250305212349.2036410-1-david.marchand@redhat.com>
Content-Type: text/plain
X-BeenThere: test-report@dpdk.org
X-Mailman-Version: 2.1.29
Precedence: list
List-Id: automatic DPDK test reports <test-report.dpdk.org>
List-Unsubscribe: <https://mails.dpdk.org/options/test-report>,
 <mailto:test-report-request@dpdk.org?subject=unsubscribe>
List-Archive: <http://mails.dpdk.org/archives/test-report/>
List-Post: <mailto:test-report@dpdk.org>
List-Help: <mailto:test-report-request@dpdk.org?subject=help>
List-Subscribe: <https://mails.dpdk.org/listinfo/test-report>,
 <mailto:test-report-request@dpdk.org?subject=subscribe>
Errors-To: test-report-bounces@dpdk.org

Test-Label: iol-compile-amd64-testing
Test-Status: SUCCESS
http://dpdk.org/patch/152262

_Testing PASS_

Submitter: David Marchand <david.marchand@redhat.com>
Date: Wednesday, March 05 2025 21:23:49 
DPDK git baseline: Repo:dpdk
  Branch: master
  CommitID:7fa30bca91de033016b9b1b34dbda20ce347a298

152262 --> testing pass

Upstream job id: Windows-Compile-DPDK-Native#27170

Test environment and result as below:

+---------------------+-------------------+--------------------+-------------------------+----------------------+
|     Environment     | dpdk_msvc_compile | dpdk_meson_compile | dpdk_llvm_clang_compile | dpdk_mingw64_compile |
+=====================+===================+====================+=========================+======================+
| Windows Server 2022 | PASS              | SKIPPED            | PASS                    | PASS                 |
+---------------------+-------------------+--------------------+-------------------------+----------------------+
| FreeBSD 13.4        | SKIPPED           | PASS               | SKIPPED                 | SKIPPED              |
+---------------------+-------------------+--------------------+-------------------------+----------------------+
| FreeBSD 14.2        | SKIPPED           | PASS               | SKIPPED                 | SKIPPED              |
+---------------------+-------------------+--------------------+-------------------------+----------------------+


Windows Server 2022
	Kernel: 10.0.20348.2031
	Compiler: clang 15.0.7, gcc 14.1.0 (MinGW), and MSVC VS 19.39.33521

FreeBSD 13.4
	Kernel: 13.4-RELEASE-p1
	Compiler: clang 18.1.6

FreeBSD 14.2
	Kernel: 14.2-RELEASE
	Compiler: clang 18.1.6

To view detailed results, visit:
https://lab.dpdk.org/results/dashboard/patchsets/32763/

UNH-IOL DPDK Community Lab

To manage your email subscriptions, visit: 
https://lab.dpdk.org/results/dashboard/preferences/subscriptions/