From mboxrd@z Thu Jan  1 00:00:00 1970
Return-Path: <test-report-bounces@dpdk.org>
Received: from mails.dpdk.org (mails.dpdk.org [217.70.189.124])
	by inbox.dpdk.org (Postfix) with ESMTP id 462BF4635C
	for <public@inbox.dpdk.org>; Thu,  6 Mar 2025 18:05:55 +0100 (CET)
Received: from mails.dpdk.org (localhost [127.0.0.1])
	by mails.dpdk.org (Postfix) with ESMTP id 194834064A;
	Thu,  6 Mar 2025 18:05:55 +0100 (CET)
Received: from mail-pl1-f227.google.com (mail-pl1-f227.google.com
 [209.85.214.227])
 by mails.dpdk.org (Postfix) with ESMTP id AB6C84025A
 for <test-report@dpdk.org>; Thu,  6 Mar 2025 18:05:53 +0100 (CET)
Received: by mail-pl1-f227.google.com with SMTP id
 d9443c01a7336-22423adf751so7517355ad.2
 for <test-report@dpdk.org>; Thu, 06 Mar 2025 09:05:53 -0800 (PST)
DKIM-Signature: v=1; a=rsa-sha256; c=relaxed/relaxed;
 d=iol.unh.edu; s=unh-iol; t=1741280753; x=1741885553; darn=dpdk.org;
 h=references:in-reply-to:cc:to:from:subject:message-id:date:from:to
 :cc:subject:date:message-id:reply-to;
 bh=UccgIU635sjBbB9GN+zuNrFnNZ1z2VJK4O8dsv5Ks/8=;
 b=HxXE/ERxq144aYSf61VQ8ScAEHuGhdGrtlljEsnJWim4yBGCBXmTn+xN6KGqOqbCy3
 Hz1ejiatKNptbsSaU3i4T2NK0q9c6UtgsCqyXk6ojg9K/mVTGl9pMgPIq7YSp/VJxVXq
 PV5FMpCH6ijO0cibQZ+K5wRalzg/YTxrf0+LI=
X-Google-DKIM-Signature: v=1; a=rsa-sha256; c=relaxed/relaxed;
 d=1e100.net; s=20230601; t=1741280753; x=1741885553;
 h=references:in-reply-to:cc:to:from:subject:message-id:date
 :x-gm-message-state:from:to:cc:subject:date:message-id:reply-to;
 bh=UccgIU635sjBbB9GN+zuNrFnNZ1z2VJK4O8dsv5Ks/8=;
 b=Tg5U070ufknoCjD/JnNxknzrIcCmoBBWus2zeYEiMOhVCeOcrPGXtnN3auYYieC4ea
 OoOXnSkrbzus8Tbbt2AxRZcUC3els2MoyBH2NlU7H9oOI9sNO6q20F4HGoZQOiDOqq2S
 wamSGdBHs8J2ab0IUyO1ewrMvDt6nk2poF6D6jeueOvqugwtQTJz6UaoMao52lyC4EoV
 u/J9p5hgR5GUY7XvLPMwcJGza0511H+Ha6qydqDsovuDmO4/PvA0POgC6WbfH6UtgFTU
 Vu1/HU+JJYDURwreBQ0E/XiA7s5jvjlMhtf2tbqbi9Rwyjn7fNNn+oaYUrVe7pUGJDfr
 /OQw==
X-Gm-Message-State: AOJu0Yy/JsFdmNw4MfrW0cJQPfcuEYOLXS9nPOmkRE9OT+wucND/BQfb
 9dT6OoWauZ9MKGMm1UHtZ+5DZkJjXLfe8kwWE84kDecckdKkthXYz+sPivcurq2LOQKwL/DR4+5
 Dy7kGnbZRkQsba9XCmtpqIIlPBE4KojdC4YYMxf5O
X-Gm-Gg: ASbGnctFUS8Gjv+CZ0oJQ1LQcl3C/za/8dfKz30YWsXZ52h/ZdH9kIr3BaYXX/OEVuP
 xjHJ2bT6XaAR14/a1sJpNkzMoCEnzSaCYph4rzFU1kM0PyWrskzy2ctpyTFYFkf9F9kgRNtccsF
 iOq0Af/ERT0UBC9UDdV4T+L/korB3V3fqfQ7rIb9xum9H9CxCD2krhTAHvIs6Ox3rW063OZrnJU
 a/wwnrFmB/FzDtdxlzRgtS/RZqGoPnxKRMbLQJpxdaa5CVXEweadcJkMDtT+9B47uOJMTOlJngH
 GtWBbqxkX0mbFSlQFG0ttrBDV6n30ZrnkbEvUm9h
X-Google-Smtp-Source: AGHT+IGhkgyyhWk/S5KPMpIusV5vTOZxxTAXdvoiVp8JCb2yduKXoWwV8gs8jInjNeXrtU3/azC8JyXfyReQ
X-Received: by 2002:a17:903:1ca:b0:223:653e:eb09 with SMTP id
 d9443c01a7336-2242887fd67mr429245ad.7.1741280752790; 
 Thu, 06 Mar 2025 09:05:52 -0800 (PST)
Received: from postal.iol.unh.edu (postal.iol.unh.edu. [132.177.123.84])
 by smtp-relay.gmail.com with ESMTPS id
 d9443c01a7336-22410abfbbesm500205ad.81.2025.03.06.09.05.52
 (version=TLS1_2 cipher=ECDHE-ECDSA-AES128-GCM-SHA256 bits=128/128);
 Thu, 06 Mar 2025 09:05:52 -0800 (PST)
X-Relaying-Domain: iol.unh.edu
Date: Thu, 06 Mar 2025 09:05:52 -0800 (PST)
Message-ID: <67c9d5f0.170a0220.37618b.29bcSMTPIN_ADDED_MISSING@mx.google.com>
Received: from [172.21.0.8] (unknown [172.18.0.240])
 by postal.iol.unh.edu (Postfix) with ESMTP id DB4A46052471;
 Thu,  6 Mar 2025 12:05:51 -0500 (EST)
Subject: |SUCCESS| pw152269 [PATCH] ci: fix ccache for Ubuntu 22.04
From: dpdklab@iol.unh.edu
To: Test Report <test-report@dpdk.org>
Cc: dpdk-test-reports@iol.unh.edu
In-Reply-To: <20250306143443.3972030-1-david.marchand@redhat.com>
References: <20250306143443.3972030-1-david.marchand@redhat.com>
Content-Type: text/plain
X-BeenThere: test-report@dpdk.org
X-Mailman-Version: 2.1.29
Precedence: list
List-Id: automatic DPDK test reports <test-report.dpdk.org>
List-Unsubscribe: <https://mails.dpdk.org/options/test-report>,
 <mailto:test-report-request@dpdk.org?subject=unsubscribe>
List-Archive: <http://mails.dpdk.org/archives/test-report/>
List-Post: <mailto:test-report@dpdk.org>
List-Help: <mailto:test-report-request@dpdk.org?subject=help>
List-Subscribe: <https://mails.dpdk.org/listinfo/test-report>,
 <mailto:test-report-request@dpdk.org?subject=subscribe>
Errors-To: test-report-bounces@dpdk.org

Test-Label: iol-compile-amd64-testing
Test-Status: SUCCESS
http://dpdk.org/patch/152269

_Testing PASS_

Submitter: David Marchand <david.marchand@redhat.com>
Date: Thursday, March 06 2025 14:34:43 
DPDK git baseline: Repo:dpdk
  Branch: master
  CommitID:df4acb2d31dc699f1dcab4a14b5030caf4d9269d

152269 --> testing pass

Upstream job id: Generic-DPDK-Compile-Meson#369599

Test environment and result as below:

+-----------------------------------+--------------------+-------------------+------------------+-------------------------+-------------------+----------------------+
|            Environment            | dpdk_meson_compile | dpdk_compile_spdk | dpdk_compile_ovs | dpdk_llvm_clang_compile | dpdk_msvc_compile | dpdk_mingw64_compile |
+===================================+====================+===================+==================+=========================+===================+======================+
| CentOS Stream 9                   | PASS               | PASS              | SKIPPED          | SKIPPED                 | SKIPPED           | SKIPPED              |
+-----------------------------------+--------------------+-------------------+------------------+-------------------------+-------------------+----------------------+
| openSUSE Leap 15                  | PASS               | SKIPPED           | SKIPPED          | SKIPPED                 | SKIPPED           | SKIPPED              |
+-----------------------------------+--------------------+-------------------+------------------+-------------------------+-------------------+----------------------+
| RHEL9                             | PASS               | SKIPPED           | SKIPPED          | SKIPPED                 | SKIPPED           | SKIPPED              |
+-----------------------------------+--------------------+-------------------+------------------+-------------------------+-------------------+----------------------+
| Debian 12                         | PASS               | PASS              | SKIPPED          | SKIPPED                 | SKIPPED           | SKIPPED              |
+-----------------------------------+--------------------+-------------------+------------------+-------------------------+-------------------+----------------------+
| Fedora 41                         | PASS               | PASS              | PASS             | SKIPPED                 | SKIPPED           | SKIPPED              |
+-----------------------------------+--------------------+-------------------+------------------+-------------------------+-------------------+----------------------+
| Debian Bullseye                   | PASS               | PASS              | SKIPPED          | SKIPPED                 | SKIPPED           | SKIPPED              |
+-----------------------------------+--------------------+-------------------+------------------+-------------------------+-------------------+----------------------+
| Fedora 40                         | PASS               | PASS              | SKIPPED          | SKIPPED                 | SKIPPED           | SKIPPED              |
+-----------------------------------+--------------------+-------------------+------------------+-------------------------+-------------------+----------------------+
| Ubuntu 24.04                      | PASS               | PASS              | PASS             | SKIPPED                 | SKIPPED           | SKIPPED              |
+-----------------------------------+--------------------+-------------------+------------------+-------------------------+-------------------+----------------------+
| Ubuntu 24.04 32 Bit Cross Compile | PASS               | SKIPPED           | SKIPPED          | SKIPPED                 | SKIPPED           | SKIPPED              |
+-----------------------------------+--------------------+-------------------+------------------+-------------------------+-------------------+----------------------+
| Ubuntu 20.04                      | PASS               | SKIPPED           | SKIPPED          | SKIPPED                 | SKIPPED           | SKIPPED              |
+-----------------------------------+--------------------+-------------------+------------------+-------------------------+-------------------+----------------------+
| Fedora 41 (Clang)                 | PASS               | PASS              | PASS             | SKIPPED                 | SKIPPED           | SKIPPED              |
+-----------------------------------+--------------------+-------------------+------------------+-------------------------+-------------------+----------------------+
| Fedora 40 (Clang)                 | PASS               | PASS              | SKIPPED          | SKIPPED                 | SKIPPED           | SKIPPED              |
+-----------------------------------+--------------------+-------------------+------------------+-------------------------+-------------------+----------------------+
| Ubuntu 22.04                      | PASS               | PASS              | SKIPPED          | SKIPPED                 | SKIPPED           | SKIPPED              |
+-----------------------------------+--------------------+-------------------+------------------+-------------------------+-------------------+----------------------+
| Alpine                            | PASS               | SKIPPED           | SKIPPED          | SKIPPED                 | SKIPPED           | SKIPPED              |
+-----------------------------------+--------------------+-------------------+------------------+-------------------------+-------------------+----------------------+
| FreeBSD 13.4                      | PASS               | SKIPPED           | SKIPPED          | SKIPPED                 | SKIPPED           | SKIPPED              |
+-----------------------------------+--------------------+-------------------+------------------+-------------------------+-------------------+----------------------+
| FreeBSD 14.2                      | PASS               | SKIPPED           | SKIPPED          | SKIPPED                 | SKIPPED           | SKIPPED              |
+-----------------------------------+--------------------+-------------------+------------------+-------------------------+-------------------+----------------------+
| CentOS Stream 10                  | PASS               | SKIPPED           | SKIPPED          | SKIPPED                 | SKIPPED           | SKIPPED              |
+-----------------------------------+--------------------+-------------------+------------------+-------------------------+-------------------+----------------------+
| RHEL8                             | PASS               | SKIPPED           | SKIPPED          | SKIPPED                 | SKIPPED           | SKIPPED              |
+-----------------------------------+--------------------+-------------------+------------------+-------------------------+-------------------+----------------------+
| Windows Server 2022               | SKIPPED            | SKIPPED           | SKIPPED          | PASS                    | PASS              | PASS                 |
+-----------------------------------+--------------------+-------------------+------------------+-------------------------+-------------------+----------------------+


CentOS Stream 9
	Kernel: Depends on container host
	Compiler: gcc 11.5.0 20240719 (Red Hat 11.5.0-2)

openSUSE Leap 15
	Kernel: Depends on container host
	Compiler: gcc (SUSE Linux) 7.5.0

RHEL9
	Kernel: Depends on container host
	Compiler: gcc 11.5.0 20240719 (Red Hat 11.5.0-2)

Debian 12
	Kernel: Depends on container host
	Compiler: gcc (Debian 12.2.0-14) 12.2.0

Fedora 41
	Kernel: Depends on container host
	Compiler: gcc 14.2.1 20240912 (Red Hat 14.2.1-3)

Debian Bullseye
	Kernel: Depends on container host
	Compiler: gcc (Debian 10.2.1-6) 10.2.1 20210110

Fedora 40
	Kernel: Depends on container host
	Compiler: gcc 14.2.1 20240912 (Red Hat 14.2.1-3)

Ubuntu 24.04
	Kernel: Depends on container host
	Compiler: gcc (Ubuntu 13.3.0-6ubuntu2~24.04) 13.3.0

Ubuntu 24.04 32 Bit Cross Compile
	Kernel: Depends on container host
	Compiler: gcc (Ubuntu 13.3.0-6ubuntu2~24.04) 13.3.0

Ubuntu 20.04
	Kernel: Depends on container host
	Compiler: gcc (Ubuntu 9.4.0-1ubuntu1~20.04.2) 9.4.0

Fedora 41 (Clang)
	Kernel: Depends on container host
	Compiler: clang 19.1.5 (Fedora 19.1.5-1.fc41)

Fedora 40 (Clang)
	Kernel: Depends on container host
	Compiler: clang 18.1.8 (Fedora 18.1.8-1.fc40)

Ubuntu 22.04
	Kernel: Depends on container host
	Compiler: gcc (Ubuntu 11.4.0-1ubuntu1~22.04) 11.4.0

Alpine
	Kernel: Depends on container host
	Compiler: gcc (Alpine 14.2.0) 14.2.0

FreeBSD 13.4
	Kernel: 13.4-RELEASE-p1
	Compiler: clang 18.1.6

FreeBSD 14.2
	Kernel: 14.2-RELEASE
	Compiler: clang 18.1.6

CentOS Stream 10
	Kernel: Depends on container host
	Compiler: gcc 14.2.1 20241104 (Red Hat 14.2.1-6)

RHEL8
	Kernel: Depends on container host
	Compiler: gcc 8.5.0 20210514 (Red Hat 8.5.0-22)

Windows Server 2022
	Kernel: 10.0.20348.2031
	Compiler: clang 15.0.7, gcc 14.1.0 (MinGW), and MSVC VS 19.39.33521

To view detailed results, visit:
https://lab.dpdk.org/results/dashboard/patchsets/32767/

UNH-IOL DPDK Community Lab

To manage your email subscriptions, visit: 
https://lab.dpdk.org/results/dashboard/preferences/subscriptions/