From mboxrd@z Thu Jan  1 00:00:00 1970
Return-Path: <test-report-bounces@dpdk.org>
Received: from mails.dpdk.org (mails.dpdk.org [217.70.189.124])
	by inbox.dpdk.org (Postfix) with ESMTP id 186FF463BC
	for <public@inbox.dpdk.org>; Tue, 11 Mar 2025 12:41:17 +0100 (CET)
Received: from mails.dpdk.org (localhost [127.0.0.1])
	by mails.dpdk.org (Postfix) with ESMTP id 193FA4027F;
	Tue, 11 Mar 2025 12:41:17 +0100 (CET)
Received: from mail-pl1-f228.google.com (mail-pl1-f228.google.com
 [209.85.214.228])
 by mails.dpdk.org (Postfix) with ESMTP id 4D78D40263
 for <test-report@dpdk.org>; Tue, 11 Mar 2025 12:41:15 +0100 (CET)
Received: by mail-pl1-f228.google.com with SMTP id
 d9443c01a7336-223594b3c6dso94606055ad.2
 for <test-report@dpdk.org>; Tue, 11 Mar 2025 04:41:15 -0700 (PDT)
DKIM-Signature: v=1; a=rsa-sha256; c=relaxed/relaxed;
 d=iol.unh.edu; s=unh-iol; t=1741693274; x=1742298074; darn=dpdk.org;
 h=references:in-reply-to:cc:to:from:subject:message-id:date:from:to
 :cc:subject:date:message-id:reply-to;
 bh=n7IFoTA7K5gdFQs4GLIZu9K5ulj5upP0EZn8s8L2G6w=;
 b=ByMoSQLUlD0ye77pl8mQHi9yzquyMDvdXEKiIbDycrZYVozq47PiRsWEwDXt3Y3524
 5gZeSoQJfcQ+1B9rtW+pS+fYUYfnnKxArmXmXJ/ehR8FhhNnWH3Z+C2UYjMQz2ft12gn
 Iwhug0m1/3QgjSTNETRUqXYHXQv0VGAtIcxKc=
X-Google-DKIM-Signature: v=1; a=rsa-sha256; c=relaxed/relaxed;
 d=1e100.net; s=20230601; t=1741693274; x=1742298074;
 h=references:in-reply-to:cc:to:from:subject:message-id:date
 :x-gm-message-state:from:to:cc:subject:date:message-id:reply-to;
 bh=n7IFoTA7K5gdFQs4GLIZu9K5ulj5upP0EZn8s8L2G6w=;
 b=B8g888rR/8HxhEdsmsm8L5QME57cJV5OYmNU1xC+XcXcaizJrWAyhY6U7nv/dy2hMn
 j3CsGeBrnrLeesrMWSGr/cLYHvYqXeghu1Khk/CHAGnT6ZE5uKPr3qzZ6zbA5jzBy28h
 I8keZ+kaQT/NBNBfLDWAXKi/+cO9ZRI1y82ozT1pU6fFZ90e0wI5I6Zd0zbofm+jpUSv
 xhmcca0x3/J0yjYmaVGOg2NvCExHyOru641Z4W3TDL46OHFaoD9ZvT/hfCsyyYsUXrYl
 kx1Lappk05E4vcSHh8iWO3CZyhf/iabi3HRBe5H3r4TJL+ZWzCheZdw8oGpCym9v0ZkY
 WGgg==
X-Gm-Message-State: AOJu0YwaFTbkpfZoIaCx7Db1XQFouMLnExKFPj4zxNBxwRHmTcxsglme
 5FTBMeNfZwX2BL0Ede+VZhtYW7T100nZAt8LiUQKTGJ6Cl1XcLEUNeYuvF3g33SHoMfO9FbmGpa
 RH5gIKUQvieazF4JRkkQf5CWBZ/g6jb3/BR86mw3o
X-Gm-Gg: ASbGncuITP25ak5e+HTl8cnoEC6+yXisEmQbs6cW776Qu6TKPvU0KZw67NEGLbIuq9h
 y6AkBK93O+Ai+naoZNkB8fgFrifAWzsIKd0u3gDC6aQj8a/Abdpnw2H5PVYLX7bzkfW+1kaNwNI
 fHtBHMfKqGFTe6dVd1adQAIFyf/uU4+65vBJ/cVcCPbnj42H5GAdxX70VfyN7O75gVHyrDVs9/k
 JRC8bm5g7B6ukVvjzgT1aUWcghz/Xc9sZPWiK4EfTVTm84Lex3Od5e1pW0g/8SjrMmoazdEErOV
 gQYTZY+SFYUwTW9nceI910r2XH6OxgCA0JXp8nSE
X-Google-Smtp-Source: AGHT+IFzWIBXiF/CSMhYFwYTw/cEr4pxPeU7CR3bC/d9/NEdGZGioDtpVtVFQHb/qhEM/HIy7jf+6RWy02P+
X-Received: by 2002:a17:902:e74e:b0:223:60ce:2451 with SMTP id
 d9443c01a7336-2242889a9a4mr241249295ad.15.1741693274427; 
 Tue, 11 Mar 2025 04:41:14 -0700 (PDT)
Received: from postal.iol.unh.edu (postal.iol.unh.edu. [132.177.123.84])
 by smtp-relay.gmail.com with ESMTPS id
 d9443c01a7336-224109d449asm5882635ad.24.2025.03.11.04.41.14
 (version=TLS1_2 cipher=ECDHE-ECDSA-AES128-GCM-SHA256 bits=128/128);
 Tue, 11 Mar 2025 04:41:14 -0700 (PDT)
X-Relaying-Domain: iol.unh.edu
Date: Tue, 11 Mar 2025 04:41:14 -0700 (PDT)
Message-ID: <67d0215a.170a0220.93781.dd83SMTPIN_ADDED_MISSING@mx.google.com>
Received: from [172.17.0.3] (unknown [172.18.0.217])
 by postal.iol.unh.edu (Postfix) with ESMTP id DF54A6052471;
 Tue, 11 Mar 2025 07:41:13 -0400 (EDT)
Subject: |SUCCESS| pw152304-152309 [PATCH] [v2,6/6] bus/vmbus: set event for 
From: dpdklab@iol.unh.edu
To: Test Report <test-report@dpdk.org>
Cc: dpdk-test-reports@iol.unh.edu
In-Reply-To: <1741642977-14297-7-git-send-email-longli@linuxonhyperv.com>
References: <1741642977-14297-7-git-send-email-longli@linuxonhyperv.com>
Content-Type: text/plain
X-BeenThere: test-report@dpdk.org
X-Mailman-Version: 2.1.29
Precedence: list
List-Id: automatic DPDK test reports <test-report.dpdk.org>
List-Unsubscribe: <https://mails.dpdk.org/options/test-report>,
 <mailto:test-report-request@dpdk.org?subject=unsubscribe>
List-Archive: <http://mails.dpdk.org/archives/test-report/>
List-Post: <mailto:test-report@dpdk.org>
List-Help: <mailto:test-report-request@dpdk.org?subject=help>
List-Subscribe: <https://mails.dpdk.org/listinfo/test-report>,
 <mailto:test-report-request@dpdk.org?subject=subscribe>
Errors-To: test-report-bounces@dpdk.org

Test-Label: iol-unit-amd64-testing
Test-Status: SUCCESS
http://dpdk.org/patch/152309

_Testing PASS_

Submitter: Long Li <longli@linuxonhyperv.com>
Date: Monday, March 10 2025 21:42:57 
DPDK git baseline: Repo:dpdk
  Branch: master
  CommitID:d59e5e7d3e827f02131a88bafd9191efd6720a42

152304-152309 --> testing pass

Upstream job id: Generic-Unit-Test-DPDK#323258

Test environment and result as below:

+---------------------+----------------+
|     Environment     | dpdk_unit_test |
+=====================+================+
| Fedora 40           | PASS           |
+---------------------+----------------+
| Fedora 41           | PASS           |
+---------------------+----------------+
| CentOS Stream 9     | PASS           |
+---------------------+----------------+
| Debian 12           | PASS           |
+---------------------+----------------+
| CentOS Stream 10    | PASS           |
+---------------------+----------------+
| Fedora 40 (Clang)   | PASS           |
+---------------------+----------------+
| Fedora 41 (Clang)   | PASS           |
+---------------------+----------------+
| Ubuntu 20.04        | PASS           |
+---------------------+----------------+
| RHEL8               | PASS           |
+---------------------+----------------+
| RHEL9               | PASS           |
+---------------------+----------------+
| Ubuntu 22.04        | PASS           |
+---------------------+----------------+
| Ubuntu 24.04        | PASS           |
+---------------------+----------------+
| Windows Server 2022 | PASS           |
+---------------------+----------------+


Fedora 40
	Kernel: Depends on container host
	Compiler: gcc 14.2.1 20240912 (Red Hat 14.2.1-3)

Fedora 41
	Kernel: Depends on container host
	Compiler: gcc 14.2.1 20240912 (Red Hat 14.2.1-3)

CentOS Stream 9
	Kernel: Depends on container host
	Compiler: gcc 11.5.0 20240719 (Red Hat 11.5.0-2)

Debian 12
	Kernel: Depends on container host
	Compiler: gcc (Debian 12.2.0-14) 12.2.0

CentOS Stream 10
	Kernel: Depends on container host
	Compiler: gcc 14.2.1 20241104 (Red Hat 14.2.1-6)

Fedora 40 (Clang)
	Kernel: Depends on container host
	Compiler: clang 18.1.8 (Fedora 18.1.8-1.fc40)

Fedora 41 (Clang)
	Kernel: Depends on container host
	Compiler: clang 19.1.5 (Fedora 19.1.5-1.fc41)

Ubuntu 20.04
	Kernel: Depends on container host
	Compiler: gcc (Ubuntu 9.4.0-1ubuntu1~20.04.2) 9.4.0

RHEL8
	Kernel: Depends on container host
	Compiler: gcc 8.5.0 20210514 (Red Hat 8.5.0-22)

RHEL9
	Kernel: Depends on container host
	Compiler: gcc 11.5.0 20240719 (Red Hat 11.5.0-2)

Ubuntu 22.04
	Kernel: Depends on container host
	Compiler: gcc (Ubuntu 11.4.0-1ubuntu1~22.04) 11.4.0

Ubuntu 24.04
	Kernel: Depends on container host
	Compiler: gcc (Ubuntu 13.3.0-6ubuntu2~24.04) 13.3.0

Windows Server 2022
	Kernel: 10.0.20348.2031
	Compiler: clang 15.0.7, gcc 14.1.0 (MinGW), and MSVC VS 19.39.33521

To view detailed results, visit:
https://lab.dpdk.org/results/dashboard/patchsets/32791/

UNH-IOL DPDK Community Lab

To manage your email subscriptions, visit: 
https://lab.dpdk.org/results/dashboard/preferences/subscriptions/