From mboxrd@z Thu Jan  1 00:00:00 1970
Return-Path: <test-report-bounces@dpdk.org>
Received: from mails.dpdk.org (mails.dpdk.org [217.70.189.124])
	by inbox.dpdk.org (Postfix) with ESMTP id 31520463D4
	for <public@inbox.dpdk.org>; Wed, 12 Mar 2025 03:30:00 +0100 (CET)
Received: from mails.dpdk.org (localhost [127.0.0.1])
	by mails.dpdk.org (Postfix) with ESMTP id 2B33940265;
	Wed, 12 Mar 2025 03:30:00 +0100 (CET)
Received: from mail-qk1-f227.google.com (mail-qk1-f227.google.com
 [209.85.222.227])
 by mails.dpdk.org (Postfix) with ESMTP id 932AB40264
 for <test-report@dpdk.org>; Wed, 12 Mar 2025 03:29:59 +0100 (CET)
Received: by mail-qk1-f227.google.com with SMTP id
 af79cd13be357-7be49f6b331so631372085a.1
 for <test-report@dpdk.org>; Tue, 11 Mar 2025 19:29:59 -0700 (PDT)
DKIM-Signature: v=1; a=rsa-sha256; c=relaxed/relaxed;
 d=iol.unh.edu; s=unh-iol; t=1741746599; x=1742351399; darn=dpdk.org;
 h=references:in-reply-to:cc:to:from:subject:message-id:date:from:to
 :cc:subject:date:message-id:reply-to;
 bh=x096rvtqv707k00Mi8vICAtVuMUu0KEgtlRGMijM6gk=;
 b=KZG9EQPfLpmeYr3e/xzY+Rju3ZMxRrPqfKrOtC0H4iL+BNEeQ3f5yY0NV/0gByR/f5
 QKjxXGKxqgEpJ0WZm6PH56kIs4Fk8RD4D9eD+qVpVGlsEx5Bd4NqL+CsAuOaNtw9Vk6H
 6I19AYv9yQwrySkDRQEBeTYuG7Cty/KUcj08I=
X-Google-DKIM-Signature: v=1; a=rsa-sha256; c=relaxed/relaxed;
 d=1e100.net; s=20230601; t=1741746599; x=1742351399;
 h=references:in-reply-to:cc:to:from:subject:message-id:date
 :x-gm-message-state:from:to:cc:subject:date:message-id:reply-to;
 bh=x096rvtqv707k00Mi8vICAtVuMUu0KEgtlRGMijM6gk=;
 b=vE9QTdjy0AEMKwat/WANFtYn41taE0P91TL6JnbHe+0vGa07VJq663KwDdgZIrb3wq
 wLkwHBzcHq8KsQu1Dv+dHpwnIqtKY29RgkE/8RH4CDs6ONY6Vn+ZCtgkNAj2T6esjb0g
 vqswRVFijEv3x55AtHC94mOTIy/5SCsSmvxVC8O7KSQb0Xps7NOzhvUa6lpT/WJgECLl
 CP+8Wheogxw37W40YF7Lc3AxDUbHGJhQ27fDh4GDdvJSpysYnGDYvA7KZg+6D0N3G2UR
 lhKV1EleMizwaf70I8kQuZbfrjiZBorIeV6uMN21mHFrzZJHmZiru8UVniaWcnSj+pzR
 h0Lw==
X-Gm-Message-State: AOJu0YyWvzQsZd1DluBt+JbIXJGY1u3moShNAxxND5HFG1bhuuR60Ybw
 W0mN8XTA6QKrvNqfHZXM3a8gA3NhhJK8rBhVH7AuiN/tApWDDSZOvlXnCoj4pLXrXY/5QNZkGk+
 rJTbEu6BErOqQWi/sVebueH/AXOBFAgRe2ZlDnZ/l
X-Gm-Gg: ASbGncvYdNCaWfzopqmPQ5GpPWsS2zQdlx1+uuIQWlwuIMCBRUm8n2MgFc/8wpqnFz3
 tdnttgr2nYknRtkCuRu8DEiBER6YiDsxFBFEq9mnBpiuXTXd2FjMmMBlCi3iUNK3+IIFT/Spz/4
 EX6p1ilcLfQc4MkS87xZHWebgDihshlVeAU+oWOkqrC00BbhKxmIUTMahjj50TN0xEoUMk64Wy7
 SwPS968kRVn/42oB/dipS4HItMOLIuWkAdFU4zXNFaaxq8XGepzr0PRYQKEVisUEcQX0ilNzwma
 te8y905V2YeM5FP+VQ/MNv8Jb4GY25iv7L2M6VPH
X-Google-Smtp-Source: AGHT+IGv07C2oro4qF2cUljRM5hzjY8/kRIJnCzetz+6r0YqjEqj8WC3VHtWSCUWKlGXfZqdZ4k+6mH/kx9u
X-Received: by 2002:a05:620a:a503:b0:7c5:3b8d:9f36 with SMTP id
 af79cd13be357-7c53b8d9ff3mr1791318385a.24.1741746598970; 
 Tue, 11 Mar 2025 19:29:58 -0700 (PDT)
Received: from postal.iol.unh.edu (postal.iol.unh.edu. [132.177.123.84])
 by smtp-relay.gmail.com with ESMTPS id
 af79cd13be357-7c561bfbc31sm24355985a.4.2025.03.11.19.29.58
 (version=TLS1_2 cipher=ECDHE-ECDSA-AES128-GCM-SHA256 bits=128/128);
 Tue, 11 Mar 2025 19:29:58 -0700 (PDT)
X-Relaying-Domain: iol.unh.edu
Date: Tue, 11 Mar 2025 19:29:58 -0700 (PDT)
Message-ID: <67d0f1a6.050a0220.3bdba4.8c24SMTPIN_ADDED_MISSING@mx.google.com>
Received: from [172.17.0.4] (unknown [172.18.0.217])
 by postal.iol.unh.edu (Postfix) with ESMTP id 963766052471;
 Tue, 11 Mar 2025 22:29:58 -0400 (EDT)
Subject: |SUCCESS| pw152332-152340 [PATCH] [v3,9/9] net/ioring: support multi
From: dpdklab@iol.unh.edu
To: Test Report <test-report@dpdk.org>
Cc: dpdk-test-reports@iol.unh.edu
In-Reply-To: <20250311235424.172440-10-stephen@networkplumber.org>
References: <20250311235424.172440-10-stephen@networkplumber.org>
Content-Type: text/plain
X-BeenThere: test-report@dpdk.org
X-Mailman-Version: 2.1.29
Precedence: list
List-Id: automatic DPDK test reports <test-report.dpdk.org>
List-Unsubscribe: <https://mails.dpdk.org/options/test-report>,
 <mailto:test-report-request@dpdk.org?subject=unsubscribe>
List-Archive: <http://mails.dpdk.org/archives/test-report/>
List-Post: <mailto:test-report@dpdk.org>
List-Help: <mailto:test-report-request@dpdk.org?subject=help>
List-Subscribe: <https://mails.dpdk.org/listinfo/test-report>,
 <mailto:test-report-request@dpdk.org?subject=subscribe>
Errors-To: test-report-bounces@dpdk.org

Test-Label: iol-compile-amd64-testing
Test-Status: SUCCESS
http://dpdk.org/patch/152340

_Testing PASS_

Submitter: Stephen Hemminger <stephen@networkplumber.org>
Date: Tuesday, March 11 2025 23:51:27 
DPDK git baseline: Repo:dpdk
  Branch: master
  CommitID:f1ba1be33657c02df257dbe6e5741232bff7df1a

152332-152340 --> testing pass

Upstream job id: Generic-DPDK-Compile-Meson#371169

Test environment and result as below:

+-----------------------------------+--------------------+-------------------+------------------+-------------------+-------------------------+
|            Environment            | dpdk_meson_compile | dpdk_compile_spdk | dpdk_compile_ovs | dpdk_msvc_compile | dpdk_llvm_clang_compile |
+===================================+====================+===================+==================+===================+=========================+
| CentOS Stream 9                   | PASS               | PASS              | SKIPPED          | SKIPPED           | SKIPPED                 |
+-----------------------------------+--------------------+-------------------+------------------+-------------------+-------------------------+
| Debian 12                         | PASS               | PASS              | SKIPPED          | SKIPPED           | SKIPPED                 |
+-----------------------------------+--------------------+-------------------+------------------+-------------------+-------------------------+
| CentOS Stream 10                  | PASS               | SKIPPED           | SKIPPED          | SKIPPED           | SKIPPED                 |
+-----------------------------------+--------------------+-------------------+------------------+-------------------+-------------------------+
| Fedora 40 (Clang)                 | PASS               | PASS              | SKIPPED          | SKIPPED           | SKIPPED                 |
+-----------------------------------+--------------------+-------------------+------------------+-------------------+-------------------------+
| Fedora 40                         | PASS               | PASS              | SKIPPED          | SKIPPED           | SKIPPED                 |
+-----------------------------------+--------------------+-------------------+------------------+-------------------+-------------------------+
| Fedora 41 (Clang)                 | PASS               | PASS              | PASS             | SKIPPED           | SKIPPED                 |
+-----------------------------------+--------------------+-------------------+------------------+-------------------+-------------------------+
| openSUSE Leap 15                  | PASS               | SKIPPED           | SKIPPED          | SKIPPED           | SKIPPED                 |
+-----------------------------------+--------------------+-------------------+------------------+-------------------+-------------------------+
| Ubuntu 20.04                      | PASS               | SKIPPED           | SKIPPED          | SKIPPED           | SKIPPED                 |
+-----------------------------------+--------------------+-------------------+------------------+-------------------+-------------------------+
| Ubuntu 22.04                      | PASS               | PASS              | SKIPPED          | SKIPPED           | SKIPPED                 |
+-----------------------------------+--------------------+-------------------+------------------+-------------------+-------------------------+
| RHEL9                             | PASS               | SKIPPED           | SKIPPED          | SKIPPED           | SKIPPED                 |
+-----------------------------------+--------------------+-------------------+------------------+-------------------+-------------------------+
| RHEL8                             | PASS               | SKIPPED           | SKIPPED          | SKIPPED           | SKIPPED                 |
+-----------------------------------+--------------------+-------------------+------------------+-------------------+-------------------------+
| Ubuntu 24.04 32 Bit Cross Compile | PASS               | SKIPPED           | SKIPPED          | SKIPPED           | SKIPPED                 |
+-----------------------------------+--------------------+-------------------+------------------+-------------------+-------------------------+
| Alpine                            | PASS               | SKIPPED           | SKIPPED          | SKIPPED           | SKIPPED                 |
+-----------------------------------+--------------------+-------------------+------------------+-------------------+-------------------------+
| FreeBSD 13.4                      | PASS               | SKIPPED           | SKIPPED          | SKIPPED           | SKIPPED                 |
+-----------------------------------+--------------------+-------------------+------------------+-------------------+-------------------------+
| FreeBSD 14.2                      | PASS               | SKIPPED           | SKIPPED          | SKIPPED           | SKIPPED                 |
+-----------------------------------+--------------------+-------------------+------------------+-------------------+-------------------------+
| Ubuntu 24.04                      | PASS               | PASS              | PASS             | SKIPPED           | SKIPPED                 |
+-----------------------------------+--------------------+-------------------+------------------+-------------------+-------------------------+
| Windows Server 2022               | SKIPPED            | SKIPPED           | SKIPPED          | PASS              | PASS                    |
+-----------------------------------+--------------------+-------------------+------------------+-------------------+-------------------------+


CentOS Stream 9
	Kernel: Depends on container host
	Compiler: gcc 11.5.0 20240719 (Red Hat 11.5.0-2)

Debian 12
	Kernel: Depends on container host
	Compiler: gcc (Debian 12.2.0-14) 12.2.0

CentOS Stream 10
	Kernel: Depends on container host
	Compiler: gcc 14.2.1 20241104 (Red Hat 14.2.1-6)

Fedora 40 (Clang)
	Kernel: Depends on container host
	Compiler: clang 18.1.8 (Fedora 18.1.8-1.fc40)

Fedora 40
	Kernel: Depends on container host
	Compiler: gcc 14.2.1 20240912 (Red Hat 14.2.1-3)

Fedora 41 (Clang)
	Kernel: Depends on container host
	Compiler: clang 19.1.5 (Fedora 19.1.5-1.fc41)

openSUSE Leap 15
	Kernel: Depends on container host
	Compiler: gcc (SUSE Linux) 7.5.0

Ubuntu 20.04
	Kernel: Depends on container host
	Compiler: gcc (Ubuntu 9.4.0-1ubuntu1~20.04.2) 9.4.0

Ubuntu 22.04
	Kernel: Depends on container host
	Compiler: gcc (Ubuntu 11.4.0-1ubuntu1~22.04) 11.4.0

RHEL9
	Kernel: Depends on container host
	Compiler: gcc 11.5.0 20240719 (Red Hat 11.5.0-2)

RHEL8
	Kernel: Depends on container host
	Compiler: gcc 8.5.0 20210514 (Red Hat 8.5.0-22)

Ubuntu 24.04 32 Bit Cross Compile
	Kernel: Depends on container host
	Compiler: gcc (Ubuntu 13.3.0-6ubuntu2~24.04) 13.3.0

Alpine
	Kernel: Depends on container host
	Compiler: gcc (Alpine 14.2.0) 14.2.0

FreeBSD 13.4
	Kernel: 13.4-RELEASE-p1
	Compiler: clang 18.1.6

FreeBSD 14.2
	Kernel: 14.2-RELEASE
	Compiler: clang 18.1.6

Ubuntu 24.04
	Kernel: Depends on container host
	Compiler: gcc (Ubuntu 13.3.0-6ubuntu2~24.04) 13.3.0

Windows Server 2022
	Kernel: 10.0.20348.2031
	Compiler: clang 15.0.7, gcc 14.1.0 (MinGW), and MSVC VS 19.39.33521

To view detailed results, visit:
https://lab.dpdk.org/results/dashboard/patchsets/32802/

UNH-IOL DPDK Community Lab

To manage your email subscriptions, visit: 
https://lab.dpdk.org/results/dashboard/preferences/subscriptions/