From mboxrd@z Thu Jan  1 00:00:00 1970
Return-Path: <test-report-bounces@dpdk.org>
Received: from mails.dpdk.org (mails.dpdk.org [217.70.189.124])
	by inbox.dpdk.org (Postfix) with ESMTP id 2A4AA46828
	for <public@inbox.dpdk.org>; Thu, 29 May 2025 23:27:12 +0200 (CEST)
Received: from mails.dpdk.org (localhost [127.0.0.1])
	by mails.dpdk.org (Postfix) with ESMTP id 2587740150;
	Thu, 29 May 2025 23:27:12 +0200 (CEST)
Received: from mail-pf1-f226.google.com (mail-pf1-f226.google.com
 [209.85.210.226])
 by mails.dpdk.org (Postfix) with ESMTP id 18DF540150
 for <test-report@dpdk.org>; Thu, 29 May 2025 23:27:11 +0200 (CEST)
Received: by mail-pf1-f226.google.com with SMTP id
 d2e1a72fcca58-742c5f3456fso1097579b3a.0
 for <test-report@dpdk.org>; Thu, 29 May 2025 14:27:11 -0700 (PDT)
DKIM-Signature: v=1; a=rsa-sha256; c=relaxed/relaxed;
 d=iol.unh.edu; s=unh-iol; t=1748554030; x=1749158830; darn=dpdk.org;
 h=references:in-reply-to:cc:to:from:subject:message-id:date:from:to
 :cc:subject:date:message-id:reply-to;
 bh=YRHd2DuTmGJdZ8kInyo1W8XqdfLXDXtI9AyW+AwkP78=;
 b=NF6SDFmOxUgPRD0e7y6R2NVJiKUtGcRGXyf6l0K4qKU3pzX8vJ8jf9SWWKj8XrB9bA
 EY9SHhuGMLzZsIo5wOeWYgZ8Ce7cnuZLKKh/VF3hplW5Dfka4Am6L8hdrv+pVJeaIo+S
 2PPisTLnVkjBs9SuK+7fgx2Q7BXu+eU+NUqxs=
X-Google-DKIM-Signature: v=1; a=rsa-sha256; c=relaxed/relaxed;
 d=1e100.net; s=20230601; t=1748554030; x=1749158830;
 h=references:in-reply-to:cc:to:from:subject:message-id:date
 :x-gm-message-state:from:to:cc:subject:date:message-id:reply-to;
 bh=YRHd2DuTmGJdZ8kInyo1W8XqdfLXDXtI9AyW+AwkP78=;
 b=HDIlJgI7qd32uPzoDNebrUQ7yXiumUGFGQoMbpMz8FBmRP2CkMqIPKn/uqXx4ja+ul
 UADOhnHzLZI97nebU2ajiqAbWd2RO3JzBsaS7uduFD/wrpMT+2jsJqOGJ3r6nsmDJ2mf
 IVjmmfb+BUDyKBmZKP1dDBb44Iz+YYKXk7u/vEgj/Qy/eR7aXVL41hoUFEUl94K4k1MH
 MwfeFvfa2UHn0NKXGWdHLNZ/efiq+pAN8B83Cnxrr/Php0FpO03eS90JCl+p4Yr9WXqN
 uj+im+E0bkh0ebXVQAYl1Q9Dnvv8Dqh9vVsIJhTMSP78+zIkBOZKVx2ZzBCr1bBP5GL9
 MaJw==
X-Gm-Message-State: AOJu0Yzo8jK0wp8XowWN/WLTalpIz3XiTUHiMMOFCJcI8hl1ay8EiNQe
 +eDECcFyvzBe0BOAv2Mw4eHthJ7B3PZRJOk4IWl10u0PX1FH4HN0rk+aXNYni6rLdaVP7mpZYi5
 zPt1Oc/sgN9YXQ7rXKKkXSmoiCwnCclpSjPkf8Qwp44Qx
X-Gm-Gg: ASbGnctaSrJ8nvjsANE+55NL63ZryL0ensuGfZO2YpxBI5xqljUHyBe6lwLwfNAHUcF
 qJlvFvewYAAmmGrwx7isFKztaJ2Xo2/PTSL7Ub0i2ZU7kYs3lB11TB08x9gh5lNzuJffDyVayIS
 AmfeyD6gMm96zFTOn1Rh5hig8cyFyC6MCENUrWTfMYXHr3hy+z6+Reb5/ctHFHAbbc+C5XCkNhJ
 qBeCoKxzsWe/R1DChxzdNxmbWvDJGbqBlx7GSKEgLv7L4M04Z+Vu5LTWom4xaFp6xpFY3tiaPYP
 Z86A9/lPWiTd2CZLm07De9Ljv3XffzR+0Bvxu0+eYPFC0djqLAJJN4lKDgQ=
X-Google-Smtp-Source: AGHT+IF8o54NlZplndkjcKFMO4hKbd0oN397rA9HDl/ockpujtR37+PHip9Y3vcAEwafgsI+k5QAgrnmUwV8
X-Received: by 2002:a05:6a20:734e:b0:1f5:6f61:a0ac with SMTP id
 adf61e73a8af0-21ad94e49ebmr1709442637.5.1748554030158; 
 Thu, 29 May 2025 14:27:10 -0700 (PDT)
Received: from postal.iol.unh.edu (postal.iol.unh.edu. [132.177.123.84])
 by smtp-relay.gmail.com with ESMTPS id
 d2e1a72fcca58-747afed4f87sm130787b3a.12.2025.05.29.14.27.10
 (version=TLS1_2 cipher=ECDHE-ECDSA-AES128-GCM-SHA256 bits=128/128);
 Thu, 29 May 2025 14:27:10 -0700 (PDT)
X-Relaying-Domain: iol.unh.edu
Date: Thu, 29 May 2025 14:27:10 -0700 (PDT)
Message-ID: <6838d12e.050a0220.1d7db2.6e95SMTPIN_ADDED_MISSING@mx.google.com>
Received: from [172.17.0.3] (unknown [172.18.0.74])
 by postal.iol.unh.edu (Postfix) with ESMTP id 515946052471;
 Thu, 29 May 2025 17:27:09 -0400 (EDT)
Subject: |SUCCESS| pw153871 [PATCH] [v4] build: reduce use of AVX compiler fl
From: dpdklab@iol.unh.edu
To: Test Report <test-report@dpdk.org>
Cc: dpdk-test-reports@iol.unh.edu
In-Reply-To: <20250529154249.1310449-1-bruce.richardson@intel.com>
References: <20250529154249.1310449-1-bruce.richardson@intel.com>
Content-Type: text/plain
X-BeenThere: test-report@dpdk.org
X-Mailman-Version: 2.1.29
Precedence: list
List-Id: automatic DPDK test reports <test-report.dpdk.org>
List-Unsubscribe: <https://mails.dpdk.org/options/test-report>,
 <mailto:test-report-request@dpdk.org?subject=unsubscribe>
List-Archive: <http://mails.dpdk.org/archives/test-report/>
List-Post: <mailto:test-report@dpdk.org>
List-Help: <mailto:test-report-request@dpdk.org?subject=help>
List-Subscribe: <https://mails.dpdk.org/listinfo/test-report>,
 <mailto:test-report-request@dpdk.org?subject=subscribe>
Errors-To: test-report-bounces@dpdk.org

Test-Label: iol-unit-amd64-testing
Test-Status: SUCCESS
http://dpdk.org/patch/153871

_Testing PASS_

Submitter: Bruce Richardson <bruce.richardson@intel.com>
Date: Thursday, May 29 2025 15:42:19 
DPDK git baseline: Repo:dpdk
  Branch: master
  CommitID:a633a128fd09ff1fc72312f4e4d1a9e0f73aa359

153871 --> testing pass

Upstream job id: Generic-Unit-Test-DPDK#341843

Test environment and result as below:

+-------------------------------+----------------+
|          Environment          | dpdk_unit_test |
+===============================+================+
| CentOS Stream 10              | PASS           |
+-------------------------------+----------------+
| CentOS Stream 9               | PASS           |
+-------------------------------+----------------+
| Fedora 41                     | PASS           |
+-------------------------------+----------------+
| Fedora 40                     | PASS           |
+-------------------------------+----------------+
| Fedora 40 (Clang)             | PASS           |
+-------------------------------+----------------+
| Red Hat Enterprise Linux 8.10 | PASS           |
+-------------------------------+----------------+
| Fedora 41 (Clang)             | PASS           |
+-------------------------------+----------------+
| Debian GNU/Linux 12           | PASS           |
+-------------------------------+----------------+
| Red Hat Enterprise Linux 9.5  | PASS           |
+-------------------------------+----------------+
| Ubuntu 22.04                  | PASS           |
+-------------------------------+----------------+
| Ubuntu 24.04                  | PASS           |
+-------------------------------+----------------+
| Ubuntu 20.04                  | PASS           |
+-------------------------------+----------------+


CentOS Stream 10
	Kernel: Depends on container host
	Compiler: gcc 14.2.1 20241104 (Red Hat 14.2.1-6)

CentOS Stream 9
	Kernel: Depends on container host
	Compiler: gcc 11.5.0 20240719 (Red Hat 11.5.0-2)

Fedora 41
	Kernel: Depends on container host
	Compiler: gcc 14.2.1 20240912 (Red Hat 14.2.1-3)

Fedora 40
	Kernel: Depends on container host
	Compiler: gcc 14.2.1 20240912 (Red Hat 14.2.1-3)

Fedora 40 (Clang)
	Kernel: Depends on container host
	Compiler: clang 18.1.8 (Fedora 18.1.8-1.fc40)

Red Hat Enterprise Linux 8.10
	Kernel: 5.15
	Compiler: gcc gcc (GCC) 8.5.0 20210514 (Red Hat 8.5.0-22)

Fedora 41 (Clang)
	Kernel: Depends on container host
	Compiler: clang 19.1.5 (Fedora 19.1.5-1.fc41)

Debian GNU/Linux 12
	Kernel: 5.15
	Compiler: gcc gcc (Debian 12.2.0-14) 12.2.0

Red Hat Enterprise Linux 9.5
	Kernel: 5.15
	Compiler: gcc gcc (GCC) 11.5.0 20240719 (Red Hat 11.5.0-2)

Ubuntu 22.04
	Kernel: 5.15
	Compiler: gcc gcc (Ubuntu 11.4.0-1ubuntu1~22.04) 11.4.0

Ubuntu 24.04
	Kernel: 5.15
	Compiler: gcc gcc (Ubuntu 13.3.0-6ubuntu2~24.04) 13.3.0

Ubuntu 20.04
	Kernel: 5.15
	Compiler: gcc gcc (Ubuntu 9.4.0-1ubuntu1~20.04.2) 9.4.0

To view detailed results, visit:
https://lab.dpdk.org/results/dashboard/patchsets/33284/

UNH-IOL DPDK Community Lab

To manage your email subscriptions, visit: 
https://lab.dpdk.org/results/dashboard/preferences/subscriptions/