From mboxrd@z Thu Jan 1 00:00:00 1970 Return-Path: Received: from mails.dpdk.org (mails.dpdk.org [217.70.189.124]) by inbox.dpdk.org (Postfix) with ESMTP id 7417E4682B for ; Fri, 30 May 2025 03:34:52 +0200 (CEST) Received: from mails.dpdk.org (localhost [127.0.0.1]) by mails.dpdk.org (Postfix) with ESMTP id 4925440150; Fri, 30 May 2025 03:34:52 +0200 (CEST) Received: from mail-pl1-f228.google.com (mail-pl1-f228.google.com [209.85.214.228]) by mails.dpdk.org (Postfix) with ESMTP id 2289E40150 for ; Fri, 30 May 2025 03:34:51 +0200 (CEST) Received: by mail-pl1-f228.google.com with SMTP id d9443c01a7336-23539a1a421so384325ad.0 for ; Thu, 29 May 2025 18:34:51 -0700 (PDT) DKIM-Signature: v=1; a=rsa-sha256; c=relaxed/relaxed; d=iol.unh.edu; s=unh-iol; t=1748568890; x=1749173690; darn=dpdk.org; h=references:in-reply-to:cc:to:from:subject:message-id:date:from:to :cc:subject:date:message-id:reply-to; bh=+7zgtKYsjP725qKY8Fyog75nJzhOMuFrYwKH1On8XMo=; b=EUrLUm6cLS0t8L/NWl0lCwd00DVOAkhe1unyA7bCUQtwAlYtaJ2OPMtjtb2jzWMWsy aeWN1MvhBwwykpHEQxGm7+umAvQleRaVqisV5oYpCHqVsRQlImCG1y42QM/IYfEaP5cH 4QoeIbUMD2+YW4WhRgZQBCrrqY/dKvlR68GIA= X-Google-DKIM-Signature: v=1; a=rsa-sha256; c=relaxed/relaxed; d=1e100.net; s=20230601; t=1748568890; x=1749173690; h=references:in-reply-to:cc:to:from:subject:message-id:date :x-gm-message-state:from:to:cc:subject:date:message-id:reply-to; bh=+7zgtKYsjP725qKY8Fyog75nJzhOMuFrYwKH1On8XMo=; b=dtJq+Zpj17dJPc/e59vnCZBGBPZor2vaWKC13OMy4EOSsQauLE5VR2pCLQLvT73xih zeNhfIkWGVDrxdRMo+yhveq0DrGhS9+Xd+tGYpTtQsHZ3dDieTFJS7WtcbxrXa+fUMyD 9Tvtbo92YTy0jkIXZd54DCJLN9VeYvburBvKn9eeRGO5RP8mMQjFXbFcTeutab1sy+rz yV3voQRNMPqnFyJiJFbPzKMdEK+VIXcAZ0hFPFM+2WBXGWvO1+7Da8wXEQlzYSWHRLxF v3RpGS5ZSegtdbbzX7mtSKqahJNXCZ7ML+csHbQtVUnetV53Ceq5zzxMYwDmgfphizI3 zzvA== X-Gm-Message-State: AOJu0YzaUtdLqIJUpCjHU4q1ckN1sPIUvq0Cn9fnMt8Q2VLBySwVTKKd up8gO3sygEGlxTfbuzXuJ++I6LtIjzN8pON8ur+/6HjBBoZuecdIAe/AQ792QWFuBPw2xBS/YDV UzMwm5ilznRhHB+bFsyXygncd92Yp/rqy1xgByG8oFn9AjLV1YaHHFiXpJ2gf X-Gm-Gg: ASbGncvK9bT6wwBzaYFss8i2VTRFgVoBzLzleBPZwB3Cp9LOeNRTbGv0ZdhxTI1kjL7 jzDqIZiB+YrbKRqWuWMsXelAWU19ccjswIo/Sac8Tt/rfOsIIcQ9W2pSYb9bb/gv1j5q/ozmaPI 3j1SjJ/UOb8FIxl68Ws2+c81DDZsIp6oqnx1za80aFgIaj8ihwfEzo7113CE4DVQxQVC0qW7jQ8 RPM6qCxb6EXFP16bwbMj6A+uRUgki5dJTfHjjyDvBiYVzrzLGfP3qPX7bra3DQxlNNN2dK3yaJ0 oR9zSet0WuDKi5fn2BHntoZ+w1rnQ48i8Tki X-Google-Smtp-Source: AGHT+IGI1PR6DzFFca8b9fSmXM8zzCQdzCou8iZPLz9e4X+GjaP9+7IBo2aZmscHYeaGSAGbTlExd+n+kw0d X-Received: by 2002:a17:902:ecc6:b0:234:ba37:879e with SMTP id d9443c01a7336-2352990221dmr24925605ad.38.1748568889999; Thu, 29 May 2025 18:34:49 -0700 (PDT) Received: from postal.iol.unh.edu (postal.iol.unh.edu. [2606:4100:3880:1234::84]) by smtp-relay.gmail.com with ESMTPS id d9443c01a7336-23506d54398sm1526195ad.114.2025.05.29.18.34.49 (version=TLS1_2 cipher=ECDHE-ECDSA-AES128-GCM-SHA256 bits=128/128); Thu, 29 May 2025 18:34:49 -0700 (PDT) X-Relaying-Domain: iol.unh.edu Date: Thu, 29 May 2025 18:34:49 -0700 (PDT) Message-ID: <68390b39.170a0220.6a3eb.872fSMTPIN_ADDED_MISSING@mx.google.com> Received: from [172.21.0.5] (unknown [172.18.0.240]) by postal.iol.unh.edu (Postfix) with ESMTP id 626866052471; Thu, 29 May 2025 21:34:49 -0400 (EDT) Subject: |SUCCESS| pw153864 [PATCH] [v1,1/1] vhost: handle virtqueue locking From: dpdklab@iol.unh.edu To: Test Report Cc: dpdk-test-reports@iol.unh.edu In-Reply-To: <20250529123226.1875075-2-dvo-plv@napatech.com> References: <20250529123226.1875075-2-dvo-plv@napatech.com> Content-Type: text/plain X-BeenThere: test-report@dpdk.org X-Mailman-Version: 2.1.29 Precedence: list List-Id: automatic DPDK test reports List-Unsubscribe: , List-Archive: List-Post: List-Help: List-Subscribe: , Errors-To: test-report-bounces@dpdk.org Test-Label: iol-unit-amd64-testing Test-Status: SUCCESS http://dpdk.org/patch/153864 _Testing PASS_ Submitter: Danylo Vodopianov Date: Thursday, May 29 2025 12:32:26 DPDK git baseline: Repo:dpdk Branch: master CommitID:3223019e73391066cbb0d248051b163e5373034c 153864 --> testing pass Upstream job id: Generic-Unit-Test-DPDK#341886 Test environment and result as below: +-------------------------------+----------------+ | Environment | dpdk_unit_test | +===============================+================+ | Fedora 40 | PASS | +-------------------------------+----------------+ | CentOS Stream 9 | PASS | +-------------------------------+----------------+ | CentOS Stream 10 | PASS | +-------------------------------+----------------+ | Debian GNU/Linux 12 | PASS | +-------------------------------+----------------+ | Red Hat Enterprise Linux 9.5 | PASS | +-------------------------------+----------------+ | Red Hat Enterprise Linux 8.10 | PASS | +-------------------------------+----------------+ | Ubuntu 22.04 | PASS | +-------------------------------+----------------+ | Fedora 41 (Clang) | PASS | +-------------------------------+----------------+ | Fedora 40 (Clang) | PASS | +-------------------------------+----------------+ | Fedora 41 | PASS | +-------------------------------+----------------+ | Ubuntu 20.04 | PASS | +-------------------------------+----------------+ | Ubuntu 24.04 | PASS | +-------------------------------+----------------+ Fedora 40 Kernel: Depends on container host Compiler: gcc 14.2.1 20240912 (Red Hat 14.2.1-3) CentOS Stream 9 Kernel: Depends on container host Compiler: gcc 11.5.0 20240719 (Red Hat 11.5.0-2) CentOS Stream 10 Kernel: Depends on container host Compiler: gcc 14.2.1 20241104 (Red Hat 14.2.1-6) Debian GNU/Linux 12 Kernel: 5.15 Compiler: gcc gcc (Debian 12.2.0-14) 12.2.0 Red Hat Enterprise Linux 9.5 Kernel: 5.15 Compiler: gcc gcc (GCC) 11.5.0 20240719 (Red Hat 11.5.0-2) Red Hat Enterprise Linux 8.10 Kernel: 5.15 Compiler: gcc gcc (GCC) 8.5.0 20210514 (Red Hat 8.5.0-22) Ubuntu 22.04 Kernel: 5.15 Compiler: gcc gcc (Ubuntu 11.4.0-1ubuntu1~22.04) 11.4.0 Fedora 41 (Clang) Kernel: Depends on container host Compiler: clang 19.1.5 (Fedora 19.1.5-1.fc41) Fedora 40 (Clang) Kernel: Depends on container host Compiler: clang 18.1.8 (Fedora 18.1.8-1.fc40) Fedora 41 Kernel: Depends on container host Compiler: gcc 14.2.1 20240912 (Red Hat 14.2.1-3) Ubuntu 20.04 Kernel: 5.15 Compiler: gcc gcc (Ubuntu 9.4.0-1ubuntu1~20.04.2) 9.4.0 Ubuntu 24.04 Kernel: 5.15 Compiler: gcc gcc (Ubuntu 13.3.0-6ubuntu2~24.04) 13.3.0 To view detailed results, visit: https://lab.dpdk.org/results/dashboard/patchsets/33280/ UNH-IOL DPDK Community Lab To manage your email subscriptions, visit: https://lab.dpdk.org/results/dashboard/preferences/subscriptions/