From mboxrd@z Thu Jan 1 00:00:00 1970 Return-Path: Received: from mails.dpdk.org (mails.dpdk.org [217.70.189.124]) by inbox.dpdk.org (Postfix) with ESMTP id 9460C46829 for ; Fri, 30 May 2025 05:54:00 +0200 (CEST) Received: from mails.dpdk.org (localhost [127.0.0.1]) by mails.dpdk.org (Postfix) with ESMTP id 79205400D6; Fri, 30 May 2025 05:54:00 +0200 (CEST) Received: from mail-pf1-f227.google.com (mail-pf1-f227.google.com [209.85.210.227]) by mails.dpdk.org (Postfix) with ESMTP id 924BD400D6 for ; Fri, 30 May 2025 05:53:59 +0200 (CEST) Received: by mail-pf1-f227.google.com with SMTP id d2e1a72fcca58-739b3fe7ce8so1237322b3a.0 for ; Thu, 29 May 2025 20:53:59 -0700 (PDT) DKIM-Signature: v=1; a=rsa-sha256; c=relaxed/relaxed; d=iol.unh.edu; s=unh-iol; t=1748577238; x=1749182038; darn=dpdk.org; h=references:in-reply-to:cc:to:from:subject:message-id:date:from:to :cc:subject:date:message-id:reply-to; bh=36WQIuGKcUydBE6bBx2m1iCU8+kfx5kaEAWqGzND5Zg=; b=Sy/CMPdwz8meT10flck+XRu5xApANOCA3x0pbXuJ02sORy+plpyOxJEHceeKpNuxdg jrRBxHO2lhMMKhK5um94aK/QeqMcLSUEr03rLV8YimRll3uYgVUCwe/cCRxHoAbgmP0f aGOQJAqvxksstqMhInl3yNwFvNzPxnesthEKc= X-Google-DKIM-Signature: v=1; a=rsa-sha256; c=relaxed/relaxed; d=1e100.net; s=20230601; t=1748577238; x=1749182038; h=references:in-reply-to:cc:to:from:subject:message-id:date :x-gm-message-state:from:to:cc:subject:date:message-id:reply-to; bh=36WQIuGKcUydBE6bBx2m1iCU8+kfx5kaEAWqGzND5Zg=; b=Ywcqete9zNT1xqtgRI2+xWoxAraD2iJczOHLulUByhMw/Z3Dh/OXPjrLgefSssn2aG OMY2z9a6429lIBHd5TRIhzhH/qsCdNPMitVIpqk4CQTCTpWBm7obj/3gr5/pg9VG8ECW d4GfKBrHPSsxpv4hx+xIC6ghZxDny8QG0ombwlaZPSOQvnFCW9NmykdS2ubWUeEMriBI jXmnyd6uHuK4SPBAMALE/3Q1Pk60iDzizzlGnt089ms/Sd6Rb0hAp3cN5d48I/JF88jy W6uBJxxZdoWZy2Dsq3z4KC6fDa5E22/Bt+cMFpYdwtPbs3HPd+F1n4MLJjamVtzWk4/d oy3g== X-Gm-Message-State: AOJu0Yw+BWtnnT2xCLINNjF6YVCjf0FHyHWhaXlJ62VkOvMkCMjJlN6m Xb4QaqNL0RgVs5zuyJJf2NhioN5tJM2xw6ajFVXg6Egi8Gpds7GLtGjGwSdbxGBappe3vI3hMRP /J0IsShEjCQuv1kp4HfVi5/qyyWU9h72mZ6YxtxEjVExPgp1CikqkWYr+NMZX X-Gm-Gg: ASbGnctj9XSpeITUBEWIHNtyUj5PVfAFHvvp2Ah6Hk4siE/qL3DdnNTuqe1aNQ59WwY P2IdT/wzHMupyLnIsT1CCYB0LyaHWQb941Won06onK56WkqyUeTz7ddQ1IwX3tc8F0YWY+zHNn1 cKgAuFHQH+EfG5aXCIXENsLtSF8Bi2f25c76RlEleIQI7mnSMoCYJgU9SYtLWliuAUiqa9194ry WKKQuwZU6WOC7+JA8PVw5dWLb7jr25KgDmHuvy/8hsu7Zr/1XgEzOCVpgFCkL4uC4jXMvk3UpJ2 vNBmVjqMBwscf3tAbnqJ4LvhqZPl3MfYQKqKPR8Q7Z64/ws= X-Google-Smtp-Source: AGHT+IFqrKB1yManz9ErhCbYP7+K+MU5ViNfRB/kVPXOvkmoAOEeQmyfP/Y0Wx4jnAAXwujLHqjSTsv8eBW9 X-Received: by 2002:a05:6a00:4b04:b0:746:cc71:cc0d with SMTP id d2e1a72fcca58-747bd9873e8mr2551729b3a.12.1748577238373; Thu, 29 May 2025 20:53:58 -0700 (PDT) Received: from postal.iol.unh.edu (postal.iol.unh.edu. [2606:4100:3880:1234::84]) by smtp-relay.gmail.com with ESMTPS id d2e1a72fcca58-747afeb5219sm174187b3a.10.2025.05.29.20.53.58 (version=TLS1_2 cipher=ECDHE-ECDSA-AES128-GCM-SHA256 bits=128/128); Thu, 29 May 2025 20:53:58 -0700 (PDT) X-Relaying-Domain: iol.unh.edu Date: Thu, 29 May 2025 20:53:58 -0700 (PDT) Message-ID: <68392bd6.050a0220.28a69e.9032SMTPIN_ADDED_MISSING@mx.google.com> Received: from [172.21.0.5] (unknown [172.18.0.240]) by postal.iol.unh.edu (Postfix) with ESMTP id 7DC5D6052471; Thu, 29 May 2025 23:53:57 -0400 (EDT) Subject: |WARNING| pw153864 [PATCH] [v1,1/1] vhost: handle virtqueue locking From: dpdklab@iol.unh.edu To: Test Report Cc: dpdk-test-reports@iol.unh.edu In-Reply-To: <20250529123226.1875075-2-dvo-plv@napatech.com> References: <20250529123226.1875075-2-dvo-plv@napatech.com> Content-Type: text/plain X-BeenThere: test-report@dpdk.org X-Mailman-Version: 2.1.29 Precedence: list List-Id: automatic DPDK test reports List-Unsubscribe: , List-Archive: List-Post: List-Help: List-Subscribe: , Errors-To: test-report-bounces@dpdk.org Test-Label: iol-compile-amd64-testing Test-Status: WARNING http://dpdk.org/patch/153864 _Testing issues_ Submitter: Danylo Vodopianov Date: Thursday, May 29 2025 12:32:26 DPDK git baseline: Repo:dpdk Branch: master CommitID:3223019e73391066cbb0d248051b163e5373034c 153864 --> testing issues Upstream job id: Generic-DPDK-Compile-Meson#392697 Test environment and result as below: +-------------------------------+--------------------+-------------------+------------------+ | Environment | dpdk_meson_compile | dpdk_compile_spdk | dpdk_compile_ovs | +===============================+====================+===================+==================+ | Ubuntu 20.04 | PEND | SKIPPED | SKIPPED | +-------------------------------+--------------------+-------------------+------------------+ | FreeBSD 14.2 | PASS | SKIPPED | SKIPPED | +-------------------------------+--------------------+-------------------+------------------+ | CentOS Stream 9 | PASS | PASS | SKIPPED | +-------------------------------+--------------------+-------------------+------------------+ | CentOS Stream 10 | PASS | SKIPPED | SKIPPED | +-------------------------------+--------------------+-------------------+------------------+ | Debian GNU/Linux 12 | PASS | PASS | SKIPPED | +-------------------------------+--------------------+-------------------+------------------+ | Fedora 40 (Clang) | PASS | WARN | SKIPPED | +-------------------------------+--------------------+-------------------+------------------+ | Fedora 40 | PASS | PASS | SKIPPED | +-------------------------------+--------------------+-------------------+------------------+ | Fedora 41 (Clang) | PEND | PEND | PEND | +-------------------------------+--------------------+-------------------+------------------+ | Fedora 41 | PEND | PEND | PEND | +-------------------------------+--------------------+-------------------+------------------+ | openSUSE Leap 15.6 | PASS | SKIPPED | SKIPPED | +-------------------------------+--------------------+-------------------+------------------+ | Red Hat Enterprise Linux 8.10 | PASS | SKIPPED | SKIPPED | +-------------------------------+--------------------+-------------------+------------------+ | Red Hat Enterprise Linux 9.5 | PASS | SKIPPED | SKIPPED | +-------------------------------+--------------------+-------------------+------------------+ | Ubuntu 22.04 | PASS | PASS | SKIPPED | +-------------------------------+--------------------+-------------------+------------------+ | Ubuntu 24.04 | PEND | PEND | PEND | +-------------------------------+--------------------+-------------------+------------------+ | Alpine | PEND | SKIPPED | SKIPPED | +-------------------------------+--------------------+-------------------+------------------+ ==== 20 line log output for Fedora 40 (Clang) (dpdk_compile_spdk): ==== --- Failed to get log output --- ==== End log output ==== Ubuntu 20.04 Kernel: 4.19.325-0419325-generic Compiler: gcc (Ubuntu 9.4.0-1ubuntu1~20.04.2) 9.4.0 FreeBSD 14.2 Kernel: 14.2-RELEASE Compiler: clang 18.1.6 CentOS Stream 9 Kernel: Depends on container host Compiler: gcc 11.5.0 20240719 (Red Hat 11.5.0-2) CentOS Stream 10 Kernel: Depends on container host Compiler: gcc 14.2.1 20241104 (Red Hat 14.2.1-6) Debian GNU/Linux 12 Kernel: 5.15 Compiler: gcc gcc (Debian 12.2.0-14) 12.2.0 Fedora 40 (Clang) Kernel: Depends on container host Compiler: clang 18.1.8 (Fedora 18.1.8-1.fc40) Fedora 40 Kernel: Depends on container host Compiler: gcc 14.2.1 20240912 (Red Hat 14.2.1-3) Fedora 41 (Clang) Kernel: Depends on container host Compiler: clang 19.1.5 (Fedora 19.1.5-1.fc41) Fedora 41 Kernel: Depends on container host Compiler: gcc 14.2.1 20240912 (Red Hat 14.2.1-3) openSUSE Leap 15.6 Kernel: 5.15 Compiler: gcc gcc (SUSE Linux) 7.5.0 Red Hat Enterprise Linux 8.10 Kernel: 5.15 Compiler: gcc gcc (GCC) 8.5.0 20210514 (Red Hat 8.5.0-22) Red Hat Enterprise Linux 9.5 Kernel: 5.15 Compiler: gcc gcc (GCC) 11.5.0 20240719 (Red Hat 11.5.0-2) Ubuntu 22.04 Kernel: 5.15 Compiler: gcc gcc (Ubuntu 11.4.0-1ubuntu1~22.04) 11.4.0 Ubuntu 24.04 Kernel: 5.15 Compiler: gcc gcc (Ubuntu 13.3.0-6ubuntu2~24.04) 13.3.0 Alpine Kernel: Depends on container host Compiler: gcc (Alpine 14.2.0) 14.2.0 To view detailed results, visit: https://lab.dpdk.org/results/dashboard/patchsets/33280/ UNH-IOL DPDK Community Lab To manage your email subscriptions, visit: https://lab.dpdk.org/results/dashboard/preferences/subscriptions/