From mboxrd@z Thu Jan 1 00:00:00 1970 Return-Path: Received: from mails.dpdk.org (mails.dpdk.org [217.70.189.124]) by inbox.dpdk.org (Postfix) with ESMTP id EA6154682C for ; Fri, 30 May 2025 07:46:49 +0200 (CEST) Received: from mails.dpdk.org (localhost [127.0.0.1]) by mails.dpdk.org (Postfix) with ESMTP id C2E9D4014F; Fri, 30 May 2025 07:46:49 +0200 (CEST) Received: from mail-qv1-f100.google.com (mail-qv1-f100.google.com [209.85.219.100]) by mails.dpdk.org (Postfix) with ESMTP id 6CCB64014F for ; Fri, 30 May 2025 07:46:49 +0200 (CEST) Received: by mail-qv1-f100.google.com with SMTP id 6a1803df08f44-6fac8c5b262so19989016d6.3 for ; Thu, 29 May 2025 22:46:49 -0700 (PDT) DKIM-Signature: v=1; a=rsa-sha256; c=relaxed/relaxed; d=iol.unh.edu; s=unh-iol; t=1748584008; x=1749188808; darn=dpdk.org; h=references:in-reply-to:cc:to:from:subject:message-id:date:from:to :cc:subject:date:message-id:reply-to; bh=5JO9z95pho8T1BCqC+1GKD6f9vFOn1DjcZOHsUWO7sk=; b=J9gYH00WTWpeKTCqw8LE7eTLx0ob3M63j3M7gXBw6W+lQqeEpXFgo3fKPb3/95Ii5i x46BOJICavqXKBPDvEevH3jTtQI3h4tQv5s/94RvOe76hwx6EHdWOWa+SLJxSycSaLxB YRWUCtp0r9X9bi+WcmZym3+EYy/38Ms+IgkMQ= X-Google-DKIM-Signature: v=1; a=rsa-sha256; c=relaxed/relaxed; d=1e100.net; s=20230601; t=1748584008; x=1749188808; h=references:in-reply-to:cc:to:from:subject:message-id:date :x-gm-message-state:from:to:cc:subject:date:message-id:reply-to; bh=5JO9z95pho8T1BCqC+1GKD6f9vFOn1DjcZOHsUWO7sk=; b=qsJ8JQc72qxX7QTvSvmoSiDrrDbRgSaLJkmaOjk912ZC+DA79aYNDjIkmCascvKG2b ok+kadHbNo4XdCD2NKWWe8V2W4l2uMeJldmX89/Wjd/ouCDlMkYqLUkaouH4kgrVeX+E YiFPVmozl537B71MOtUughXDLwp3QyaVCvW4wGCinRK24epeG3rB9oNVhCDernRZ/RwN ofyajqx3f2o9iklzZCMVMHs+yVrhsjP2CD4vtRBQHlHaXXJw87xQUT+iuWqNjN1+q+nV 7ktYEtVjoeKVgkbSS7wc87LYmy5U4LwoP1r0EztM9RILrtx9fIAHyOi0vCjJMT/oTXSq 9DLg== X-Gm-Message-State: AOJu0YzHvLhwinOX/tfH2PhHPTeWezXLjmv8rxjSjSiEOXQHax3naIko 70GfgBWVbk8+ofuvyLuT/nS2Ut2SUf/TMr+lh0Jx+LsMP3erZjHmau+JrPtAXDgVqAKawJm8sl4 jsO/FPaiwOOzlwBgtdQ3BBzoULvFPW1oALcsZOFrXoMGL X-Gm-Gg: ASbGncs9g2G8wP7X/vdxZVcJAWMGfS+SccuLwuZWHS5JaobJY9evDT79LOWJz1fPXRH EU+Gs8/0GM07dI1TLMUzop3/C0gRBhTyEdKHE/VERPEcJyS3YIidRxIq2W/MH6c6SdAWsObXXmd GbGC3IJ6IBntGxaIC7hvNyN4cCVkX9TShDt0LB4p+MP5dHUbBGWk+UfScR4NRwbQTWm579y2MUa bDv6AQUyucCficj18W4vSsHifXjb4PoYMamH1qW0t+3yjte4jKFXf4Dv8nrjFU3MTLXofi/TWdc 7gGhSCPAg2B4TKwjHxLFsVjcUcd8TgAKetbfubSsJZtBf40JNbU6Fz/6Cc6kiNZcJIPKPw== X-Google-Smtp-Source: AGHT+IE7OmaICaZtOSnuOc8je2CWpqA2Z/tInJooxID0Ttz+LvdXGsM0huNzgm5TO1hnziH9nYb3NfU0MDeI X-Received: by 2002:ad4:5e85:0:b0:6fa:9b1c:740b with SMTP id 6a1803df08f44-6fad1a9b935mr13691166d6.42.1748584008745; Thu, 29 May 2025 22:46:48 -0700 (PDT) Received: from postal.iol.unh.edu (postal.iol.unh.edu. [132.177.123.84]) by smtp-relay.gmail.com with ESMTPS id 6a1803df08f44-6fac6e076cdsm1514276d6.14.2025.05.29.22.46.48 (version=TLS1_2 cipher=ECDHE-ECDSA-AES128-GCM-SHA256 bits=128/128); Thu, 29 May 2025 22:46:48 -0700 (PDT) X-Relaying-Domain: iol.unh.edu Date: Thu, 29 May 2025 22:46:48 -0700 (PDT) Message-ID: <68394648.050a0220.e90e2.7fb9SMTPIN_ADDED_MISSING@mx.google.com> Received: from [172.21.0.7] (unknown [172.18.0.240]) by postal.iol.unh.edu (Postfix) with ESMTP id 43CA26052471; Fri, 30 May 2025 01:46:48 -0400 (EDT) Subject: |SUCCESS| pw153858-153860 [PATCH] [3/3] riscv: override machine_args From: dpdklab@iol.unh.edu To: Test Report Cc: dpdk-test-reports@iol.unh.edu In-Reply-To: References: Content-Type: text/plain X-BeenThere: test-report@dpdk.org X-Mailman-Version: 2.1.29 Precedence: list List-Id: automatic DPDK test reports List-Unsubscribe: , List-Archive: List-Post: List-Help: List-Subscribe: , Errors-To: test-report-bounces@dpdk.org Test-Label: iol-unit-amd64-testing Test-Status: SUCCESS http://dpdk.org/patch/153860 _Testing PASS_ Submitter: None Date: Wednesday, May 28 2025 17:00:46 DPDK git baseline: Repo:dpdk Branch: master CommitID:a633a128fd09ff1fc72312f4e4d1a9e0f73aa359 153858-153860 --> testing pass Upstream job id: Generic-Unit-Test-DPDK#341990 Test environment and result as below: +-------------------------------+----------------+ | Environment | dpdk_unit_test | +===============================+================+ | CentOS Stream 10 | PASS | +-------------------------------+----------------+ | CentOS Stream 9 | PASS | +-------------------------------+----------------+ | Fedora 40 | PASS | +-------------------------------+----------------+ | Debian GNU/Linux 12 | PASS | +-------------------------------+----------------+ | Fedora 40 (Clang) | PASS | +-------------------------------+----------------+ | Fedora 41 | PASS | +-------------------------------+----------------+ | Fedora 41 (Clang) | PASS | +-------------------------------+----------------+ | Red Hat Enterprise Linux 8.10 | PASS | +-------------------------------+----------------+ | Red Hat Enterprise Linux 9.5 | PASS | +-------------------------------+----------------+ | Ubuntu 20.04 | PASS | +-------------------------------+----------------+ | Ubuntu 24.04 | PASS | +-------------------------------+----------------+ | Ubuntu 22.04 | PASS | +-------------------------------+----------------+ CentOS Stream 10 Kernel: Depends on container host Compiler: gcc 14.2.1 20241104 (Red Hat 14.2.1-6) CentOS Stream 9 Kernel: Depends on container host Compiler: gcc 11.5.0 20240719 (Red Hat 11.5.0-2) Fedora 40 Kernel: Depends on container host Compiler: gcc 14.2.1 20240912 (Red Hat 14.2.1-3) Debian GNU/Linux 12 Kernel: 5.15 Compiler: gcc gcc (Debian 12.2.0-14) 12.2.0 Fedora 40 (Clang) Kernel: Depends on container host Compiler: clang 18.1.8 (Fedora 18.1.8-1.fc40) Fedora 41 Kernel: Depends on container host Compiler: gcc 14.2.1 20240912 (Red Hat 14.2.1-3) Fedora 41 (Clang) Kernel: Depends on container host Compiler: clang 19.1.5 (Fedora 19.1.5-1.fc41) Red Hat Enterprise Linux 8.10 Kernel: 5.15 Compiler: gcc gcc (GCC) 8.5.0 20210514 (Red Hat 8.5.0-22) Red Hat Enterprise Linux 9.5 Kernel: 5.15 Compiler: gcc gcc (GCC) 11.5.0 20240719 (Red Hat 11.5.0-2) Ubuntu 20.04 Kernel: 5.15 Compiler: gcc gcc (Ubuntu 9.4.0-1ubuntu1~20.04.2) 9.4.0 Ubuntu 24.04 Kernel: 5.15 Compiler: gcc gcc (Ubuntu 13.3.0-6ubuntu2~24.04) 13.3.0 Ubuntu 22.04 Kernel: 5.15 Compiler: gcc gcc (Ubuntu 11.4.0-1ubuntu1~22.04) 11.4.0 To view detailed results, visit: https://lab.dpdk.org/results/dashboard/patchsets/33276/ UNH-IOL DPDK Community Lab To manage your email subscriptions, visit: https://lab.dpdk.org/results/dashboard/preferences/subscriptions/