From mboxrd@z Thu Jan 1 00:00:00 1970 Return-Path: Received: from mails.dpdk.org (mails.dpdk.org [217.70.189.124]) by inbox.dpdk.org (Postfix) with ESMTP id 9EBD946830 for ; Fri, 30 May 2025 10:17:31 +0200 (CEST) Received: from mails.dpdk.org (localhost [127.0.0.1]) by mails.dpdk.org (Postfix) with ESMTP id 9783D4021E; Fri, 30 May 2025 10:17:31 +0200 (CEST) Received: from mail-pl1-f228.google.com (mail-pl1-f228.google.com [209.85.214.228]) by mails.dpdk.org (Postfix) with ESMTP id 914B24021E for ; Fri, 30 May 2025 10:17:30 +0200 (CEST) Received: by mail-pl1-f228.google.com with SMTP id d9443c01a7336-22c33677183so15281295ad.2 for ; Fri, 30 May 2025 01:17:30 -0700 (PDT) DKIM-Signature: v=1; a=rsa-sha256; c=relaxed/relaxed; d=iol.unh.edu; s=unh-iol; t=1748593049; x=1749197849; darn=dpdk.org; h=references:in-reply-to:cc:to:from:subject:message-id:date:from:to :cc:subject:date:message-id:reply-to; bh=pbCjROJ7Cl4lmDCcgwko/gTyG5wF9kZ2l2TWUo04a6M=; b=gjPMnNovW7iaPhq50MmQx1a03VIN963lvSl06sEFh+0NNlLfYVuzNlp3EFs20PBIPF IBFinfIF7B/NoMzVpIzn+Jx+I5rcyBkxX86jUcFUceYK2DirYNKfunOlxg4An8oLxiRp dLE0KI9+SSRRVUCE5l4Qper291w7kWtWGFESo= X-Google-DKIM-Signature: v=1; a=rsa-sha256; c=relaxed/relaxed; d=1e100.net; s=20230601; t=1748593049; x=1749197849; h=references:in-reply-to:cc:to:from:subject:message-id:date :x-gm-message-state:from:to:cc:subject:date:message-id:reply-to; bh=pbCjROJ7Cl4lmDCcgwko/gTyG5wF9kZ2l2TWUo04a6M=; b=f74xPDLkYKAnVhCE+ayLB0F1N6KOorwOxJJYqMqduW0Spb64j0R4PtxiNdIKlr9R1I h/VC3R9TZlS/xHvVOxXosOFg+lEIqfvflGFCD0pdyMqbKVUKhLvNLRzazpScT7vGYTEE mYCifuNeppSUhKuL2wIoGCrKqpZQRjOnNThzhnVKCGMwVVfqYPpGGGsATviTk5iLf3Sl kpmCq4ks5sz7tq/R19ObilypZmU0WhgJM7CoYsfUT6mTWGo9jjNKdfZlk/7Kofkeb2n5 rOXhUBeFR4CyJynXpnSDjGuUZR2X88D0nOgMeAYnrNRQrweQnijCQn7zbGyKmDaLfbZg MJ8A== X-Gm-Message-State: AOJu0YxfpIoS/vIhgPVaJmCN7PlkY8T+AeL9uMCwrw2wylPHQ6TVwxoj ELKZ1iELiroacHo/OaLB+am6pFmbqhyp+j7Nd6FpoBM8mOpOGivVrs+ASJzcGHKCKwqUT+ugUI8 urxPdTreqfgBRA6rht9dO7B0vwpUFhx+dmnVfeRTRoWweLIm/yTG0ofGclN8z X-Gm-Gg: ASbGncs1EHdnpQXm2EzANUwAtNjtOcvzTO/hrsDnEugSawg+DayitnDQEXqn+qOB90x 1AaMqXcf0G/bN70q3ZD4sgpEcRlBC3SRGc1hEwYNsT8xZ7R4eA8xTArk/ow1qVXqQ/MRT09wzdt 8pzjKya00PY8eZBPpQfOzQdkHHgb3GcUYcZjA722JXngkSlWilmfUNgJVRL8PYzfiiI9Kjcto9u 4hw6mpw8ydhNNAIIjC5PU0vRF1/DE95bpLqf1gBwBsXDIP1eqi/xSUUYuj0S2VXVipegFDRgKm9 kIdQY701j9rny5Rg8i5L9O+Vy34fffGKkcqt X-Google-Smtp-Source: AGHT+IFQxB3CLOYRoJsnFj+2BBG2Lf4fDIjzt41fk9Yq3j58RehpcgtIzZcilDSb2LiH+JkwkPJKjGQGqYdS X-Received: by 2002:a17:903:fa6:b0:234:bc4e:4eb8 with SMTP id d9443c01a7336-2353963c1bemr18678045ad.46.1748593049529; Fri, 30 May 2025 01:17:29 -0700 (PDT) Received: from postal.iol.unh.edu (postal.iol.unh.edu. [2606:4100:3880:1234::84]) by smtp-relay.gmail.com with ESMTPS id d9443c01a7336-23506d37fa8sm1846235ad.73.2025.05.30.01.17.29 (version=TLS1_2 cipher=ECDHE-ECDSA-AES128-GCM-SHA256 bits=128/128); Fri, 30 May 2025 01:17:29 -0700 (PDT) X-Relaying-Domain: iol.unh.edu Date: Fri, 30 May 2025 01:17:29 -0700 (PDT) Message-ID: <68396999.170a0220.23f6b1.9ebdSMTPIN_ADDED_MISSING@mx.google.com> Received: from [172.21.0.6] (unknown [172.18.0.240]) by postal.iol.unh.edu (Postfix) with ESMTP id F37C26052471; Fri, 30 May 2025 04:17:28 -0400 (EDT) Subject: |SUCCESS| pw153872-153874 [PATCH] [v2,3/3] app/eventdev: add vector From: dpdklab@iol.unh.edu To: Test Report Cc: dpdk-test-reports@iol.unh.edu In-Reply-To: <20250529222437.91818-4-pbhagavatula@marvell.com> References: <20250529222437.91818-4-pbhagavatula@marvell.com> Content-Type: text/plain X-BeenThere: test-report@dpdk.org X-Mailman-Version: 2.1.29 Precedence: list List-Id: automatic DPDK test reports List-Unsubscribe: , List-Archive: List-Post: List-Help: List-Subscribe: , Errors-To: test-report-bounces@dpdk.org Test-Label: iol-abi-testing Test-Status: SUCCESS http://dpdk.org/patch/153874 _Testing PASS_ Submitter: Pavan Nikhilesh Bhagavatula Date: Thursday, May 29 2025 22:24:37 DPDK git baseline: Repo:dpdk Branch: master CommitID:a633a128fd09ff1fc72312f4e4d1a9e0f73aa359 153872-153874 --> testing pass Upstream job id: Generic-DPDK-Compile-ABI#128269 Test environment and result as below: +-------------------------------+----------+ | Environment | abi_test | +===============================+==========+ | CentOS Stream 9 | PASS | +-------------------------------+----------+ | Debian GNU/Linux 12 | PASS | +-------------------------------+----------+ | CentOS Stream 10 | PASS | +-------------------------------+----------+ | Fedora 41 (Clang) | PASS | +-------------------------------+----------+ | Fedora 40 | PASS | +-------------------------------+----------+ | Fedora 40 (Clang) | PASS | +-------------------------------+----------+ | Fedora 41 | PASS | +-------------------------------+----------+ | openSUSE Leap 15.6 | PASS | +-------------------------------+----------+ | Red Hat Enterprise Linux 8.10 | PASS | +-------------------------------+----------+ | Red Hat Enterprise Linux 9.5 | PASS | +-------------------------------+----------+ | Ubuntu 22.04 | PASS | +-------------------------------+----------+ | Ubuntu 24.04 | PASS | +-------------------------------+----------+ CentOS Stream 9 Kernel: Depends on container host Compiler: gcc 11.5.0 20240719 (Red Hat 11.5.0-2) Debian GNU/Linux 12 Kernel: 5.15 Compiler: gcc gcc (Debian 12.2.0-14) 12.2.0 CentOS Stream 10 Kernel: Depends on container host Compiler: gcc 14.2.1 20241104 (Red Hat 14.2.1-6) Fedora 41 (Clang) Kernel: Depends on container host Compiler: clang 19.1.5 (Fedora 19.1.5-1.fc41) Fedora 40 Kernel: Depends on container host Compiler: gcc 14.2.1 20240912 (Red Hat 14.2.1-3) Fedora 40 (Clang) Kernel: Depends on container host Compiler: clang 18.1.8 (Fedora 18.1.8-1.fc40) Fedora 41 Kernel: Depends on container host Compiler: gcc 14.2.1 20240912 (Red Hat 14.2.1-3) openSUSE Leap 15.6 Kernel: 5.15 Compiler: gcc gcc (SUSE Linux) 7.5.0 Red Hat Enterprise Linux 8.10 Kernel: 5.15 Compiler: gcc gcc (GCC) 8.5.0 20210514 (Red Hat 8.5.0-22) Red Hat Enterprise Linux 9.5 Kernel: 5.15 Compiler: gcc gcc (GCC) 11.5.0 20240719 (Red Hat 11.5.0-2) Ubuntu 22.04 Kernel: 5.15 Compiler: gcc gcc (Ubuntu 11.4.0-1ubuntu1~22.04) 11.4.0 Ubuntu 24.04 Kernel: 5.15 Compiler: gcc gcc (Ubuntu 13.3.0-6ubuntu2~24.04) 13.3.0 To view detailed results, visit: https://lab.dpdk.org/results/dashboard/patchsets/33285/ UNH-IOL DPDK Community Lab To manage your email subscriptions, visit: https://lab.dpdk.org/results/dashboard/preferences/subscriptions/