From mboxrd@z Thu Jan 1 00:00:00 1970 Return-Path: Received: from mails.dpdk.org (mails.dpdk.org [217.70.189.124]) by inbox.dpdk.org (Postfix) with ESMTP id DCFDD46828 for ; Fri, 30 May 2025 12:53:01 +0200 (CEST) Received: from mails.dpdk.org (localhost [127.0.0.1]) by mails.dpdk.org (Postfix) with ESMTP id BB7CF4021E; Fri, 30 May 2025 12:53:01 +0200 (CEST) Received: from mail-yw1-f226.google.com (mail-yw1-f226.google.com [209.85.128.226]) by mails.dpdk.org (Postfix) with ESMTP id 2CCF14021E for ; Fri, 30 May 2025 12:53:00 +0200 (CEST) Received: by mail-yw1-f226.google.com with SMTP id 00721157ae682-70e78e04e48so15087397b3.1 for ; Fri, 30 May 2025 03:53:00 -0700 (PDT) DKIM-Signature: v=1; a=rsa-sha256; c=relaxed/relaxed; d=iol.unh.edu; s=unh-iol; t=1748602379; x=1749207179; darn=dpdk.org; h=references:in-reply-to:cc:to:from:subject:message-id:date:from:to :cc:subject:date:message-id:reply-to; bh=aVdy/OjgDyAEA+mHyQDLQ52I95ubQMDnqY8p3YuYo0k=; b=OC6KhohKjknj7EuD4niZFlINC/KkSQcJM6o43+0QF7rvDsm+pr7T/6pXn6tcL//lw4 yISpSmW647ODaz1MectVp8+AeGlzFH222KoalTF48eKK4ZIIb8ZnbduUCTk1TY9Tb0g0 LRSIPVIKYVBCs2xDlkkghW0f2bOVD+RjRgY8U= X-Google-DKIM-Signature: v=1; a=rsa-sha256; c=relaxed/relaxed; d=1e100.net; s=20230601; t=1748602379; x=1749207179; h=references:in-reply-to:cc:to:from:subject:message-id:date :x-gm-message-state:from:to:cc:subject:date:message-id:reply-to; bh=aVdy/OjgDyAEA+mHyQDLQ52I95ubQMDnqY8p3YuYo0k=; b=Y4Ijo9iSERyA9OLEFAo8j1GgQK5gdnuk6FgxMuyrximER4DBjpWylKBNvHNnp0wTex sAtNwghk/o6vOy+9d2dSmtr79R+v9T4N4B9QjHRGpEwTEa1RvcsmZ3Z7flg7mJnMmepa xI/x9jvVfq+0dZud2IVJe99xHSz9rmFYth5cMFbojP2b0Ehlg74cHOVzWq/MVZ5Yrhl7 AkIrnzVrYkw2z01lsRWu4sYtONEwEhohusD55CGvj29Hw4N4hrw9zVj/fTTNvwUtJLOZ G2Jv9pUmyhMwxx/6qLzi4gYqt7Cb2wJ38T6EPYshLI6vldGS1hD13xfDUj2bpPVrFpg6 DRdA== X-Gm-Message-State: AOJu0YzsFqAVaghRgQ8Oi140o4Z4QwyBNLTvKPxJ2IIQkKrWPky+Wz96 vPvG1OOd0dEQpBzHpMMmJwHuqYPOe7SnFW3Zcq4cxZVfxOg+4UWogY3K7Ebjh7k2HZKSS0SRRsU jAbxxHlO/2YNk8w3+v16C9/alu/ZYgCHU9mBz627nQLsztYP6+Z3zBWE5YZcj X-Gm-Gg: ASbGncv4wIgL6HotPIThXlC2omR3Zt2XWJ1mX/oK7plA9qFtTdqYnNWz67mIjk0Psho SeNMMGHFLSWbRB/qmntVonegW+Sm4FgXEset9w3fqrazi9wtLgIDzVTm7Nl1+1rRZRU8iEshzTt OVigHO9Hrg95kcwxOu4MDZBqnk4VcFJyT/alZh2GLCgFbMcy1zJAjwsgUE79L8bDZSHgf3UkVz0 aERj3WjN1FYSxu+A6nnRR+l4hgJS0GXvOrWKPd5IPfQThYQfm2IhbpTmllOwbkPwgYBw/luzODw KqZhhO8n1atYihdR1EtXWKZ8CQgXDXJCcuSp X-Google-Smtp-Source: AGHT+IE7Fru01QN7FfuEmEqV5QnOHxfBwqtfU2yCw2f4ulDmq1P7iw9PtyhOfv5nhWu6j+aTNCepwibitwOF X-Received: by 2002:a05:690c:490f:b0:70e:7ff6:9ff3 with SMTP id 00721157ae682-70f97ffca2fmr42357897b3.35.1748602379552; Fri, 30 May 2025 03:52:59 -0700 (PDT) Received: from postal.iol.unh.edu (postal.iol.unh.edu. [2606:4100:3880:1234::84]) by smtp-relay.gmail.com with ESMTPS id 00721157ae682-70f8ad479fesm1543237b3.46.2025.05.30.03.52.59 (version=TLS1_2 cipher=ECDHE-ECDSA-AES128-GCM-SHA256 bits=128/128); Fri, 30 May 2025 03:52:59 -0700 (PDT) X-Relaying-Domain: iol.unh.edu Date: Fri, 30 May 2025 03:52:59 -0700 (PDT) Message-ID: <68398e0b.050a0220.294a67.82d3SMTPIN_ADDED_MISSING@mx.google.com> Received: from [172.21.0.6] (unknown [172.18.0.240]) by postal.iol.unh.edu (Postfix) with ESMTP id 2302B6052471; Fri, 30 May 2025 06:52:59 -0400 (EDT) Subject: |SUCCESS| pw153858-153860 [PATCH] [3/3] riscv: override machine_args From: dpdklab@iol.unh.edu To: Test Report Cc: dpdk-test-reports@iol.unh.edu In-Reply-To: References: Content-Type: text/plain X-BeenThere: test-report@dpdk.org X-Mailman-Version: 2.1.29 Precedence: list List-Id: automatic DPDK test reports List-Unsubscribe: , List-Archive: List-Post: List-Help: List-Subscribe: , Errors-To: test-report-bounces@dpdk.org Test-Label: iol-compile-arm64-testing Test-Status: SUCCESS http://dpdk.org/patch/153860 _Testing PASS_ Submitter: None Date: Wednesday, May 28 2025 17:00:46 DPDK git baseline: Repo:dpdk Branch: master CommitID:a633a128fd09ff1fc72312f4e4d1a9e0f73aa359 153858-153860 --> testing pass Upstream job id: Generic-DPDK-Compile-Meson#392782 Test environment and result as below: +------------------------------+--------------------+ | Environment | dpdk_meson_compile | +==============================+====================+ | Red Hat Enterprise Linux 9.5 | PASS | +------------------------------+--------------------+ | Ubuntu 20.04 | PASS | +------------------------------+--------------------+ | Debian GNU/Linux 12 | PASS | +------------------------------+--------------------+ | Fedora 40 (ARM) | PASS | +------------------------------+--------------------+ | Fedora 40 (ARM Clang) | PASS | +------------------------------+--------------------+ | Fedora 41 (ARM) | PASS | +------------------------------+--------------------+ | Fedora 41 (ARM Clang) | PASS | +------------------------------+--------------------+ | Ubuntu 22.04 | PASS | +------------------------------+--------------------+ | Ubuntu 24.04 | PASS | +------------------------------+--------------------+ | CentOS Stream 9 (ARM) | PASS | +------------------------------+--------------------+ | CentOS Stream 10 (ARM) | PASS | +------------------------------+--------------------+ Red Hat Enterprise Linux 9.5 Kernel: 5.4 Compiler: gcc gcc (GCC) 11.5.0 20240719 (Red Hat 11.5.0-2) Ubuntu 20.04 Kernel: 5.15 Compiler: aarch64-linux-gnu-gcc gcc (Ubuntu 9.4.0-1ubuntu1~20.04.2) 9.4.0 Debian GNU/Linux 12 Kernel: 5.4 Compiler: gcc gcc (Debian 12.2.0-14) 12.2.0 Fedora 40 (ARM) Kernel: Depends on container host Compiler: gcc 14.2.1 20240912 (Red Hat 14.2.1-3) Fedora 40 (ARM Clang) Kernel: Depends on container host Compiler: clang 18.1.8 (Fedora 18.1.8-1.fc40) Fedora 41 (ARM) Kernel: Depends on container host Compiler: gcc 14.2.1 20240912 (Red Hat 14.2.1-3) Fedora 41 (ARM Clang) Kernel: Depends on container host Compiler: clang 19.1.5 (Fedora 19.1.5-1.fc41) Ubuntu 22.04 Kernel: 5.4 Compiler: gcc gcc (Ubuntu 11.4.0-1ubuntu1~22.04) 11.4.0 Ubuntu 24.04 Kernel: 5.4 Compiler: gcc gcc (Ubuntu 13.3.0-6ubuntu2~24.04) 13.3.0 CentOS Stream 9 (ARM) Kernel: Depends on container host Compiler: gcc 11.5.0 20240719 (Red Hat 11.5.0-2) CentOS Stream 10 (ARM) Kernel: Depends on container host Compiler: gcc 14.2.1 20241104 (Red Hat 14.2.1-6) To view detailed results, visit: https://lab.dpdk.org/results/dashboard/patchsets/33276/ UNH-IOL DPDK Community Lab To manage your email subscriptions, visit: https://lab.dpdk.org/results/dashboard/preferences/subscriptions/