From mboxrd@z Thu Jan 1 00:00:00 1970 Return-Path: Received: from mails.dpdk.org (mails.dpdk.org [217.70.189.124]) by inbox.dpdk.org (Postfix) with ESMTP id 1A82D46830 for ; Fri, 30 May 2025 14:18:52 +0200 (CEST) Received: from mails.dpdk.org (localhost [127.0.0.1]) by mails.dpdk.org (Postfix) with ESMTP id EF2284021E; Fri, 30 May 2025 14:18:51 +0200 (CEST) Received: from mail-ot1-f100.google.com (mail-ot1-f100.google.com [209.85.210.100]) by mails.dpdk.org (Postfix) with ESMTP id 0CD5C4021E for ; Fri, 30 May 2025 14:18:51 +0200 (CEST) Received: by mail-ot1-f100.google.com with SMTP id 46e09a7af769-735ae68cc78so1149799a34.1 for ; Fri, 30 May 2025 05:18:50 -0700 (PDT) DKIM-Signature: v=1; a=rsa-sha256; c=relaxed/relaxed; d=iol.unh.edu; s=unh-iol; t=1748607530; x=1749212330; darn=dpdk.org; h=references:in-reply-to:cc:to:from:subject:message-id:date:from:to :cc:subject:date:message-id:reply-to; bh=UG5ewfTfUcOSEi920cweGKkUlomNG0kEbbvoJoNsPU0=; b=GNXrQ4WVqBMufatDl+diJJCE8VTO3nuxViL8lujkiPv3g3JssjsQiQ2Y6apmsBLnir 1KlMY+LaWyXAUGtdGigSLurL4eCQnP5N5p6cVLfUCYZ0pmwhCZ+jq7dkF90CDh5tFTIX qTF5x9MpwyATMI89J8w5Bu9fnWhEy6lB7BOSI= X-Google-DKIM-Signature: v=1; a=rsa-sha256; c=relaxed/relaxed; d=1e100.net; s=20230601; t=1748607530; x=1749212330; h=references:in-reply-to:cc:to:from:subject:message-id:date :x-gm-message-state:from:to:cc:subject:date:message-id:reply-to; bh=UG5ewfTfUcOSEi920cweGKkUlomNG0kEbbvoJoNsPU0=; b=Z9Zk+XFlI0BRLSJCJN+0V2U/PUNwrZRCKa1dANHjoRvIipRIUdtagzq7rlAoSnkuWi XFigR7v30IfyFui0ruio8mGVctGauNHbwf5JPbh0sqzR6dsg0gaCXWRkTg+U7xc/V0l5 4mhL9td/dN0Fn8R4gvXYyG3CoTjGQgjK0KjWM07yLwCDltjQG14xLSyi7RoDgZappKp7 yKMnXnld+V5JMLQ8JDCix8Peh8OTJNioknUU2X0oxn5uIvSeSXLJn611uCns0Kf6CO8x YlZComO2myi7IIuQGfrnruDHiIPbK4OU0FMjup8moJ1bZesDFcIqmQoyBpj4+Z8XMn/x vv2A== X-Gm-Message-State: AOJu0YwCB1VHv/+vrw4ehpdpcISK5HT7nFep84OxqjCAYja+mCR97qIH Xqok5Ja2LW3B+q8kaK8cLhxWuuaAOhH2qhW1DloNkRTRDnNZHqhS0F+CosLE/Eq8ni47t+0AcB9 uU1r4aMGjo1uOfprk0uAKmHrA+ntZumsm3XHD4lPe8N7O X-Gm-Gg: ASbGnctfflF1+G+Q+7M2itfF0oAEegr8fIcYMha728paaHKhFuARl91HHf99oiTkdXJ 0buUoaHKnYERVOklmLZQaRrxVH6kKwAnS8lq4X5p1gig0KcWywqNtsB+IxTUaNiaysjIHSSovgJ 1E3XrMaB8rIb3wXZKIvUxTKUgQuAAC55BdXMXLdRkn+Lgi+Ayb5c9gr9M1cqBZYYFmCZvn1U6F7 K0y14e8alpihpx5nRcOkX6NeB4QhgMCMFuQy3A5WtV1TcttOpaLlv8lSnmziQUl0zz8Pv5gx/P1 XosHzl4N6vVJiHCcGxVWglSIrOwOHSlytqxDRPvvVWuef2mtH40c1uzWC/s= X-Google-Smtp-Source: AGHT+IFuhQhP1gcSYxRU4d+P/efTktaSY1Sf+Q3/ypC983kaddlOWpawJOk3D4D5uZwvNAuHE4k5wVNtq5l4 X-Received: by 2002:a05:6871:878f:b0:2c2:3eb4:e53 with SMTP id 586e51a60fabf-2e9216a6b5emr1386714fac.37.1748607530018; Fri, 30 May 2025 05:18:50 -0700 (PDT) Received: from postal.iol.unh.edu (postal.iol.unh.edu. [132.177.123.84]) by smtp-relay.gmail.com with ESMTPS id 586e51a60fabf-2e906c2ff51sm169509fac.29.2025.05.30.05.18.49 (version=TLS1_2 cipher=ECDHE-ECDSA-AES128-GCM-SHA256 bits=128/128); Fri, 30 May 2025 05:18:50 -0700 (PDT) X-Relaying-Domain: iol.unh.edu Date: Fri, 30 May 2025 05:18:50 -0700 (PDT) Message-ID: <6839a22a.050a0220.28e7a2.914aSMTPIN_ADDED_MISSING@mx.google.com> Received: from [172.21.0.5] (unknown [172.18.0.240]) by postal.iol.unh.edu (Postfix) with ESMTP id 71BEC6052471; Fri, 30 May 2025 08:18:49 -0400 (EDT) Subject: |WARNING| pw153858-153860 [PATCH] [3/3] riscv: override machine_args From: dpdklab@iol.unh.edu To: Test Report Cc: dpdk-test-reports@iol.unh.edu In-Reply-To: References: Content-Type: text/plain X-BeenThere: test-report@dpdk.org X-Mailman-Version: 2.1.29 Precedence: list List-Id: automatic DPDK test reports List-Unsubscribe: , List-Archive: List-Post: List-Help: List-Subscribe: , Errors-To: test-report-bounces@dpdk.org Test-Label: iol-compile-amd64-testing Test-Status: WARNING http://dpdk.org/patch/153860 _Testing issues_ Submitter: None Date: Wednesday, May 28 2025 17:00:46 DPDK git baseline: Repo:dpdk Branch: master CommitID:a633a128fd09ff1fc72312f4e4d1a9e0f73aa359 153858-153860 --> testing issues Upstream job id: Windows-Compile-DPDK-VS#5865 Test environment and result as below: +-------------------------------+--------------------+-------------------+------------------+-------------------+ | Environment | dpdk_meson_compile | dpdk_compile_spdk | dpdk_compile_ovs | dpdk_msvc_compile | +===============================+====================+===================+==================+===================+ | CentOS Stream 9 | PASS | PASS | SKIPPED | SKIPPED | +-------------------------------+--------------------+-------------------+------------------+-------------------+ | CentOS Stream 10 | PASS | SKIPPED | SKIPPED | SKIPPED | +-------------------------------+--------------------+-------------------+------------------+-------------------+ | Debian GNU/Linux 12 | PASS | PASS | SKIPPED | SKIPPED | +-------------------------------+--------------------+-------------------+------------------+-------------------+ | Fedora 40 | PASS | PASS | SKIPPED | SKIPPED | +-------------------------------+--------------------+-------------------+------------------+-------------------+ | Fedora 41 (Clang) | PASS | WARN | PASS | SKIPPED | +-------------------------------+--------------------+-------------------+------------------+-------------------+ | Fedora 41 | PASS | PASS | PASS | SKIPPED | +-------------------------------+--------------------+-------------------+------------------+-------------------+ | openSUSE Leap 15.6 | PASS | SKIPPED | SKIPPED | SKIPPED | +-------------------------------+--------------------+-------------------+------------------+-------------------+ | Ubuntu 20.04 | PASS | SKIPPED | SKIPPED | SKIPPED | +-------------------------------+--------------------+-------------------+------------------+-------------------+ | Red Hat Enterprise Linux 8.10 | PASS | SKIPPED | SKIPPED | SKIPPED | +-------------------------------+--------------------+-------------------+------------------+-------------------+ | Red Hat Enterprise Linux 9.5 | PASS | SKIPPED | SKIPPED | SKIPPED | +-------------------------------+--------------------+-------------------+------------------+-------------------+ | Ubuntu 22.04 | PASS | PASS | SKIPPED | SKIPPED | +-------------------------------+--------------------+-------------------+------------------+-------------------+ | Ubuntu 24.04 | PASS | PASS | PASS | SKIPPED | +-------------------------------+--------------------+-------------------+------------------+-------------------+ | Alpine | PASS | SKIPPED | SKIPPED | SKIPPED | +-------------------------------+--------------------+-------------------+------------------+-------------------+ | FreeBSD 14.2 | PASS | SKIPPED | SKIPPED | SKIPPED | +-------------------------------+--------------------+-------------------+------------------+-------------------+ | Fedora 40 (Clang) | PASS | WARN | SKIPPED | SKIPPED | +-------------------------------+--------------------+-------------------+------------------+-------------------+ | Windows Server 2022 | SKIPPED | SKIPPED | SKIPPED | PASS | +-------------------------------+--------------------+-------------------+------------------+-------------------+ ==== 20 line log output for Fedora 40 (Clang) (dpdk_compile_spdk): ==== --- Failed to get log output --- ==== End log output ==== CentOS Stream 9 Kernel: Depends on container host Compiler: gcc 11.5.0 20240719 (Red Hat 11.5.0-2) CentOS Stream 10 Kernel: Depends on container host Compiler: gcc 14.2.1 20241104 (Red Hat 14.2.1-6) Debian GNU/Linux 12 Kernel: 5.15 Compiler: gcc gcc (Debian 12.2.0-14) 12.2.0 Fedora 40 Kernel: Depends on container host Compiler: gcc 14.2.1 20240912 (Red Hat 14.2.1-3) Fedora 41 (Clang) Kernel: Depends on container host Compiler: clang 19.1.5 (Fedora 19.1.5-1.fc41) Fedora 41 Kernel: Depends on container host Compiler: gcc 14.2.1 20240912 (Red Hat 14.2.1-3) openSUSE Leap 15.6 Kernel: 5.15 Compiler: gcc gcc (SUSE Linux) 7.5.0 Ubuntu 20.04 Kernel: 4.19 Compiler: gcc gcc (Ubuntu 9.4.0-1ubuntu1~20.04.2) 9.4.0 Red Hat Enterprise Linux 8.10 Kernel: 5.15 Compiler: gcc gcc (GCC) 8.5.0 20210514 (Red Hat 8.5.0-22) Red Hat Enterprise Linux 9.5 Kernel: 5.15 Compiler: gcc gcc (GCC) 11.5.0 20240719 (Red Hat 11.5.0-2) Ubuntu 22.04 Kernel: 5.15 Compiler: gcc gcc (Ubuntu 11.4.0-1ubuntu1~22.04) 11.4.0 Ubuntu 24.04 Kernel: 5.15 Compiler: gcc gcc (Ubuntu 13.3.0-6ubuntu2~24.04) 13.3.0 Alpine Kernel: Depends on container host Compiler: gcc (Alpine 14.2.0) 14.2.0 FreeBSD 14.2 Kernel: 14.2-RELEASE Compiler: clang 18.1.6 Fedora 40 (Clang) Kernel: Depends on container host Compiler: clang 18.1.8 (Fedora 18.1.8-1.fc40) Windows Server 2022 Kernel: 10.0.20348.2031 Compiler: clang 15.0.7, gcc 14.1.0 (MinGW), and MSVC VS 19.39.33521 To view detailed results, visit: https://lab.dpdk.org/results/dashboard/patchsets/33276/ UNH-IOL DPDK Community Lab To manage your email subscriptions, visit: https://lab.dpdk.org/results/dashboard/preferences/subscriptions/