From mboxrd@z Thu Jan 1 00:00:00 1970 Return-Path: Received: from mails.dpdk.org (mails.dpdk.org [217.70.189.124]) by inbox.dpdk.org (Postfix) with ESMTP id B525246830 for ; Fri, 30 May 2025 15:14:00 +0200 (CEST) Received: from mails.dpdk.org (localhost [127.0.0.1]) by mails.dpdk.org (Postfix) with ESMTP id AD5564021E; Fri, 30 May 2025 15:14:00 +0200 (CEST) Received: from mail-pl1-f227.google.com (mail-pl1-f227.google.com [209.85.214.227]) by mails.dpdk.org (Postfix) with ESMTP id 815D04021E for ; Fri, 30 May 2025 15:13:59 +0200 (CEST) Received: by mail-pl1-f227.google.com with SMTP id d9443c01a7336-2351ffb669cso12699975ad.2 for ; Fri, 30 May 2025 06:13:59 -0700 (PDT) DKIM-Signature: v=1; a=rsa-sha256; c=relaxed/relaxed; d=iol.unh.edu; s=unh-iol; t=1748610839; x=1749215639; darn=dpdk.org; h=references:in-reply-to:cc:to:from:subject:message-id:date:from:to :cc:subject:date:message-id:reply-to; bh=WtqKRgEcAGM/bdtpKkTXSDjX7w6PgkqEef9ZMzTiShs=; b=Ui15gnsIDQN7MDDqv6D6Gn0WseUUm/YttHdkmxEiGuabdxeDceYrBsPHvTHXGilR54 M4DDScRr26MtQLo3eF0BmMuV9WfNbOu0J/bBRy91ntEp+2gbQDkF5S+h54WJ815y5pR7 0cYJOF/IvRJ9w75eph93ABuGNBPzxwcsZmdOQ= X-Google-DKIM-Signature: v=1; a=rsa-sha256; c=relaxed/relaxed; d=1e100.net; s=20230601; t=1748610839; x=1749215639; h=references:in-reply-to:cc:to:from:subject:message-id:date :x-gm-message-state:from:to:cc:subject:date:message-id:reply-to; bh=WtqKRgEcAGM/bdtpKkTXSDjX7w6PgkqEef9ZMzTiShs=; b=mK6cOzwRsiEBXGBg7N3zK3PYXJisCdNtkepB5sHy0lgFV076ZFOTEOs33GdvsvMU7m ypeooE0Y0XEiNqf5CFpHeG7JLvTZI6jXlWjLCZ4bzeuAM8L03HPWZneov5SrGLJPlpcT cp+QxFznwwgdqhmyJjh8SXX8XfR2Rg4K/PP/XzLVq2I66CpFCVYRdih2eyj+NStr7cUc gFiV1K/WA4jJ7QJohvvHu7gtC28U/Xk3olNpH/bNNWUiZDjqxWRj/k1qcbsSYdtRgb7n HiWGun+xGv2UtDtobsHFj3uJwdNHOCkzo8hp3WcMoUWCZpUENwN4HakzzAffk7VOfdN8 dMFg== X-Gm-Message-State: AOJu0Yz4ZZjG2KyeJoShpbl9m9uj8Dl0JWkoHX3x6UYPQ1CPwhGbcb/Q YuQbVbCsXQ8QwbM1vicf6IHDZSZ0fOc6Quozls5oHzVQM6anR/R6P/rmCIFRSrGCRwt2WnJnepe 1B/Xuc2Ai/42dMcRkt7TZLkgNcX0HiNdAGTsMhpYyMB7F X-Gm-Gg: ASbGncsNprVNbAmClzO2LCfkCjTqeBK7ErAoxtpwajBYscBD5a+s1nTFP9enbgZjjp3 rbRbutp3Rb+Njb1W0sgtJ/DsI4rnzozVuBwli45kHyFplavGYaRsMrV9RrIHV8LQLbhC53psNHN x4jlAgpxQPkxW/sT6ekpzMwmj2PQ1FHHUcIqY2Ot+vaMX1OBmKpYwsEJtr3O72nQYzRL1XpRVRC pspyJpSSv44ooG2bhepl6veqgZW9GfJHR1dusQiJg7+8AopFSyPiQwf/Kv2EKqffLEj+ypgw73W h9smpW6aMBJc9q0kbeddEuR7jzE2U8lOPtMqs87yU51eqt2Gggh/Bf/RsY4= X-Google-Smtp-Source: AGHT+IFpTFflkcQSqBmBqdtVGDOTiuB0jFy1wt2kpCN6X9lW3CXuVthETwZdpuwM+KEWnxJgPmTYJD4La0Ob X-Received: by 2002:a17:902:e5c5:b0:234:adce:3ece with SMTP id d9443c01a7336-235298f01bbmr51722305ad.11.1748610838708; Fri, 30 May 2025 06:13:58 -0700 (PDT) Received: from postal.iol.unh.edu (postal.iol.unh.edu. [132.177.123.84]) by smtp-relay.gmail.com with ESMTPS id d9443c01a7336-23506bf80ccsm2136225ad.45.2025.05.30.06.13.58 (version=TLS1_2 cipher=ECDHE-ECDSA-AES128-GCM-SHA256 bits=128/128); Fri, 30 May 2025 06:13:58 -0700 (PDT) X-Relaying-Domain: iol.unh.edu Date: Fri, 30 May 2025 06:13:58 -0700 (PDT) Message-ID: <6839af16.170a0220.be4a5.bfc7SMTPIN_ADDED_MISSING@mx.google.com> Received: from [172.17.0.2] (unknown [172.18.0.76]) by postal.iol.unh.edu (Postfix) with ESMTP id 31FF96052471; Fri, 30 May 2025 09:13:58 -0400 (EDT) Subject: |SUCCESS| pw153858-153860 [PATCH] [3/3] riscv: override machine_args From: dpdklab@iol.unh.edu To: Test Report Cc: dpdk-test-reports@iol.unh.edu In-Reply-To: References: Content-Type: text/plain X-BeenThere: test-report@dpdk.org X-Mailman-Version: 2.1.29 Precedence: list List-Id: automatic DPDK test reports List-Unsubscribe: , List-Archive: List-Post: List-Help: List-Subscribe: , Errors-To: test-report-bounces@dpdk.org Test-Label: iol-unit-arm64-testing Test-Status: SUCCESS http://dpdk.org/patch/153860 _Testing PASS_ Submitter: None Date: Wednesday, May 28 2025 17:00:46 DPDK git baseline: Repo:dpdk Branch: master CommitID:a633a128fd09ff1fc72312f4e4d1a9e0f73aa359 153858-153860 --> testing pass Upstream job id: Generic-Unit-Test-DPDK#341991 Test environment and result as below: +------------------------------+--------------+---------------------------+------------------------------+----------------+ | Environment | lpm_autotest | cryptodev_sw_zuc_autotest | cryptodev_sw_snow3g_autotest | dpdk_unit_test | +==============================+==============+===========================+==============================+================+ | Ubuntu 20.04 | PASS | SKIPPED | SKIPPED | PASS | +------------------------------+--------------+---------------------------+------------------------------+----------------+ | Debian 12 (arm) | SKIPPED | PASS | PASS | SKIPPED | +------------------------------+--------------+---------------------------+------------------------------+----------------+ | CentOS Stream 10 (ARM) | SKIPPED | SKIPPED | SKIPPED | PASS | +------------------------------+--------------+---------------------------+------------------------------+----------------+ | CentOS Stream 9 (ARM) | SKIPPED | SKIPPED | SKIPPED | PASS | +------------------------------+--------------+---------------------------+------------------------------+----------------+ | Debian GNU/Linux 12 | SKIPPED | SKIPPED | SKIPPED | PASS | +------------------------------+--------------+---------------------------+------------------------------+----------------+ | Fedora 41 (ARM) | SKIPPED | SKIPPED | SKIPPED | PASS | +------------------------------+--------------+---------------------------+------------------------------+----------------+ | Fedora 40 (ARM) | SKIPPED | SKIPPED | SKIPPED | PASS | +------------------------------+--------------+---------------------------+------------------------------+----------------+ | Fedora 40 (ARM Clang) | SKIPPED | SKIPPED | SKIPPED | PASS | +------------------------------+--------------+---------------------------+------------------------------+----------------+ | Fedora 41 (ARM Clang) | SKIPPED | SKIPPED | SKIPPED | PASS | +------------------------------+--------------+---------------------------+------------------------------+----------------+ | Red Hat Enterprise Linux 9.5 | SKIPPED | SKIPPED | SKIPPED | PASS | +------------------------------+--------------+---------------------------+------------------------------+----------------+ | Ubuntu 22.04 | SKIPPED | SKIPPED | SKIPPED | PASS | +------------------------------+--------------+---------------------------+------------------------------+----------------+ | Ubuntu 24.04 | SKIPPED | SKIPPED | SKIPPED | PASS | +------------------------------+--------------+---------------------------+------------------------------+----------------+ Ubuntu 20.04 Kernel: 5.4 Compiler: gcc gcc (Ubuntu 9.4.0-1ubuntu1~20.04.2) 9.4.0 Debian 12 (arm) Kernel: Depends on container host Compiler: gcc (Debian 12.2.0-14) 12.2.0 CentOS Stream 10 (ARM) Kernel: Depends on container host Compiler: gcc 14.2.1 20241104 (Red Hat 14.2.1-6) CentOS Stream 9 (ARM) Kernel: Depends on container host Compiler: gcc 11.5.0 20240719 (Red Hat 11.5.0-2) Debian GNU/Linux 12 Kernel: 5.4 Compiler: gcc gcc (Debian 12.2.0-14) 12.2.0 Fedora 41 (ARM) Kernel: Depends on container host Compiler: gcc 14.2.1 20240912 (Red Hat 14.2.1-3) Fedora 40 (ARM) Kernel: Depends on container host Compiler: gcc 14.2.1 20240912 (Red Hat 14.2.1-3) Fedora 40 (ARM Clang) Kernel: Depends on container host Compiler: clang 18.1.8 (Fedora 18.1.8-1.fc40) Fedora 41 (ARM Clang) Kernel: Depends on container host Compiler: clang 19.1.5 (Fedora 19.1.5-1.fc41) Red Hat Enterprise Linux 9.5 Kernel: 5.4 Compiler: gcc gcc (GCC) 11.5.0 20240719 (Red Hat 11.5.0-2) Ubuntu 22.04 Kernel: 5.4 Compiler: gcc gcc (Ubuntu 11.4.0-1ubuntu1~22.04) 11.4.0 Ubuntu 24.04 Kernel: 5.4 Compiler: gcc gcc (Ubuntu 13.3.0-6ubuntu2~24.04) 13.3.0 To view detailed results, visit: https://lab.dpdk.org/results/dashboard/patchsets/33276/ UNH-IOL DPDK Community Lab To manage your email subscriptions, visit: https://lab.dpdk.org/results/dashboard/preferences/subscriptions/