From mboxrd@z Thu Jan 1 00:00:00 1970 Return-Path: Received: from mails.dpdk.org (mails.dpdk.org [217.70.189.124]) by inbox.dpdk.org (Postfix) with ESMTP id 92DA346834 for ; Fri, 30 May 2025 23:10:18 +0200 (CEST) Received: from mails.dpdk.org (localhost [127.0.0.1]) by mails.dpdk.org (Postfix) with ESMTP id 7003C4025A; Fri, 30 May 2025 23:10:18 +0200 (CEST) Received: from mail-pf1-f225.google.com (mail-pf1-f225.google.com [209.85.210.225]) by mails.dpdk.org (Postfix) with ESMTP id D47214025A for ; Fri, 30 May 2025 23:10:16 +0200 (CEST) Received: by mail-pf1-f225.google.com with SMTP id d2e1a72fcca58-742c7a52e97so2082016b3a.3 for ; Fri, 30 May 2025 14:10:16 -0700 (PDT) DKIM-Signature: v=1; a=rsa-sha256; c=relaxed/relaxed; d=iol.unh.edu; s=unh-iol; t=1748639416; x=1749244216; darn=dpdk.org; h=references:in-reply-to:cc:to:from:subject:message-id:date:from:to :cc:subject:date:message-id:reply-to; bh=mUrdN0JqeQbnZAE9GMOSPGJ2GNEZz1/aXXB2amwRkR0=; b=Kh2eZ1Hig2xRtQXNzhXNpxi6Dnc1xuqluWeCOf+ziaS1SZCezFVu/n5ohb6IQeS0lz MPfe5qIQuT4DMFDmxEZfXljfIsxjjuGPTP5vs8PXa9II22vlehlnKYxY01iUqed1PSXe T6BvabIwKpCfppI15Rx6fgsC4FvLsJRw1OywQ= X-Google-DKIM-Signature: v=1; a=rsa-sha256; c=relaxed/relaxed; d=1e100.net; s=20230601; t=1748639416; x=1749244216; h=references:in-reply-to:cc:to:from:subject:message-id:date :x-gm-message-state:from:to:cc:subject:date:message-id:reply-to; bh=mUrdN0JqeQbnZAE9GMOSPGJ2GNEZz1/aXXB2amwRkR0=; b=mE6PGx9HpV5DUqqC8EXCCsuS3Pcb2XMMG5Ra0znuWUR3adykyZRcuJQfTccO/qUKMo Wu14+IgjzWkaqFysXoOH/eETboSnPIbrbIluBQdWH2ErTVcqi2sI51Mv0lnGKTBORhHZ kagnWoIcAH0KkHoXpd6foqSMtf2P7qJPwj8/RAwdqTZ57g4PRCaUdmHDQ6/splovPOkW iLKxLMtCraX2m0TdMmCfqRPpqLDnq2gPyUDdk+B6oUIGo8MlFotpkJozPv7YwmneOP9R K5iJXR8traPVFxVx775HEiLsRayfpJVQBCa40xmv7VmFBD3PDF5pJ49EIo4KH5PWnpyD Jjfg== X-Gm-Message-State: AOJu0YwHOgspOjJdqbvu8CGg0DzJlz9HTutLrIvCYuSfXjV4/vL5bxlf IGTUe9GARntqswVEUxuRxiYjNRkNVDLPyPN2sMPi6q6nzRYwzyEDTboizlej/7yOHl1r8AJ0c0b dwYgPa03UWbwpOyM9fTZB/aCvzrZpDPP9XvFDOU4ZRhad X-Gm-Gg: ASbGnctgq7LvXonN/W7XVYc9TGHPQfpVNqWV/EOp7tb1OeZ9zaz68Nn/rSfzryg/vCe r4iq6HCcg2ya1VBe9jE1id91wJlPtUUFZCj5ktsAEYVUOS/3bORB7ZsmHe0i52ryiNywzVvGfor 8EcTubmP607swN2SY6HIThRoAHMoqSfPjL2pkEZfamtMX5GjMiA6KFAAdE3mX4JTbKCgpsGTlIm sjjqg8Zd3K0OPEaRSkwoKzcI13L1dqnfJckLafmLrFN/l+HWlN8ZZv3RReOW4bXAnqpDGwkjOZv vdicgtsjNpkHEmMTHQoygDM9vqr7snCvQNvETbOKhCc9O3HxmOg/fppAxveJeinZ52KqNg== X-Google-Smtp-Source: AGHT+IEcl+uaqProrUaxn3RsIXNfWJKVZNM19j+FPJRHZ5bPCZJwMGUaHSPGf0RsrhEXIID+5hr905KfnsBJ X-Received: by 2002:aa7:88ca:0:b0:740:6f86:a0e6 with SMTP id d2e1a72fcca58-747c1a79380mr4118420b3a.6.1748639415788; Fri, 30 May 2025 14:10:15 -0700 (PDT) Received: from postal.iol.unh.edu (postal.iol.unh.edu. [132.177.123.84]) by smtp-relay.gmail.com with ESMTPS id d2e1a72fcca58-747afeabc21sm250705b3a.6.2025.05.30.14.10.15 (version=TLS1_2 cipher=ECDHE-ECDSA-AES128-GCM-SHA256 bits=128/128); Fri, 30 May 2025 14:10:15 -0700 (PDT) X-Relaying-Domain: iol.unh.edu Date: Fri, 30 May 2025 14:10:15 -0700 (PDT) Message-ID: <683a1eb7.050a0220.1f32f9.d18dSMTPIN_ADDED_MISSING@mx.google.com> Received: from [172.17.0.2] (unknown [172.18.0.74]) by postal.iol.unh.edu (Postfix) with ESMTP id F119E6052471; Fri, 30 May 2025 17:10:14 -0400 (EDT) Subject: |WARNING| pw153869-153870 [PATCH] [v9,2/2] drivers: add support for From: dpdklab@iol.unh.edu To: Test Report Cc: dpdk-test-reports@iol.unh.edu In-Reply-To: <20250529154343.1589903-2-kirankumark@marvell.com> References: <20250529154343.1589903-2-kirankumark@marvell.com> Content-Type: text/plain X-BeenThere: test-report@dpdk.org X-Mailman-Version: 2.1.29 Precedence: list List-Id: automatic DPDK test reports List-Unsubscribe: , List-Archive: List-Post: List-Help: List-Subscribe: , Errors-To: test-report-bounces@dpdk.org Test-Label: iol-compile-amd64-testing Test-Status: WARNING http://dpdk.org/patch/153870 _Testing issues_ Submitter: Kiran Kumar Kokkilagadda Date: Thursday, May 29 2025 15:43:43 DPDK git baseline: Repo:dpdk Branch: master CommitID:466db466e2938c0d4e7f3dd75435483133f98770 153869-153870 --> testing issues Upstream job id: Windows-Compile-DPDK-Native#28709 Test environment and result as below: +-------------------------------+--------------------+-------------------+------------------+-------------------+-------------------------+ | Environment | dpdk_meson_compile | dpdk_compile_spdk | dpdk_compile_ovs | dpdk_msvc_compile | dpdk_llvm_clang_compile | +===============================+====================+===================+==================+===================+=========================+ | Ubuntu 20.04 | PASS | SKIPPED | SKIPPED | SKIPPED | SKIPPED | +-------------------------------+--------------------+-------------------+------------------+-------------------+-------------------------+ | FreeBSD 14.2 | PASS | SKIPPED | SKIPPED | SKIPPED | SKIPPED | +-------------------------------+--------------------+-------------------+------------------+-------------------+-------------------------+ | CentOS Stream 9 | PASS | PASS | SKIPPED | SKIPPED | SKIPPED | +-------------------------------+--------------------+-------------------+------------------+-------------------+-------------------------+ | CentOS Stream 10 | PASS | SKIPPED | SKIPPED | SKIPPED | SKIPPED | +-------------------------------+--------------------+-------------------+------------------+-------------------+-------------------------+ | Debian GNU/Linux 12 | PASS | PASS | SKIPPED | SKIPPED | SKIPPED | +-------------------------------+--------------------+-------------------+------------------+-------------------+-------------------------+ | Fedora 40 (Clang) | PASS | WARN | SKIPPED | SKIPPED | SKIPPED | +-------------------------------+--------------------+-------------------+------------------+-------------------+-------------------------+ | Fedora 40 | PASS | PASS | SKIPPED | SKIPPED | SKIPPED | +-------------------------------+--------------------+-------------------+------------------+-------------------+-------------------------+ | Fedora 41 (Clang) | PASS | WARN | PASS | SKIPPED | SKIPPED | +-------------------------------+--------------------+-------------------+------------------+-------------------+-------------------------+ | Fedora 41 | PASS | PASS | PASS | SKIPPED | SKIPPED | +-------------------------------+--------------------+-------------------+------------------+-------------------+-------------------------+ | openSUSE Leap 15.6 | PASS | SKIPPED | SKIPPED | SKIPPED | SKIPPED | +-------------------------------+--------------------+-------------------+------------------+-------------------+-------------------------+ | Red Hat Enterprise Linux 8.10 | PASS | SKIPPED | SKIPPED | SKIPPED | SKIPPED | +-------------------------------+--------------------+-------------------+------------------+-------------------+-------------------------+ | Red Hat Enterprise Linux 9.5 | PASS | SKIPPED | SKIPPED | SKIPPED | SKIPPED | +-------------------------------+--------------------+-------------------+------------------+-------------------+-------------------------+ | Ubuntu 22.04 | PASS | PASS | SKIPPED | SKIPPED | SKIPPED | +-------------------------------+--------------------+-------------------+------------------+-------------------+-------------------------+ | Ubuntu 24.04 | PASS | PASS | PASS | SKIPPED | SKIPPED | +-------------------------------+--------------------+-------------------+------------------+-------------------+-------------------------+ | Alpine | PASS | SKIPPED | SKIPPED | SKIPPED | SKIPPED | +-------------------------------+--------------------+-------------------+------------------+-------------------+-------------------------+ | Windows Server 2022 | SKIPPED | SKIPPED | SKIPPED | PASS | PASS | +-------------------------------+--------------------+-------------------+------------------+-------------------+-------------------------+ ==== 20 line log output for Fedora 41 (Clang) (dpdk_compile_spdk): ==== --- Failed to get log output --- ==== End log output ==== Ubuntu 20.04 Kernel: 4.19 Compiler: gcc gcc (Ubuntu 9.4.0-1ubuntu1~20.04.2) 9.4.0 FreeBSD 14.2 Kernel: 14.2-RELEASE Compiler: clang 18.1.6 CentOS Stream 9 Kernel: Depends on container host Compiler: gcc 11.5.0 20240719 (Red Hat 11.5.0-2) CentOS Stream 10 Kernel: Depends on container host Compiler: gcc 14.2.1 20241104 (Red Hat 14.2.1-6) Debian GNU/Linux 12 Kernel: 5.15 Compiler: gcc gcc (Debian 12.2.0-14) 12.2.0 Fedora 40 (Clang) Kernel: Depends on container host Compiler: clang 18.1.8 (Fedora 18.1.8-1.fc40) Fedora 40 Kernel: Depends on container host Compiler: gcc 14.2.1 20240912 (Red Hat 14.2.1-3) Fedora 41 (Clang) Kernel: Depends on container host Compiler: clang 19.1.5 (Fedora 19.1.5-1.fc41) Fedora 41 Kernel: Depends on container host Compiler: gcc 14.2.1 20240912 (Red Hat 14.2.1-3) openSUSE Leap 15.6 Kernel: 5.15 Compiler: gcc gcc (SUSE Linux) 7.5.0 Red Hat Enterprise Linux 8.10 Kernel: 5.15 Compiler: gcc gcc (GCC) 8.5.0 20210514 (Red Hat 8.5.0-22) Red Hat Enterprise Linux 9.5 Kernel: 5.15 Compiler: gcc gcc (GCC) 11.5.0 20240719 (Red Hat 11.5.0-2) Ubuntu 22.04 Kernel: 5.15 Compiler: gcc gcc (Ubuntu 11.4.0-1ubuntu1~22.04) 11.4.0 Ubuntu 24.04 Kernel: 5.15 Compiler: gcc gcc (Ubuntu 13.3.0-6ubuntu2~24.04) 13.3.0 Alpine Kernel: Depends on container host Compiler: gcc (Alpine 14.2.0) 14.2.0 Windows Server 2022 Kernel: 10.0.20348.2031 Compiler: clang 15.0.7, gcc 14.1.0 (MinGW), and MSVC VS 19.39.33521 To view detailed results, visit: https://lab.dpdk.org/results/dashboard/patchsets/33283/ UNH-IOL DPDK Community Lab To manage your email subscriptions, visit: https://lab.dpdk.org/results/dashboard/preferences/subscriptions/