From mboxrd@z Thu Jan  1 00:00:00 1970
Return-Path: <test-report-bounces@dpdk.org>
Received: from mails.dpdk.org (mails.dpdk.org [217.70.189.124])
	by inbox.dpdk.org (Postfix) with ESMTP id 9C87346834
	for <public@inbox.dpdk.org>; Fri, 30 May 2025 23:55:36 +0200 (CEST)
Received: from mails.dpdk.org (localhost [127.0.0.1])
	by mails.dpdk.org (Postfix) with ESMTP id 8F44E4025A;
	Fri, 30 May 2025 23:55:36 +0200 (CEST)
Received: from mail-io1-f100.google.com (mail-io1-f100.google.com
 [209.85.166.100])
 by mails.dpdk.org (Postfix) with ESMTP id 2CCAB4025A
 for <test-report@dpdk.org>; Fri, 30 May 2025 23:55:35 +0200 (CEST)
Received: by mail-io1-f100.google.com with SMTP id
 ca18e2360f4ac-86a052d7897so165204839f.0
 for <test-report@dpdk.org>; Fri, 30 May 2025 14:55:35 -0700 (PDT)
DKIM-Signature: v=1; a=rsa-sha256; c=relaxed/relaxed;
 d=iol.unh.edu; s=unh-iol; t=1748642134; x=1749246934; darn=dpdk.org;
 h=references:in-reply-to:cc:to:from:subject:message-id:date:from:to
 :cc:subject:date:message-id:reply-to;
 bh=fyjcsR+sQDyyye8xrOO5oEaZBFbEUVIJpnDmcniO0Ak=;
 b=E/96Zb0/CGZ/UnSxdm5hzgVc218M3KIzUNq0WtRHdIcbLdnMRyG9ljALFc1ttijs+P
 GuABqAd8SaoCfE3xxdwUvIPlvAMvwBZ5rjUL0XkGZVAf5NOOf73pR6oiFznKxLKoO49s
 zjFlszR1IpVItuul59BGZA3kK5JdX+FtMstlU=
X-Google-DKIM-Signature: v=1; a=rsa-sha256; c=relaxed/relaxed;
 d=1e100.net; s=20230601; t=1748642134; x=1749246934;
 h=references:in-reply-to:cc:to:from:subject:message-id:date
 :x-gm-message-state:from:to:cc:subject:date:message-id:reply-to;
 bh=fyjcsR+sQDyyye8xrOO5oEaZBFbEUVIJpnDmcniO0Ak=;
 b=fDMzsJaYfrFdwRWMp0uboX4dn0ifzJb4rwdQkWNuNAzQQ/eBs1bSgHSzjCKAXHm/Yn
 6lnt9Dzmw6EuPcHQLtLsIHcRWfYMoLwJu1IJq0X/ZmQr/LN8EWsf4IwscW4E4Xd1hFOe
 0jY+6ii99nVkXtKjoTu7WMMNk1trGBfOMSzBdXMoQzA5n+AC5Bl1E0PIaNHFp4kFTRiz
 xesj8C3mfTVV9sD0z3OM8Vl0sDsuA23NO7DoO2/ahnu5L9LLLU2OYsY8hJraLsuZLvUB
 RTiBbO9WXlANKYv4J4WEJudwL9wtb5oNcowOgUX5Znd1tRyAgLBCldluvG9/kmgOC92N
 yFAA==
X-Gm-Message-State: AOJu0YxT3j0XRXBxmADj9gEbxrmeEj7FuhrkR1eZj37TkaEZ261Nxi/h
 MGu0dUhF9G8Ijm8ney+nL4K2uIYjHCaTPnU74sAjpxAhhwm+a8FVlnBVAP+nB1VR+0+5i8yrkyQ
 +D4p7T9h5u7kffLnj32Joi5v+f/gAuRNv811zr8CJF2BNuMZO6ab410MXY7ui
X-Gm-Gg: ASbGncuZSAfFniXleWOuUhVdaFwQYIPFWxCJ3XX6NNWULHNx8Ht0/P22pbBqRrAjse1
 Q8xBDzpNzHgyZqIgT+l37cb7GzTSMXH1trXrM5TAUFTxY39rYvyYC+snxrYZpSReHHPb40m/mFa
 oQCYy4VwEvGKTRUWFuvL9Hw4x0wjFQ93pX08EEChkSrGY7U21Jq32NC3kRc/dwHa6j6n8zx3OUU
 J5f1JocGGJxWjEbmHV8k27wJrE706nqMV7y8bClATSYLWhGRSco++A3S0yn18yYlKTvbrR4uUvq
 lmP31eTdEf9qjymiFtOGSBIr4Qon2ULTSK0i
X-Google-Smtp-Source: AGHT+IFkYHzGKMQNsfMLkyui00R4eSsZuLWyOcp36vXR/eG+LAUPOGBWyFUtuky/j6g9R++rVEqdouKTJtR6
X-Received: by 2002:a05:6602:1415:b0:86d:f35:a100 with SMTP id
 ca18e2360f4ac-86d0f35a283mr235390339f.5.1748642134479; 
 Fri, 30 May 2025 14:55:34 -0700 (PDT)
Received: from postal.iol.unh.edu (postal.iol.unh.edu.
 [2606:4100:3880:1234::84]) by smtp-relay.gmail.com with ESMTPS id
 ca18e2360f4ac-86cf5f81b83sm15442039f.23.2025.05.30.14.55.34
 (version=TLS1_2 cipher=ECDHE-ECDSA-AES128-GCM-SHA256 bits=128/128);
 Fri, 30 May 2025 14:55:34 -0700 (PDT)
X-Relaying-Domain: iol.unh.edu
Date: Fri, 30 May 2025 14:55:34 -0700 (PDT)
Message-ID: <683a2956.050a0220.1aa2a8.84a8SMTPIN_ADDED_MISSING@mx.google.com>
Received: from [172.17.0.2] (unknown [172.18.0.76])
 by postal.iol.unh.edu (Postfix) with ESMTP id 019CC6052471;
 Fri, 30 May 2025 17:55:34 -0400 (EDT)
Subject: |SUCCESS| pw153890-153914 [PATCH] [v4,25/25] net/intel: add common T
From: dpdklab@iol.unh.edu
To: Test Report <test-report@dpdk.org>
Cc: dpdk-test-reports@iol.unh.edu
In-Reply-To: <150e8c6ff6c3730f5c9ed78477d0b615c7f35a1a.1748612804.git.anatoly.burakov@intel.com>
References: <150e8c6ff6c3730f5c9ed78477d0b615c7f35a1a.1748612804.git.anatoly.burakov@intel.com>
Content-Type: text/plain
X-BeenThere: test-report@dpdk.org
X-Mailman-Version: 2.1.29
Precedence: list
List-Id: automatic DPDK test reports <test-report.dpdk.org>
List-Unsubscribe: <https://mails.dpdk.org/options/test-report>,
 <mailto:test-report-request@dpdk.org?subject=unsubscribe>
List-Archive: <http://mails.dpdk.org/archives/test-report/>
List-Post: <mailto:test-report@dpdk.org>
List-Help: <mailto:test-report-request@dpdk.org?subject=help>
List-Subscribe: <https://mails.dpdk.org/listinfo/test-report>,
 <mailto:test-report-request@dpdk.org?subject=subscribe>
Errors-To: test-report-bounces@dpdk.org

Test-Label: iol-compile-arm64-testing
Test-Status: SUCCESS
http://dpdk.org/patch/153914

_Testing PASS_

Submitter: Anatoly Burakov <anatoly.burakov@intel.com>
Date: Friday, May 30 2025 13:57:21 
DPDK git baseline: Repo:dpdk
  Branch: master
  CommitID:466db466e2938c0d4e7f3dd75435483133f98770

153890-153914 --> testing pass

Upstream job id: Generic-DPDK-Compile-Meson#393036

Test environment and result as below:

+------------------------------+--------------------+
|         Environment          | dpdk_meson_compile |
+==============================+====================+
| Red Hat Enterprise Linux 9.5 | PASS               |
+------------------------------+--------------------+
| Ubuntu 20.04                 | PASS               |
+------------------------------+--------------------+
| Debian GNU/Linux 12          | PASS               |
+------------------------------+--------------------+
| Fedora 40 (ARM)              | PASS               |
+------------------------------+--------------------+
| Fedora 40 (ARM Clang)        | PASS               |
+------------------------------+--------------------+
| Fedora 41 (ARM)              | PASS               |
+------------------------------+--------------------+
| Fedora 41 (ARM Clang)        | PASS               |
+------------------------------+--------------------+
| Ubuntu 22.04                 | PASS               |
+------------------------------+--------------------+
| Ubuntu 24.04                 | PASS               |
+------------------------------+--------------------+
| CentOS Stream 9 (ARM)        | PASS               |
+------------------------------+--------------------+
| CentOS Stream 10 (ARM)       | PASS               |
+------------------------------+--------------------+


Red Hat Enterprise Linux 9.5
	Kernel: 5.4
	Compiler: gcc gcc (GCC) 11.5.0 20240719 (Red Hat 11.5.0-2)

Ubuntu 20.04
	Kernel: 5.15
	Compiler: aarch64-linux-gnu-gcc gcc (Ubuntu 9.4.0-1ubuntu1~20.04.2) 9.4.0

Debian GNU/Linux 12
	Kernel: 5.4
	Compiler: gcc gcc (Debian 12.2.0-14) 12.2.0

Fedora 40 (ARM)
	Kernel: Depends on container host
	Compiler: gcc 14.2.1 20240912 (Red Hat 14.2.1-3)

Fedora 40 (ARM Clang)
	Kernel: Depends on container host
	Compiler: clang 18.1.8 (Fedora 18.1.8-1.fc40)

Fedora 41 (ARM)
	Kernel: Depends on container host
	Compiler: gcc 14.2.1 20240912 (Red Hat 14.2.1-3)

Fedora 41 (ARM Clang)
	Kernel: Depends on container host
	Compiler: clang 19.1.5 (Fedora 19.1.5-1.fc41)

Ubuntu 22.04
	Kernel: 5.4
	Compiler: gcc gcc (Ubuntu 11.4.0-1ubuntu1~22.04) 11.4.0

Ubuntu 24.04
	Kernel: 5.4
	Compiler: gcc gcc (Ubuntu 13.3.0-6ubuntu2~24.04) 13.3.0

CentOS Stream 9 (ARM)
	Kernel: Depends on container host
	Compiler: gcc 11.5.0 20240719 (Red Hat 11.5.0-2)

CentOS Stream 10 (ARM)
	Kernel: Depends on container host
	Compiler: gcc 14.2.1 20241104 (Red Hat 14.2.1-6)

To view detailed results, visit:
https://lab.dpdk.org/results/dashboard/patchsets/33290/

UNH-IOL DPDK Community Lab

To manage your email subscriptions, visit: 
https://lab.dpdk.org/results/dashboard/preferences/subscriptions/