From mboxrd@z Thu Jan  1 00:00:00 1970
Return-Path: <test-report-bounces@dpdk.org>
Received: from mails.dpdk.org (mails.dpdk.org [217.70.189.124])
	by inbox.dpdk.org (Postfix) with ESMTP id 0A56346834
	for <public@inbox.dpdk.org>; Sat, 31 May 2025 00:15:09 +0200 (CEST)
Received: from mails.dpdk.org (localhost [127.0.0.1])
	by mails.dpdk.org (Postfix) with ESMTP id DDE4B4025A;
	Sat, 31 May 2025 00:15:08 +0200 (CEST)
Received: from mail-pj1-f99.google.com (mail-pj1-f99.google.com
 [209.85.216.99]) by mails.dpdk.org (Postfix) with ESMTP id 9941B4025A
 for <test-report@dpdk.org>; Sat, 31 May 2025 00:15:07 +0200 (CEST)
Received: by mail-pj1-f99.google.com with SMTP id
 98e67ed59e1d1-310e1f4627aso2652363a91.2
 for <test-report@dpdk.org>; Fri, 30 May 2025 15:15:07 -0700 (PDT)
DKIM-Signature: v=1; a=rsa-sha256; c=relaxed/relaxed;
 d=iol.unh.edu; s=unh-iol; t=1748643306; x=1749248106; darn=dpdk.org;
 h=references:in-reply-to:cc:to:from:subject:message-id:date:from:to
 :cc:subject:date:message-id:reply-to;
 bh=0+j9PiI2Rs2HAVmIGInAZF4+Jp7tYCn2oobJjzFOGbA=;
 b=QzrPF7yCp0Nrowjyzi6WMSJgq4AVlLjfUpATGz5Ivcty4Ugvh+FSKiAMLJ6Ng6fcDV
 tjRnJNpGHVwSS+oMyM6a26kybQJaxi2Vj7M/F5rYEjoFKQ5twP2YK36ipu3xyhAkKxzh
 nJokjhB72mgdsX4juF5/vzEeh1Xwc42mHDRu8=
X-Google-DKIM-Signature: v=1; a=rsa-sha256; c=relaxed/relaxed;
 d=1e100.net; s=20230601; t=1748643306; x=1749248106;
 h=references:in-reply-to:cc:to:from:subject:message-id:date
 :x-gm-message-state:from:to:cc:subject:date:message-id:reply-to;
 bh=0+j9PiI2Rs2HAVmIGInAZF4+Jp7tYCn2oobJjzFOGbA=;
 b=mAyAVdIkJtPWL8h6GeRTKzn9dPY9IGvRmPdmkufGrA5HVKJgkhRd9mZosWK4c2Cko8
 w8p5BUbUlecTvUwphYoR1FYBs1Z9vuq2HUjU6j2GiK3xSZ6n8anuCy4aom9PopumoUKh
 0StVQmABUlesebdDvyiMwmoxe1BFkVIGn/bbCyVTe2buZDbii7WpBceoW5N6EEUX2CTD
 aWQwIYbcOF2DdQn2wE9WajnUp/L9Jq7FhtQQJaM0o9yDIOObbGBLohVFw8JH1gX5OJVq
 0uPQ71bxVt9fyw2eJ64+xWTAC6+m56ngsnki4bhuYmi9SWM2qXLkJMQWvL7RziJxgcyJ
 DBkg==
X-Gm-Message-State: AOJu0YxTEu4jJQOVTq2NVFGVRt+SNwVU0JqOh+JOMnrOEpS8X5NV/Nyl
 nokX7hsVNBenRtVpqBrSDAyFItY3h/G5PxCjVYxBeWbRC1lsnegLD2yJuX/kV4sBy9uSjzdtFt1
 ckSEmrdxYj1PX3rsqdKRa4BYO5Yc69fKH4mm+mlrqYKiu
X-Gm-Gg: ASbGncs+zLyCBnK2PyOlGsl/usbdrVN39JCDrgcodjanV75G+UYpnlYmoQzsqyfkrr6
 eaOfiwdn3zPb+NG8bO9UnVa7jUUZO0Jll0FJ8JFZ1SZJc+ot1zTlc1SGO6BaASnoDFHCcMKT7WL
 0fN1qhWa/kBMZvmqYHabAogI9sAYdRWVn7xI2lOoXlTtDer14dXSbbNfcFmfyaUEVW/UBaaYxDM
 vVzyoJMi2tLLsrz3UiGZzjH5x5nFE5FQ51mSpxHvXKJHNB7brhjJ0931wnc3kcSAJ8wWJR1zajW
 WhZ76o0XhThspi+O3h8m5v+u7Crnl3MDvnuIhOTitBt5XKu6zBjLwa6f+kQ=
X-Google-Smtp-Source: AGHT+IFwz5MiKgUW2Lx2kyVa2OefJBOUX+/Z+azk0abgZTfGM3UzRAvqHVzBifuV8wP199l7TyNrhsn7BLgQ
X-Received: by 2002:a17:90b:2f0f:b0:2f4:4003:f3ea with SMTP id
 98e67ed59e1d1-312504538f3mr5116962a91.33.1748643306372; 
 Fri, 30 May 2025 15:15:06 -0700 (PDT)
Received: from postal.iol.unh.edu (postal.iol.unh.edu. [132.177.123.84])
 by smtp-relay.gmail.com with ESMTPS id
 98e67ed59e1d1-3124e2ec374sm254379a91.8.2025.05.30.15.15.06
 (version=TLS1_2 cipher=ECDHE-ECDSA-AES128-GCM-SHA256 bits=128/128);
 Fri, 30 May 2025 15:15:06 -0700 (PDT)
X-Relaying-Domain: iol.unh.edu
Date: Fri, 30 May 2025 15:15:06 -0700 (PDT)
Message-ID: <683a2dea.170a0220.205e5d.e17aSMTPIN_ADDED_MISSING@mx.google.com>
Received: from [172.17.0.2] (unknown [172.18.0.74])
 by postal.iol.unh.edu (Postfix) with ESMTP id A0F506052471;
 Fri, 30 May 2025 18:15:05 -0400 (EDT)
Subject: |WARNING| pw153858-153860 [PATCH] [3/3] riscv: override machine_args
From: dpdklab@iol.unh.edu
To: Test Report <test-report@dpdk.org>
Cc: dpdk-test-reports@iol.unh.edu
In-Reply-To: <tencent_87AB6A59A00D69168BCC09615D86BDF21C0A@qq.com>
References: <tencent_87AB6A59A00D69168BCC09615D86BDF21C0A@qq.com>
Content-Type: text/plain
X-BeenThere: test-report@dpdk.org
X-Mailman-Version: 2.1.29
Precedence: list
List-Id: automatic DPDK test reports <test-report.dpdk.org>
List-Unsubscribe: <https://mails.dpdk.org/options/test-report>,
 <mailto:test-report-request@dpdk.org?subject=unsubscribe>
List-Archive: <http://mails.dpdk.org/archives/test-report/>
List-Post: <mailto:test-report@dpdk.org>
List-Help: <mailto:test-report-request@dpdk.org?subject=help>
List-Subscribe: <https://mails.dpdk.org/listinfo/test-report>,
 <mailto:test-report-request@dpdk.org?subject=subscribe>
Errors-To: test-report-bounces@dpdk.org

Test-Label: iol-compile-amd64-testing
Test-Status: WARNING
http://dpdk.org/patch/153860

_Testing issues_

Submitter: None <uk7b@foxmail.com>
Date: Wednesday, May 28 2025 17:00:46 
DPDK git baseline: Repo:dpdk
  Branch: master
  CommitID:a633a128fd09ff1fc72312f4e4d1a9e0f73aa359

153858-153860 --> testing issues

Upstream job id: Windows-Compile-DPDK-Native#28719

Test environment and result as below:

+-------------------------------+--------------------+-------------------+------------------+-------------------+-------------------------+
|          Environment          | dpdk_meson_compile | dpdk_compile_spdk | dpdk_compile_ovs | dpdk_msvc_compile | dpdk_llvm_clang_compile |
+===============================+====================+===================+==================+===================+=========================+
| CentOS Stream 9               | PASS               | PASS              | SKIPPED          | SKIPPED           | SKIPPED                 |
+-------------------------------+--------------------+-------------------+------------------+-------------------+-------------------------+
| CentOS Stream 10              | PASS               | SKIPPED           | SKIPPED          | SKIPPED           | SKIPPED                 |
+-------------------------------+--------------------+-------------------+------------------+-------------------+-------------------------+
| Debian GNU/Linux 12           | PASS               | PASS              | SKIPPED          | SKIPPED           | SKIPPED                 |
+-------------------------------+--------------------+-------------------+------------------+-------------------+-------------------------+
| Fedora 40                     | PASS               | PASS              | SKIPPED          | SKIPPED           | SKIPPED                 |
+-------------------------------+--------------------+-------------------+------------------+-------------------+-------------------------+
| Fedora 41 (Clang)             | PASS               | WARN              | PASS             | SKIPPED           | SKIPPED                 |
+-------------------------------+--------------------+-------------------+------------------+-------------------+-------------------------+
| Fedora 41                     | PASS               | PASS              | PASS             | SKIPPED           | SKIPPED                 |
+-------------------------------+--------------------+-------------------+------------------+-------------------+-------------------------+
| openSUSE Leap 15.6            | PASS               | SKIPPED           | SKIPPED          | SKIPPED           | SKIPPED                 |
+-------------------------------+--------------------+-------------------+------------------+-------------------+-------------------------+
| Ubuntu 20.04                  | PASS               | SKIPPED           | SKIPPED          | SKIPPED           | SKIPPED                 |
+-------------------------------+--------------------+-------------------+------------------+-------------------+-------------------------+
| Red Hat Enterprise Linux 8.10 | PASS               | SKIPPED           | SKIPPED          | SKIPPED           | SKIPPED                 |
+-------------------------------+--------------------+-------------------+------------------+-------------------+-------------------------+
| Red Hat Enterprise Linux 9.5  | PASS               | SKIPPED           | SKIPPED          | SKIPPED           | SKIPPED                 |
+-------------------------------+--------------------+-------------------+------------------+-------------------+-------------------------+
| Ubuntu 22.04                  | PASS               | PASS              | SKIPPED          | SKIPPED           | SKIPPED                 |
+-------------------------------+--------------------+-------------------+------------------+-------------------+-------------------------+
| Ubuntu 24.04                  | PASS               | PASS              | PASS             | SKIPPED           | SKIPPED                 |
+-------------------------------+--------------------+-------------------+------------------+-------------------+-------------------------+
| Alpine                        | PASS               | SKIPPED           | SKIPPED          | SKIPPED           | SKIPPED                 |
+-------------------------------+--------------------+-------------------+------------------+-------------------+-------------------------+
| FreeBSD 14.2                  | PASS               | SKIPPED           | SKIPPED          | SKIPPED           | SKIPPED                 |
+-------------------------------+--------------------+-------------------+------------------+-------------------+-------------------------+
| Fedora 40 (Clang)             | PASS               | WARN              | SKIPPED          | SKIPPED           | SKIPPED                 |
+-------------------------------+--------------------+-------------------+------------------+-------------------+-------------------------+
| Windows Server 2022           | SKIPPED            | SKIPPED           | SKIPPED          | PASS              | PASS                    |
+-------------------------------+--------------------+-------------------+------------------+-------------------+-------------------------+

==== 20 line log output for Fedora 40 (Clang) (dpdk_compile_spdk): ====
 --- Failed to get log output --- 
==== End log output ====

CentOS Stream 9
	Kernel: Depends on container host
	Compiler: gcc 11.5.0 20240719 (Red Hat 11.5.0-2)

CentOS Stream 10
	Kernel: Depends on container host
	Compiler: gcc 14.2.1 20241104 (Red Hat 14.2.1-6)

Debian GNU/Linux 12
	Kernel: 5.15
	Compiler: gcc gcc (Debian 12.2.0-14) 12.2.0

Fedora 40
	Kernel: Depends on container host
	Compiler: gcc 14.2.1 20240912 (Red Hat 14.2.1-3)

Fedora 41 (Clang)
	Kernel: Depends on container host
	Compiler: clang 19.1.5 (Fedora 19.1.5-1.fc41)

Fedora 41
	Kernel: Depends on container host
	Compiler: gcc 14.2.1 20240912 (Red Hat 14.2.1-3)

openSUSE Leap 15.6
	Kernel: 5.15
	Compiler: gcc gcc (SUSE Linux) 7.5.0

Ubuntu 20.04
	Kernel: 4.19
	Compiler: gcc gcc (Ubuntu 9.4.0-1ubuntu1~20.04.2) 9.4.0

Red Hat Enterprise Linux 8.10
	Kernel: 5.15
	Compiler: gcc gcc (GCC) 8.5.0 20210514 (Red Hat 8.5.0-22)

Red Hat Enterprise Linux 9.5
	Kernel: 5.15
	Compiler: gcc gcc (GCC) 11.5.0 20240719 (Red Hat 11.5.0-2)

Ubuntu 22.04
	Kernel: 5.15
	Compiler: gcc gcc (Ubuntu 11.4.0-1ubuntu1~22.04) 11.4.0

Ubuntu 24.04
	Kernel: 5.15
	Compiler: gcc gcc (Ubuntu 13.3.0-6ubuntu2~24.04) 13.3.0

Alpine
	Kernel: Depends on container host
	Compiler: gcc (Alpine 14.2.0) 14.2.0

FreeBSD 14.2
	Kernel: 14.2-RELEASE
	Compiler: clang 18.1.6

Fedora 40 (Clang)
	Kernel: Depends on container host
	Compiler: clang 18.1.8 (Fedora 18.1.8-1.fc40)

Windows Server 2022
	Kernel: 10.0.20348.2031
	Compiler: clang 15.0.7, gcc 14.1.0 (MinGW), and MSVC VS 19.39.33521

To view detailed results, visit:
https://lab.dpdk.org/results/dashboard/patchsets/33276/

UNH-IOL DPDK Community Lab

To manage your email subscriptions, visit: 
https://lab.dpdk.org/results/dashboard/preferences/subscriptions/