From mboxrd@z Thu Jan 1 00:00:00 1970 Return-Path: Received: from mails.dpdk.org (mails.dpdk.org [217.70.189.124]) by inbox.dpdk.org (Postfix) with ESMTP id B4F1346834 for ; Sat, 31 May 2025 00:32:14 +0200 (CEST) Received: from mails.dpdk.org (localhost [127.0.0.1]) by mails.dpdk.org (Postfix) with ESMTP id 8FCBE4025E; Sat, 31 May 2025 00:32:14 +0200 (CEST) Received: from mail-io1-f98.google.com (mail-io1-f98.google.com [209.85.166.98]) by mails.dpdk.org (Postfix) with ESMTP id 03B2C4025E for ; Sat, 31 May 2025 00:32:14 +0200 (CEST) Received: by mail-io1-f98.google.com with SMTP id ca18e2360f4ac-86d074fc24bso29906939f.1 for ; Fri, 30 May 2025 15:32:13 -0700 (PDT) DKIM-Signature: v=1; a=rsa-sha256; c=relaxed/relaxed; d=iol.unh.edu; s=unh-iol; t=1748644333; x=1749249133; darn=dpdk.org; h=references:in-reply-to:cc:to:from:subject:message-id:date:from:to :cc:subject:date:message-id:reply-to; bh=Hb801O8ALpKNARB+3UmdFmBEwFWfJTNBCNPo46dzmZM=; b=EsjT4T6jKEZzWyc6Ov5MOCL0dHIkVdAUvElFKF6ZDZdzllU5ihiWhK3dmZfJqSWgxp aXUngtY127YAR7CVGjBeXinWHkRz62apJ5pblEU1pUSsm/SrwioploTuwC3KWYvqGkrF WjMxO3nw0kYYUYTIslcF8uNVbl5WiC5r5S4DQ= X-Google-DKIM-Signature: v=1; a=rsa-sha256; c=relaxed/relaxed; d=1e100.net; s=20230601; t=1748644333; x=1749249133; h=references:in-reply-to:cc:to:from:subject:message-id:date :x-gm-message-state:from:to:cc:subject:date:message-id:reply-to; bh=Hb801O8ALpKNARB+3UmdFmBEwFWfJTNBCNPo46dzmZM=; b=nkK2nm8dwuVk8R588yQYgIOzYWhR0Ppwq/nffmhVH2DJACqwuSI5ndBrQa0ybxiztB TPlq0zgXIaDtg0y48KcxHUYsN2a+3nRXplO8zATcebSrbQsosuxZaHfb9+goL/fLJKRa tlnL+pA8Wayc5HO/Pfgmvmr7lf5gPyVPeOKgf0H8SL7DiqwInqr9l9TMn/WBy+toY8q8 EdpqI9Livru3SADKVEURsEK/UTIDRase1Yjnmv+z5vA1jWHWlqHRWEewQV1IZYljwWoc hKPPx0gkwYb21hbYwREzesq9+21yqkGJr2bUr/7447AI9S3K8wi0lBIVG9DeKDeFaFme kGpw== X-Gm-Message-State: AOJu0Yz2ua6JDgYkQszkhV1R94LN7ixKOYxynL18s2SB0YoO+F1XoAF7 0hjykZT9O2myq0qizf+YLgyex6de66NyqaillmwiyYWhrAi/8cYfLmzxfsx5shFHH2BuWvODgKO ORfinMK4jwHPjLW7m1mJewit8yBGoF1H/Q/OXB7KLNCBZm01kZM8gd9CjywVJ X-Gm-Gg: ASbGncsZeSyhX9JfnDevWEyWP4ufYWcWsU7R/CZnuWHbgg9nv/Z9W4u2/UHnofvkKxF 9a4ltE62BkUGp5padYWk0dCqcDr0fFGyP9QYQqwOTDqlhmJycMUHPOgd2lICvdrl8qCj39klz0g gArX7VJHx6oWSy+EWkQJGdxJUkphVGf55uH0IjIpcBoFFfABSDFwbB9DjS3J7ScB69c9GBMBDPc zFP8gqAGZ9x/PYr2f3NQ4G2CtkhnZ7jTa3oeZnrM9oy49N+JVTQm74jXItOZbpLve3mn30loN34 mOgwALhakAQihwF+x3mIdk8rptkBOdsrGlQW X-Google-Smtp-Source: AGHT+IFIO5BOQbDasPNb2uPkR2kKiEL5IHVR4jz0EDdwLySXZt50HxzVUINqoklUAvl6XdgFaGpnxzr4B5Wk X-Received: by 2002:a05:6e02:1a4d:b0:3dc:7660:9efe with SMTP id e9e14a558f8ab-3dd9c993716mr40251695ab.9.1748644333259; Fri, 30 May 2025 15:32:13 -0700 (PDT) Received: from postal.iol.unh.edu (postal.iol.unh.edu. [2606:4100:3880:1234::84]) by smtp-relay.gmail.com with ESMTPS id e9e14a558f8ab-3dd9353452fsm2404725ab.4.2025.05.30.15.32.13 (version=TLS1_2 cipher=ECDHE-ECDSA-AES128-GCM-SHA256 bits=128/128); Fri, 30 May 2025 15:32:13 -0700 (PDT) X-Relaying-Domain: iol.unh.edu Date: Fri, 30 May 2025 15:32:13 -0700 (PDT) Message-ID: <683a31ed.050a0220.d67a5.cc12SMTPIN_ADDED_MISSING@mx.google.com> Received: from [172.17.0.2] (unknown [172.18.0.74]) by postal.iol.unh.edu (Postfix) with ESMTP id B66A16052471; Fri, 30 May 2025 18:32:12 -0400 (EDT) Subject: |WARNING| pw153858-153860 [PATCH] [3/3] riscv: override machine_args From: dpdklab@iol.unh.edu To: Test Report Cc: dpdk-test-reports@iol.unh.edu In-Reply-To: References: Content-Type: text/plain X-BeenThere: test-report@dpdk.org X-Mailman-Version: 2.1.29 Precedence: list List-Id: automatic DPDK test reports List-Unsubscribe: , List-Archive: List-Post: List-Help: List-Subscribe: , Errors-To: test-report-bounces@dpdk.org Test-Label: iol-compile-amd64-testing Test-Status: WARNING http://dpdk.org/patch/153860 _Testing issues_ Submitter: None Date: Wednesday, May 28 2025 17:00:46 DPDK git baseline: Repo:dpdk Branch: master CommitID:a633a128fd09ff1fc72312f4e4d1a9e0f73aa359 153858-153860 --> testing issues Upstream job id: Windows-Compile-DPDK-Native#28721 Test environment and result as below: +-------------------------------+--------------------+-------------------+------------------+-------------------+-------------------------+ | Environment | dpdk_meson_compile | dpdk_compile_spdk | dpdk_compile_ovs | dpdk_msvc_compile | dpdk_llvm_clang_compile | +===============================+====================+===================+==================+===================+=========================+ | CentOS Stream 9 | PASS | PASS | SKIPPED | SKIPPED | SKIPPED | +-------------------------------+--------------------+-------------------+------------------+-------------------+-------------------------+ | CentOS Stream 10 | PASS | SKIPPED | SKIPPED | SKIPPED | SKIPPED | +-------------------------------+--------------------+-------------------+------------------+-------------------+-------------------------+ | Debian GNU/Linux 12 | PASS | PASS | SKIPPED | SKIPPED | SKIPPED | +-------------------------------+--------------------+-------------------+------------------+-------------------+-------------------------+ | Fedora 40 (Clang) | PASS | WARN | SKIPPED | SKIPPED | SKIPPED | +-------------------------------+--------------------+-------------------+------------------+-------------------+-------------------------+ | Fedora 40 | PASS | PASS | SKIPPED | SKIPPED | SKIPPED | +-------------------------------+--------------------+-------------------+------------------+-------------------+-------------------------+ | Fedora 41 (Clang) | PASS | WARN | PASS | SKIPPED | SKIPPED | +-------------------------------+--------------------+-------------------+------------------+-------------------+-------------------------+ | Fedora 41 | PASS | PASS | PASS | SKIPPED | SKIPPED | +-------------------------------+--------------------+-------------------+------------------+-------------------+-------------------------+ | openSUSE Leap 15.6 | PASS | SKIPPED | SKIPPED | SKIPPED | SKIPPED | +-------------------------------+--------------------+-------------------+------------------+-------------------+-------------------------+ | Red Hat Enterprise Linux 8.10 | PASS | SKIPPED | SKIPPED | SKIPPED | SKIPPED | +-------------------------------+--------------------+-------------------+------------------+-------------------+-------------------------+ | Red Hat Enterprise Linux 9.5 | PASS | SKIPPED | SKIPPED | SKIPPED | SKIPPED | +-------------------------------+--------------------+-------------------+------------------+-------------------+-------------------------+ | Ubuntu 20.04 | PASS | SKIPPED | SKIPPED | SKIPPED | SKIPPED | +-------------------------------+--------------------+-------------------+------------------+-------------------+-------------------------+ | Ubuntu 22.04 | PASS | PASS | SKIPPED | SKIPPED | SKIPPED | +-------------------------------+--------------------+-------------------+------------------+-------------------+-------------------------+ | Ubuntu 24.04 | PASS | PASS | PASS | SKIPPED | SKIPPED | +-------------------------------+--------------------+-------------------+------------------+-------------------+-------------------------+ | Alpine | PASS | SKIPPED | SKIPPED | SKIPPED | SKIPPED | +-------------------------------+--------------------+-------------------+------------------+-------------------+-------------------------+ | FreeBSD 14.2 | PASS | SKIPPED | SKIPPED | SKIPPED | SKIPPED | +-------------------------------+--------------------+-------------------+------------------+-------------------+-------------------------+ | Windows Server 2022 | SKIPPED | SKIPPED | SKIPPED | PASS | PASS | +-------------------------------+--------------------+-------------------+------------------+-------------------+-------------------------+ ==== 20 line log output for Fedora 41 (Clang) (dpdk_compile_spdk): ==== --- Failed to get log output --- ==== End log output ==== CentOS Stream 9 Kernel: Depends on container host Compiler: gcc 11.5.0 20240719 (Red Hat 11.5.0-2) CentOS Stream 10 Kernel: Depends on container host Compiler: gcc 14.2.1 20241104 (Red Hat 14.2.1-6) Debian GNU/Linux 12 Kernel: 5.15 Compiler: gcc gcc (Debian 12.2.0-14) 12.2.0 Fedora 40 (Clang) Kernel: Depends on container host Compiler: clang 18.1.8 (Fedora 18.1.8-1.fc40) Fedora 40 Kernel: Depends on container host Compiler: gcc 14.2.1 20240912 (Red Hat 14.2.1-3) Fedora 41 (Clang) Kernel: Depends on container host Compiler: clang 19.1.5 (Fedora 19.1.5-1.fc41) Fedora 41 Kernel: Depends on container host Compiler: gcc 14.2.1 20240912 (Red Hat 14.2.1-3) openSUSE Leap 15.6 Kernel: 5.15 Compiler: gcc gcc (SUSE Linux) 7.5.0 Red Hat Enterprise Linux 8.10 Kernel: 5.15 Compiler: gcc gcc (GCC) 8.5.0 20210514 (Red Hat 8.5.0-22) Red Hat Enterprise Linux 9.5 Kernel: 5.15 Compiler: gcc gcc (GCC) 11.5.0 20240719 (Red Hat 11.5.0-2) Ubuntu 20.04 Kernel: 5.15 Compiler: gcc gcc (Ubuntu 9.4.0-1ubuntu1~20.04.2) 9.4.0 Ubuntu 22.04 Kernel: 5.15 Compiler: gcc gcc (Ubuntu 11.4.0-1ubuntu1~22.04) 11.4.0 Ubuntu 24.04 Kernel: 5.15 Compiler: gcc gcc (Ubuntu 13.3.0-6ubuntu2~24.04) 13.3.0 Alpine Kernel: Depends on container host Compiler: gcc (Alpine 14.2.0) 14.2.0 FreeBSD 14.2 Kernel: 14.2-RELEASE Compiler: clang 18.1.6 Windows Server 2022 Kernel: 10.0.20348.2031 Compiler: clang 15.0.7, gcc 14.1.0 (MinGW), and MSVC VS 19.39.33521 To view detailed results, visit: https://lab.dpdk.org/results/dashboard/patchsets/33276/ UNH-IOL DPDK Community Lab To manage your email subscriptions, visit: https://lab.dpdk.org/results/dashboard/preferences/subscriptions/