From mboxrd@z Thu Jan 1 00:00:00 1970 Return-Path: Received: from mails.dpdk.org (mails.dpdk.org [217.70.189.124]) by inbox.dpdk.org (Postfix) with ESMTP id 485B446839 for ; Sat, 31 May 2025 04:11:21 +0200 (CEST) Received: from mails.dpdk.org (localhost [127.0.0.1]) by mails.dpdk.org (Postfix) with ESMTP id 287F940150; Sat, 31 May 2025 04:11:21 +0200 (CEST) Received: from mail-oa1-f99.google.com (mail-oa1-f99.google.com [209.85.160.99]) by mails.dpdk.org (Postfix) with ESMTP id E3B5340150 for ; Sat, 31 May 2025 04:11:19 +0200 (CEST) Received: by mail-oa1-f99.google.com with SMTP id 586e51a60fabf-2d09d495c6cso651622fac.3 for ; Fri, 30 May 2025 19:11:19 -0700 (PDT) DKIM-Signature: v=1; a=rsa-sha256; c=relaxed/relaxed; d=iol.unh.edu; s=unh-iol; t=1748657479; x=1749262279; darn=dpdk.org; h=references:in-reply-to:cc:to:from:subject:message-id:date:from:to :cc:subject:date:message-id:reply-to; bh=Hq9hQCZwrgWjWEH+IRfdc26CHHcNXWaK1gua7+AkrMQ=; b=gos4liO8vx/Hn0u8Etho0CWkDCfQwNnQLzW3oXRykaQYzOcl0awyRF0d8mm2gJCoTD 0tbsi9ttJVRlXt+K7XmFehuFufzcWPYofTx58yUQrzg6hDOZv+UCp3nLcZjsrt4SVrIb 7a2ZTsrQRwI4zKIT39T+dQB1Wqt4RUU9q8QHc= X-Google-DKIM-Signature: v=1; a=rsa-sha256; c=relaxed/relaxed; d=1e100.net; s=20230601; t=1748657479; x=1749262279; h=references:in-reply-to:cc:to:from:subject:message-id:date :x-gm-message-state:from:to:cc:subject:date:message-id:reply-to; bh=Hq9hQCZwrgWjWEH+IRfdc26CHHcNXWaK1gua7+AkrMQ=; b=cksBNfgCX+Tq4Tr9IS22+5u1MNcGvjHOWK9mH9d7m2teutsZxI+Fw11Az/4smNYh56 WzVkl0zuKUc9eEzlLu5Hm2w8lL4qeiWGUoePxrtKkH93bIfPuZlxCry64aptONUcMv+C zjzz38SGI0MwGyQSz9Tg+Rx7DTSC2FWYwiA6Bhe65zOHbmEMsp6qC/xh+6dTqpVp8e7R wpiVanI/kk0Q/8Yu+kMYXKglFWjgZkrUXULU2fWG3Cs1Fqbg8nQ0VN+VIQUUZ3jWbNBT GtpyVlzeDhj6OS9zF5gWRZIkafBudV1OS7ZIFPBIAUb9T+ifokEj+2ToMNm5S3wtOsJD cYpQ== X-Gm-Message-State: AOJu0Yx/ipRXsvYHkVjuVjj6guFktryo4lsdbPSQ1jDYK1nTWUNjTjC2 EaXiIQHebU/krrrWX19iZ0QZbnVNRdeFcEsKgiqB4aImdEwQYEGnUh8Iab2KIg8cuFai94JHVWs 5KyewOHapyeIiJxKAMzcLGdgRa12Gn6DUkg8aakg/+pQwDOpvAZ0AV598LJru X-Gm-Gg: ASbGncvAmir7JdUOgalY+F/HAhImI6Pdb61xUT7IaqA3wSdnWXgjhvYeDVMmrwRMn51 l7mCZi+MiZ8RNOoxTmEz7XH4P36gHUArTMxyKetRhaq9tvNRilwHP7crSxoOEENGeSySEeBR6/q U+ZrIk2svS0bZR5YVPxo0ssA6LAsybP8B+zTEsTPDdAzuFEMOQ62x39mambA7D2wrDsDMKYP0ZR Fu9x4F/SQaiTJfIfXwkuerEGa8grJlT7yjzL6Hm5SxZ/L8m/UGufVZF/qeF+yVPon/28gICZO27 iW63ATanzMv3cKiTpXdo7PjFFT8su0946Xuf X-Google-Smtp-Source: AGHT+IHosO1utQaQkQoKI118MO68elM66MeHA54xf/1RhQuO68pg9dZs1CSzaPDxtMfE4VT7E8AEe2Sd/+sm X-Received: by 2002:a05:6870:3924:b0:2c1:b39c:c43a with SMTP id 586e51a60fabf-2e92a425c73mr2139029fac.22.1748657479054; Fri, 30 May 2025 19:11:19 -0700 (PDT) Received: from postal.iol.unh.edu (postal.iol.unh.edu. [2606:4100:3880:1234::84]) by smtp-relay.gmail.com with ESMTPS id 586e51a60fabf-2e90644d67esm225068fac.6.2025.05.30.19.11.18 (version=TLS1_2 cipher=ECDHE-ECDSA-AES128-GCM-SHA256 bits=128/128); Fri, 30 May 2025 19:11:19 -0700 (PDT) X-Relaying-Domain: iol.unh.edu Date: Fri, 30 May 2025 19:11:19 -0700 (PDT) Message-ID: <683a6547.050a0220.3bc0cc.c151SMTPIN_ADDED_MISSING@mx.google.com> Received: from [172.17.0.2] (unknown [172.18.0.74]) by postal.iol.unh.edu (Postfix) with ESMTP id 85E686052471; Fri, 30 May 2025 22:11:18 -0400 (EDT) Subject: |SUCCESS| pw153864 [PATCH] [v1,1/1] vhost: handle virtqueue locking From: dpdklab@iol.unh.edu To: Test Report Cc: dpdk-test-reports@iol.unh.edu In-Reply-To: <20250529123226.1875075-2-dvo-plv@napatech.com> References: <20250529123226.1875075-2-dvo-plv@napatech.com> Content-Type: text/plain X-BeenThere: test-report@dpdk.org X-Mailman-Version: 2.1.29 Precedence: list List-Id: automatic DPDK test reports List-Unsubscribe: , List-Archive: List-Post: List-Help: List-Subscribe: , Errors-To: test-report-bounces@dpdk.org Test-Label: iol-unit-amd64-testing Test-Status: SUCCESS http://dpdk.org/patch/153864 _Testing PASS_ Submitter: Danylo Vodopianov Date: Thursday, May 29 2025 12:32:26 DPDK git baseline: Repo:dpdk Branch: master CommitID:3223019e73391066cbb0d248051b163e5373034c 153864 --> testing pass Upstream job id: Generic-VM-Unit-Test-DPDK#28847 Test environment and result as below: +-------------------------------+----------------+ | Environment | dpdk_unit_test | +===============================+================+ | Debian GNU/Linux 12 | PASS | +-------------------------------+----------------+ | CentOS Stream 9 | PASS | +-------------------------------+----------------+ | CentOS Stream 10 | PASS | +-------------------------------+----------------+ | Fedora 40 (Clang) | PASS | +-------------------------------+----------------+ | Fedora 40 | PASS | +-------------------------------+----------------+ | Fedora 41 | PASS | +-------------------------------+----------------+ | Fedora 41 (Clang) | PASS | +-------------------------------+----------------+ | Red Hat Enterprise Linux 8.10 | PASS | +-------------------------------+----------------+ | Ubuntu 24.04 | PASS | +-------------------------------+----------------+ | Ubuntu 20.04 | PASS | +-------------------------------+----------------+ | Red Hat Enterprise Linux 9.5 | PASS | +-------------------------------+----------------+ | Ubuntu 22.04 | PASS | +-------------------------------+----------------+ | Windows Server 2022 | PASS | +-------------------------------+----------------+ Debian GNU/Linux 12 Kernel: 5.15 Compiler: gcc gcc (Debian 12.2.0-14) 12.2.0 CentOS Stream 9 Kernel: Depends on container host Compiler: gcc 11.5.0 20240719 (Red Hat 11.5.0-2) CentOS Stream 10 Kernel: Depends on container host Compiler: gcc 14.2.1 20241104 (Red Hat 14.2.1-6) Fedora 40 (Clang) Kernel: Depends on container host Compiler: clang 18.1.8 (Fedora 18.1.8-1.fc40) Fedora 40 Kernel: Depends on container host Compiler: gcc 14.2.1 20240912 (Red Hat 14.2.1-3) Fedora 41 Kernel: Depends on container host Compiler: gcc 14.2.1 20240912 (Red Hat 14.2.1-3) Fedora 41 (Clang) Kernel: Depends on container host Compiler: clang 19.1.5 (Fedora 19.1.5-1.fc41) Red Hat Enterprise Linux 8.10 Kernel: 5.15 Compiler: gcc gcc (GCC) 8.5.0 20210514 (Red Hat 8.5.0-22) Ubuntu 24.04 Kernel: 5.15 Compiler: gcc gcc (Ubuntu 13.3.0-6ubuntu2~24.04) 13.3.0 Ubuntu 20.04 Kernel: 5.15 Compiler: gcc gcc (Ubuntu 9.4.0-1ubuntu1~20.04.2) 9.4.0 Red Hat Enterprise Linux 9.5 Kernel: 5.15 Compiler: gcc gcc (GCC) 11.5.0 20240719 (Red Hat 11.5.0-2) Ubuntu 22.04 Kernel: 5.15 Compiler: gcc gcc (Ubuntu 11.4.0-1ubuntu1~22.04) 11.4.0 Windows Server 2022 Kernel: 10.0.20348.2031 Compiler: clang 15.0.7, gcc 14.1.0 (MinGW), and MSVC VS 19.39.33521 To view detailed results, visit: https://lab.dpdk.org/results/dashboard/patchsets/33280/ UNH-IOL DPDK Community Lab To manage your email subscriptions, visit: https://lab.dpdk.org/results/dashboard/preferences/subscriptions/