From mboxrd@z Thu Jan 1 00:00:00 1970 Return-Path: Received: from mails.dpdk.org (mails.dpdk.org [217.70.189.124]) by inbox.dpdk.org (Postfix) with ESMTP id DC95C46839 for ; Sat, 31 May 2025 05:41:28 +0200 (CEST) Received: from mails.dpdk.org (localhost [127.0.0.1]) by mails.dpdk.org (Postfix) with ESMTP id BF32140150; Sat, 31 May 2025 05:41:28 +0200 (CEST) Received: from mail-pg1-f227.google.com (mail-pg1-f227.google.com [209.85.215.227]) by mails.dpdk.org (Postfix) with ESMTP id 28A6240150 for ; Sat, 31 May 2025 05:41:27 +0200 (CEST) Received: by mail-pg1-f227.google.com with SMTP id 41be03b00d2f7-b26df8f44e6so2753471a12.2 for ; Fri, 30 May 2025 20:41:27 -0700 (PDT) DKIM-Signature: v=1; a=rsa-sha256; c=relaxed/relaxed; d=iol.unh.edu; s=unh-iol; t=1748662886; x=1749267686; darn=dpdk.org; h=references:in-reply-to:cc:to:from:subject:message-id:date:from:to :cc:subject:date:message-id:reply-to; bh=THQlEZyb40yt1wHQgt0DkW69wjA13Ob4gHy7fNt9N1c=; b=CTfwhmE++pZ9o28y4QYUrnArQp9Ahw5v7cA1QzKfDnAowkBdJ5L647wD9FI/fcvcv+ u/YdKJsUGbp7P4syd9lgs2ijlztRMMchenSxbSgW/apd4OUgvrwfzBK7vMh8dWoPvuaF Vxl7vp/gQSC7e8zYEPSB7brE1D5vkNEsNQIV4= X-Google-DKIM-Signature: v=1; a=rsa-sha256; c=relaxed/relaxed; d=1e100.net; s=20230601; t=1748662886; x=1749267686; h=references:in-reply-to:cc:to:from:subject:message-id:date :x-gm-message-state:from:to:cc:subject:date:message-id:reply-to; bh=THQlEZyb40yt1wHQgt0DkW69wjA13Ob4gHy7fNt9N1c=; b=XVbJIYNfVYwx0qIyDAONJh7vH5NbR9DRdNJWSufGBWzYbjFdYJhO2cfRkW/YvXGG5X g+SUYDn46zOpCXE3+CafJXKdjeelOKFfSZOKnyMN6VYBvbKhtoBnOx1lxPUUXrxkAhJO HDkNE43L8RjbVsD99aLP2bP8vNHluQNiG/X+geWmg2SYpwmx56DWGJziZqdcHvKsUsuE DKecS0x0bAEkUhMQwuAjY47T2PjMBTcmoc9oZy0igj4R5QnmodLTpto3CaHGLLckhOw/ cFWuM5UGSo53yS+0DdfS3l4ADSphgioQ2tjDoHdAzOv8xdwKQuqLJBFo69e6/c4Kzlw9 x37A== X-Gm-Message-State: AOJu0Yz7wTdbPbArcHIMSlYxVCVjbLcG2jNApomGk0TdP+mpxZvGmBfh xCTUYc7mKEvgPfv/gtaYCh2Xt0K/fElax+AgvfOnmrzIaJJ70th8Wl6hNk78QnhbpOO1Fgat1Ix ev079W9cm7CPfkNvfXSb7DWadmaf2qYkg6UguGcKdSogeJnG9kfPVaFwmcezo X-Gm-Gg: ASbGncu81OmPLMoJckp1j7FKHXFUht16TbY3jdScyoF2QQqf2fVLKvaXepbNZF8on1w GOvm6jg63cBw0+5otlA0MEHRRcEu99oXOp+1VeDPehY2VLIa+T1a96M5eLrZ7RcjPjuXmx/gUs1 aEQrEHRueJ+M4dROW99v8nhsKYKwzdPxLjkId7Fhn96C6ifaYP902P0RfWujUHAsjKHmG16xr9p wSePZc68AGjhxrECyeT5gHWHK//1FQyup0yOus1xwMJfxRWyy4CcOCq/ileNUwekw6eXYQ0YkUt dFYd9BR+J9N6I4zf5jy4x0yBYmwTIFDDc32V/X9+LBcMpVQ= X-Google-Smtp-Source: AGHT+IEdkS0bU+B5OsCsjzgIfMfRv+lZUPcviKFNKbtrd3WMIhRHLCTsMZdwSB1t57EuEPZssNwC1kX9deCS X-Received: by 2002:a05:6a20:9f88:b0:1f5:8a1d:3905 with SMTP id adf61e73a8af0-21ba110b832mr1068144637.7.1748662886216; Fri, 30 May 2025 20:41:26 -0700 (PDT) Received: from postal.iol.unh.edu (postal.iol.unh.edu. [2606:4100:3880:1234::84]) by smtp-relay.gmail.com with ESMTPS id 41be03b00d2f7-b2eceb356e7sm221959a12.16.2025.05.30.20.41.26 (version=TLS1_2 cipher=ECDHE-ECDSA-AES128-GCM-SHA256 bits=128/128); Fri, 30 May 2025 20:41:26 -0700 (PDT) X-Relaying-Domain: iol.unh.edu Date: Fri, 30 May 2025 20:41:26 -0700 (PDT) Message-ID: <683a7a66.630a0220.219129.c17aSMTPIN_ADDED_MISSING@mx.google.com> Received: from [172.17.0.2] (unknown [172.18.0.74]) by postal.iol.unh.edu (Postfix) with ESMTP id 720A86052471; Fri, 30 May 2025 23:41:25 -0400 (EDT) Subject: |SUCCESS| pw153858-153860 [PATCH] [3/3] riscv: override machine_args From: dpdklab@iol.unh.edu To: Test Report Cc: dpdk-test-reports@iol.unh.edu In-Reply-To: References: Content-Type: text/plain X-BeenThere: test-report@dpdk.org X-Mailman-Version: 2.1.29 Precedence: list List-Id: automatic DPDK test reports List-Unsubscribe: , List-Archive: List-Post: List-Help: List-Subscribe: , Errors-To: test-report-bounces@dpdk.org Test-Label: iol-unit-amd64-testing Test-Status: SUCCESS http://dpdk.org/patch/153860 _Testing PASS_ Submitter: None Date: Wednesday, May 28 2025 17:00:46 DPDK git baseline: Repo:dpdk Branch: master CommitID:a633a128fd09ff1fc72312f4e4d1a9e0f73aa359 153858-153860 --> testing pass Upstream job id: Generic-VM-Unit-Test-DPDK#28856 Test environment and result as below: +-------------------------------+----------------+ | Environment | dpdk_unit_test | +===============================+================+ | Fedora 41 | PASS | +-------------------------------+----------------+ | Fedora 41 (Clang) | PASS | +-------------------------------+----------------+ | Debian GNU/Linux 12 | PASS | +-------------------------------+----------------+ | Fedora 40 (Clang) | PASS | +-------------------------------+----------------+ | Red Hat Enterprise Linux 8.10 | PASS | +-------------------------------+----------------+ | CentOS Stream 10 | PASS | +-------------------------------+----------------+ | Fedora 40 | PASS | +-------------------------------+----------------+ | Ubuntu 20.04 | PASS | +-------------------------------+----------------+ | Ubuntu 22.04 | PASS | +-------------------------------+----------------+ | Ubuntu 24.04 | PASS | +-------------------------------+----------------+ | Red Hat Enterprise Linux 9.5 | PASS | +-------------------------------+----------------+ | CentOS Stream 9 | PASS | +-------------------------------+----------------+ | Windows Server 2022 | PASS | +-------------------------------+----------------+ Fedora 41 Kernel: Depends on container host Compiler: gcc 14.2.1 20240912 (Red Hat 14.2.1-3) Fedora 41 (Clang) Kernel: Depends on container host Compiler: clang 19.1.5 (Fedora 19.1.5-1.fc41) Debian GNU/Linux 12 Kernel: 5.15 Compiler: gcc gcc (Debian 12.2.0-14) 12.2.0 Fedora 40 (Clang) Kernel: Depends on container host Compiler: clang 18.1.8 (Fedora 18.1.8-1.fc40) Red Hat Enterprise Linux 8.10 Kernel: 5.15 Compiler: gcc gcc (GCC) 8.5.0 20210514 (Red Hat 8.5.0-22) CentOS Stream 10 Kernel: Depends on container host Compiler: gcc 14.2.1 20241104 (Red Hat 14.2.1-6) Fedora 40 Kernel: Depends on container host Compiler: gcc 14.2.1 20240912 (Red Hat 14.2.1-3) Ubuntu 20.04 Kernel: 5.15 Compiler: gcc gcc (Ubuntu 9.4.0-1ubuntu1~20.04.2) 9.4.0 Ubuntu 22.04 Kernel: 5.15 Compiler: gcc gcc (Ubuntu 11.4.0-1ubuntu1~22.04) 11.4.0 Ubuntu 24.04 Kernel: 5.15 Compiler: gcc gcc (Ubuntu 13.3.0-6ubuntu2~24.04) 13.3.0 Red Hat Enterprise Linux 9.5 Kernel: 5.15 Compiler: gcc gcc (GCC) 11.5.0 20240719 (Red Hat 11.5.0-2) CentOS Stream 9 Kernel: Depends on container host Compiler: gcc 11.5.0 20240719 (Red Hat 11.5.0-2) Windows Server 2022 Kernel: 10.0.20348.2031 Compiler: clang 15.0.7, gcc 14.1.0 (MinGW), and MSVC VS 19.39.33521 To view detailed results, visit: https://lab.dpdk.org/results/dashboard/patchsets/33276/ UNH-IOL DPDK Community Lab To manage your email subscriptions, visit: https://lab.dpdk.org/results/dashboard/preferences/subscriptions/