From mboxrd@z Thu Jan 1 00:00:00 1970 Return-Path: Received: from mails.dpdk.org (mails.dpdk.org [217.70.189.124]) by inbox.dpdk.org (Postfix) with ESMTP id 788014685B for ; Mon, 2 Jun 2025 15:07:02 +0200 (CEST) Received: from mails.dpdk.org (localhost [127.0.0.1]) by mails.dpdk.org (Postfix) with ESMTP id 49FA84025E; Mon, 2 Jun 2025 15:07:02 +0200 (CEST) Received: from mail-pl1-f227.google.com (mail-pl1-f227.google.com [209.85.214.227]) by mails.dpdk.org (Postfix) with ESMTP id 677814025E for ; Mon, 2 Jun 2025 15:07:00 +0200 (CEST) Received: by mail-pl1-f227.google.com with SMTP id d9443c01a7336-234d366e5f2so55813645ad.1 for ; Mon, 02 Jun 2025 06:07:00 -0700 (PDT) DKIM-Signature: v=1; a=rsa-sha256; c=relaxed/relaxed; d=iol.unh.edu; s=unh-iol; t=1748869619; x=1749474419; darn=dpdk.org; h=references:in-reply-to:cc:to:from:subject:message-id:date:from:to :cc:subject:date:message-id:reply-to; bh=ztzCx99chcM2D+iytgzxaU08HDYWHqPEFb0k0zNhVY4=; b=NgrfxrdlaVBnUjKjd8iM7s91M/GHrIyevhwCeznuZ4aMo8Tm5S7Er5F7CCTvcr/wBX 7HfLcVtUX17fMcqcRECNzySAQA6uBxncwQ7zFsotV38CiUXrA+/luY9uzbIXsJsTDbsv 3MeLzweemLkcbicM9qzydf3jOYNwiE11SXAvE= X-Google-DKIM-Signature: v=1; a=rsa-sha256; c=relaxed/relaxed; d=1e100.net; s=20230601; t=1748869619; x=1749474419; h=references:in-reply-to:cc:to:from:subject:message-id:date :x-gm-message-state:from:to:cc:subject:date:message-id:reply-to; bh=ztzCx99chcM2D+iytgzxaU08HDYWHqPEFb0k0zNhVY4=; b=NfZlGUbm0LH0nRzOZP1k27SHLe7a+NYU3ltGNaSW9qEPA4UaPjN2H9ceps3Z2uPJAl Iyh5OifTxnAzynY8QuWmsbrae6+gN+iTMRbhviiPON8WKfZXFbG7Nkk/VuEod6OPWA+g NMicuNLi+f7HKdod7JJJVp9rfgwWKlAqNaoDTU/IKms/iGqHkHoeLaoM9igVEV9Yi22j tZVPiGi12UfKr+jQhgClE5LaduRItONE3sDW4SZaBvIeXHGTcEoLU2OC891Ivez3P2tF fEpfinOcNmfFqPb2GH69ds8rluQWghUAAeQaAZziTPZ/dsOxDZvJlJfMWlVW3cJBzd7h fNrw== X-Gm-Message-State: AOJu0YxhgAyJ4jbNNc92WDInfq1gnv1YAz0oZ+JZpYUdQFfuU2A+4Qo4 fHdzB47j/K0Ue+ui4HDuvvWCdbVQt5QyMcaWYFJN/NcZMQ7Nlr3tXnEi8yDa6SHRcY6zsz2/Ows apviO0/TFrran9KapLHWcCbvQSjaq7VCns04/lA3acwToo5QzSXP+iwyvUwm+ X-Gm-Gg: ASbGncv9JPWyogjpNQgtJmTg+9pkDmP+x++b9GhFeiBpTqT5hMuv2lSWimeeuHPfgls 2qwKlBtUBLKNyaHCWvUSXLMDaLpesSUpMr6ZcIQk9cuYg/EMeDNBAhD7BaSKB0FU9oZ0hHx1cZD D1nBwrNwrWExxYOBEfJM53q0Ipyvq/TOzsw7j9+/FnmLlYsBjpJcWXdEgD2dTdWiiPBtJVaFLhE 5AqNasV2KKjbdTP+orlfKJaSfC+I23VY9DAfUbcFajUIWe/QMB4DYWEuoYiVepC8vdgQR5uYyfZ dmb3wejQit4+UHGStSghpho0ckH6gyZS1/AQ X-Google-Smtp-Source: AGHT+IEgAMvTvuENpJniVrNT51m9rqP0218Rh3fie+RiGLHpj0qdLocJUKRtwME61E+Cev8VRJ2LrVEyvqFy X-Received: by 2002:a17:902:d484:b0:235:1706:1fd7 with SMTP id d9443c01a7336-2355f7653b2mr121517785ad.2.1748869619442; Mon, 02 Jun 2025 06:06:59 -0700 (PDT) Received: from postal.iol.unh.edu (postal.iol.unh.edu. [2606:4100:3880:1234::84]) by smtp-relay.gmail.com with ESMTPS id d9443c01a7336-23506d555c3sm5512255ad.115.2025.06.02.06.06.59 (version=TLS1_2 cipher=ECDHE-ECDSA-AES128-GCM-SHA256 bits=128/128); Mon, 02 Jun 2025 06:06:59 -0700 (PDT) X-Relaying-Domain: iol.unh.edu Date: Mon, 02 Jun 2025 06:06:59 -0700 (PDT) Message-ID: <683da1f3.170a0220.2d646d.cf75SMTPIN_ADDED_MISSING@mx.google.com> Received: from [172.21.0.6] (unknown [172.18.0.240]) by postal.iol.unh.edu (Postfix) with ESMTP id 9F8A06052471; Mon, 2 Jun 2025 09:06:58 -0400 (EDT) Subject: |WARNING| pw153936 [PATCH] [v2,1/1] vhost: handle virtqueue locking From: dpdklab@iol.unh.edu To: Test Report Cc: dpdk-test-reports@iol.unh.edu In-Reply-To: <20250602081933.1881050-1-dvo-plv@napatech.com> References: <20250602081933.1881050-1-dvo-plv@napatech.com> Content-Type: text/plain X-BeenThere: test-report@dpdk.org X-Mailman-Version: 2.1.29 Precedence: list List-Id: automatic DPDK test reports List-Unsubscribe: , List-Archive: List-Post: List-Help: List-Subscribe: , Errors-To: test-report-bounces@dpdk.org Test-Label: iol-compile-amd64-testing Test-Status: WARNING http://dpdk.org/patch/153936 _Testing issues_ Submitter: Danylo Vodopianov Date: Monday, June 02 2025 08:19:33 DPDK git baseline: Repo:dpdk Branch: master CommitID:3223019e73391066cbb0d248051b163e5373034c 153936 --> testing issues Upstream job id: Generic-DPDK-Compile-Meson#393513 Test environment and result as below: +-------------------------------+--------------------+-------------------+------------------+-------------------------+-------------------+----------------------+ | Environment | dpdk_meson_compile | dpdk_compile_spdk | dpdk_compile_ovs | dpdk_llvm_clang_compile | dpdk_msvc_compile | dpdk_mingw64_compile | +===============================+====================+===================+==================+=========================+===================+======================+ | CentOS Stream 9 | PASS | PASS | SKIPPED | SKIPPED | SKIPPED | SKIPPED | +-------------------------------+--------------------+-------------------+------------------+-------------------------+-------------------+----------------------+ | CentOS Stream 10 | PASS | SKIPPED | SKIPPED | SKIPPED | SKIPPED | SKIPPED | +-------------------------------+--------------------+-------------------+------------------+-------------------------+-------------------+----------------------+ | Fedora 40 | PASS | PASS | SKIPPED | SKIPPED | SKIPPED | SKIPPED | +-------------------------------+--------------------+-------------------+------------------+-------------------------+-------------------+----------------------+ | openSUSE Leap 15.6 | PASS | SKIPPED | SKIPPED | SKIPPED | SKIPPED | SKIPPED | +-------------------------------+--------------------+-------------------+------------------+-------------------------+-------------------+----------------------+ | Fedora 40 (Clang) | PASS | WARN | SKIPPED | SKIPPED | SKIPPED | SKIPPED | +-------------------------------+--------------------+-------------------+------------------+-------------------------+-------------------+----------------------+ | Fedora 41 | PASS | PASS | PASS | SKIPPED | SKIPPED | SKIPPED | +-------------------------------+--------------------+-------------------+------------------+-------------------------+-------------------+----------------------+ | Fedora 41 (Clang) | PASS | WARN | PASS | SKIPPED | SKIPPED | SKIPPED | +-------------------------------+--------------------+-------------------+------------------+-------------------------+-------------------+----------------------+ | Red Hat Enterprise Linux 8.10 | PASS | SKIPPED | SKIPPED | SKIPPED | SKIPPED | SKIPPED | +-------------------------------+--------------------+-------------------+------------------+-------------------------+-------------------+----------------------+ | Red Hat Enterprise Linux 9.5 | PASS | SKIPPED | SKIPPED | SKIPPED | SKIPPED | SKIPPED | +-------------------------------+--------------------+-------------------+------------------+-------------------------+-------------------+----------------------+ | Ubuntu 20.04 | PASS | SKIPPED | SKIPPED | SKIPPED | SKIPPED | SKIPPED | +-------------------------------+--------------------+-------------------+------------------+-------------------------+-------------------+----------------------+ | Ubuntu 22.04 | PASS | PASS | SKIPPED | SKIPPED | SKIPPED | SKIPPED | +-------------------------------+--------------------+-------------------+------------------+-------------------------+-------------------+----------------------+ | Ubuntu 24.04 | PASS | PASS | PASS | SKIPPED | SKIPPED | SKIPPED | +-------------------------------+--------------------+-------------------+------------------+-------------------------+-------------------+----------------------+ | Alpine | PASS | SKIPPED | SKIPPED | SKIPPED | SKIPPED | SKIPPED | +-------------------------------+--------------------+-------------------+------------------+-------------------------+-------------------+----------------------+ | FreeBSD 14.2 | PASS | SKIPPED | SKIPPED | SKIPPED | SKIPPED | SKIPPED | +-------------------------------+--------------------+-------------------+------------------+-------------------------+-------------------+----------------------+ | Debian GNU/Linux 12 | PASS | PASS | SKIPPED | SKIPPED | SKIPPED | SKIPPED | +-------------------------------+--------------------+-------------------+------------------+-------------------------+-------------------+----------------------+ | Windows Server 2022 | SKIPPED | SKIPPED | SKIPPED | PASS | PASS | PASS | +-------------------------------+--------------------+-------------------+------------------+-------------------------+-------------------+----------------------+ ==== 20 line log output for Fedora 41 (Clang) (dpdk_compile_spdk): ==== --- Failed to get log output --- ==== End log output ==== CentOS Stream 9 Kernel: Depends on container host Compiler: gcc 11.5.0 20240719 (Red Hat 11.5.0-2) CentOS Stream 10 Kernel: Depends on container host Compiler: gcc 14.2.1 20241104 (Red Hat 14.2.1-6) Fedora 40 Kernel: Depends on container host Compiler: gcc 14.2.1 20240912 (Red Hat 14.2.1-3) openSUSE Leap 15.6 Kernel: 5.15 Compiler: gcc gcc (SUSE Linux) 7.5.0 Fedora 40 (Clang) Kernel: Depends on container host Compiler: clang 18.1.8 (Fedora 18.1.8-1.fc40) Fedora 41 Kernel: Depends on container host Compiler: gcc 14.2.1 20240912 (Red Hat 14.2.1-3) Fedora 41 (Clang) Kernel: Depends on container host Compiler: clang 19.1.5 (Fedora 19.1.5-1.fc41) Red Hat Enterprise Linux 8.10 Kernel: 5.15 Compiler: gcc gcc (GCC) 8.5.0 20210514 (Red Hat 8.5.0-22) Red Hat Enterprise Linux 9.5 Kernel: 5.15 Compiler: gcc gcc (GCC) 11.5.0 20240719 (Red Hat 11.5.0-2) Ubuntu 20.04 Kernel: 4.19 Compiler: gcc gcc (Ubuntu 9.4.0-1ubuntu1~20.04.2) 9.4.0 Ubuntu 22.04 Kernel: 5.15 Compiler: gcc gcc (Ubuntu 11.4.0-1ubuntu1~22.04) 11.4.0 Ubuntu 24.04 Kernel: 5.15 Compiler: gcc gcc (Ubuntu 13.3.0-6ubuntu2~24.04) 13.3.0 Alpine Kernel: Depends on container host Compiler: gcc (Alpine 14.2.0) 14.2.0 FreeBSD 14.2 Kernel: 14.2-RELEASE Compiler: clang 18.1.6 Debian GNU/Linux 12 Kernel: 5.15 Compiler: gcc gcc (Debian 12.2.0-14) 12.2.0 Windows Server 2022 Kernel: 10.0.20348.2031 Compiler: clang 15.0.7, gcc 14.1.0 (MinGW), and MSVC VS 19.39.33521 To view detailed results, visit: https://lab.dpdk.org/results/dashboard/patchsets/33297/ UNH-IOL DPDK Community Lab To manage your email subscriptions, visit: https://lab.dpdk.org/results/dashboard/preferences/subscriptions/