From mboxrd@z Thu Jan  1 00:00:00 1970
Return-Path: <test-report-bounces@dpdk.org>
Received: from mails.dpdk.org (mails.dpdk.org [217.70.189.124])
	by inbox.dpdk.org (Postfix) with ESMTP id 1081A46879
	for <public@inbox.dpdk.org>; Wed,  4 Jun 2025 16:27:46 +0200 (CEST)
Received: from mails.dpdk.org (localhost [127.0.0.1])
	by mails.dpdk.org (Postfix) with ESMTP id EA77E402B1;
	Wed,  4 Jun 2025 16:27:45 +0200 (CEST)
Received: from mail-yb1-f228.google.com (mail-yb1-f228.google.com
 [209.85.219.228])
 by mails.dpdk.org (Postfix) with ESMTP id 6A378402B1
 for <test-report@dpdk.org>; Wed,  4 Jun 2025 16:27:44 +0200 (CEST)
Received: by mail-yb1-f228.google.com with SMTP id
 3f1490d57ef6-e7311e66a8eso5941720276.2
 for <test-report@dpdk.org>; Wed, 04 Jun 2025 07:27:44 -0700 (PDT)
DKIM-Signature: v=1; a=rsa-sha256; c=relaxed/relaxed;
 d=iol.unh.edu; s=unh-iol; t=1749047263; x=1749652063; darn=dpdk.org;
 h=references:in-reply-to:cc:to:from:subject:message-id:date:from:to
 :cc:subject:date:message-id:reply-to;
 bh=coWnkxGmDhOhMDVz2L2xpx4Q2pFAEIKXMcKbQJLYVEE=;
 b=LwgHPNTcK8Rbk1EU97ln6naQBCDMHNCnJUh7FYeEIsVcq30PiIFT/uS5wfhpoYlvQ+
 rfaQpAh4a9mTYA92howDrmht8jeorYRsJquedOTP1oZuXcjZJ0kI7M3BbJOOAbCscDvd
 cNZvGNRrWjjTDlsSdA9zPFFCn+2/4nSvXiuhg=
X-Google-DKIM-Signature: v=1; a=rsa-sha256; c=relaxed/relaxed;
 d=1e100.net; s=20230601; t=1749047263; x=1749652063;
 h=references:in-reply-to:cc:to:from:subject:message-id:date
 :x-gm-message-state:from:to:cc:subject:date:message-id:reply-to;
 bh=coWnkxGmDhOhMDVz2L2xpx4Q2pFAEIKXMcKbQJLYVEE=;
 b=TpUNI+2uQAVKXlAJ1PEe12sY/9VVP8f286zNJWilWjaBwi++LKbLd8wwzxdVM60Liv
 3iK623POXU5wWBgAGDbFj00ka4E1jg85AOELo1xAhABuDnSpsb7AGpzboLxpEnIjW59+
 onYsWQ9FJ3RbiHmLCy4TcgOzCrpEstI7Tg8Thhendc/j7zQSlCtoH5/BSUr1G7NaTlua
 8k8HJdUJ6xs9b8R3tU7CufOL3wddKIITIQBpUvc/eq/PZSmisAH8EiiA+M6Vg56qEnIw
 n6J0JOpFdZ7n/U+Adjx4K/0BIqM8nrtjTHyX3y4+85q25opbF+9tSfUjCcWG+QCjxoFM
 7Fhw==
X-Gm-Message-State: AOJu0YzcJFEdtTA+UTffkiTpkzRU01bqBgzjNGM+I3Kr9Wf3ZyGeiISP
 5cCLvzIgU1H3uECApnrMSt4qMVSJwzpkH4hx3zxZ4lBV7DB9LxecXuT0mDX9cv2H4QZksP3Jx8E
 kOKNz+sYbx2Z4pSWvBGoade5W6oRsvWLeB585XBO55AYYHLLPcGo0wa4IlNrQ
X-Gm-Gg: ASbGnctAAyPZK4CKS0lC0L9ZFsja9wZ3yGdtTM8Vg9W2i1RyVrjq7LpHO9UtKSdIqEE
 9AGJFwuYHu5J5azRLefpHDsQS4YhAZjFbeJ+OmMCfkYV1XvKpXjVoMJEXhGLhn9k4q4irKeX8xl
 vhZoIHp1kqfpEv51dri97RoQ6L+q10Zqa3KZR2trnV+hgq+jqQiFo/RBiQKS7UrZ40s/BgwFlX/
 4O7kFdNwB65FUvAfwKZR/+ChbW2X9hp8U34AylsCajwM6yiGlL3d5WaoEeuJVlUKHY2YMn8POSy
 EFKDr++htFUq9Z64Dtbs8RheiN5pEOgQ9o0n
X-Google-Smtp-Source: AGHT+IEtNIJjjzO2W8WuNcgs0AZuh/Iw+/3K29hZ1I51LXEn6MvlbQwolpClZxRnUegDNzoNYoy2P+56q61n
X-Received: by 2002:a05:6902:2602:b0:e7d:7f88:b4fd with SMTP id
 3f1490d57ef6-e817a0017c5mr4157848276.42.1749047263630; 
 Wed, 04 Jun 2025 07:27:43 -0700 (PDT)
Received: from postal.iol.unh.edu (postal.iol.unh.edu.
 [2606:4100:3880:1234::84]) by smtp-relay.gmail.com with ESMTPS id
 3f1490d57ef6-e7f7351597esm560699276.26.2025.06.04.07.27.43
 (version=TLS1_2 cipher=ECDHE-ECDSA-AES128-GCM-SHA256 bits=128/128);
 Wed, 04 Jun 2025 07:27:43 -0700 (PDT)
X-Relaying-Domain: iol.unh.edu
Date: Wed, 04 Jun 2025 07:27:43 -0700 (PDT)
Message-ID: <684057df.250a0220.278e7.d05cSMTPIN_ADDED_MISSING@mx.google.com>
Received: from [172.21.0.5] (unknown [172.18.0.240])
 by postal.iol.unh.edu (Postfix) with ESMTP id 4F4FB6052471;
 Wed,  4 Jun 2025 10:27:43 -0400 (EDT)
Subject: |SUCCESS| pw154016-154018 [PATCH] [v2,3/3] riscv: override machine_a
From: dpdklab@iol.unh.edu
To: Test Report <test-report@dpdk.org>
Cc: dpdk-test-reports@iol.unh.edu
In-Reply-To: <tencent_4DE2B6B9192CF530111E62D51D0BA7A1BB07@qq.com>
References: <tencent_4DE2B6B9192CF530111E62D51D0BA7A1BB07@qq.com>
Content-Type: text/plain
X-BeenThere: test-report@dpdk.org
X-Mailman-Version: 2.1.29
Precedence: list
List-Id: automatic DPDK test reports <test-report.dpdk.org>
List-Unsubscribe: <https://mails.dpdk.org/options/test-report>,
 <mailto:test-report-request@dpdk.org?subject=unsubscribe>
List-Archive: <http://mails.dpdk.org/archives/test-report/>
List-Post: <mailto:test-report@dpdk.org>
List-Help: <mailto:test-report-request@dpdk.org?subject=help>
List-Subscribe: <https://mails.dpdk.org/listinfo/test-report>,
 <mailto:test-report-request@dpdk.org?subject=subscribe>
Errors-To: test-report-bounces@dpdk.org

Test-Label: iol-unit-amd64-testing
Test-Status: SUCCESS
http://dpdk.org/patch/154018

_Testing PASS_

Submitter: None <uk7b@foxmail.com>
Date: Wednesday, June 04 2025 11:33:40 
DPDK git baseline: Repo:dpdk
  Branch: master
  CommitID:d6a29fedf36cd4faf07621d9fa3e82dc4e7ba74b

154016-154018 --> testing pass

Upstream job id: Generic-VM-Unit-Test-DPDK#28953

Test environment and result as below:

+-------------------------------+----------------+
|          Environment          | dpdk_unit_test |
+===============================+================+
| CentOS Stream 10              | PASS           |
+-------------------------------+----------------+
| CentOS Stream 9               | PASS           |
+-------------------------------+----------------+
| Fedora 40                     | PASS           |
+-------------------------------+----------------+
| Fedora 41 (Clang)             | PASS           |
+-------------------------------+----------------+
| Fedora 40 (Clang)             | PASS           |
+-------------------------------+----------------+
| Fedora 41                     | PASS           |
+-------------------------------+----------------+
| Debian GNU/Linux 12           | PASS           |
+-------------------------------+----------------+
| Ubuntu 20.04                  | PASS           |
+-------------------------------+----------------+
| Red Hat Enterprise Linux 9.5  | PASS           |
+-------------------------------+----------------+
| Ubuntu 24.04                  | PASS           |
+-------------------------------+----------------+
| Red Hat Enterprise Linux 8.10 | PASS           |
+-------------------------------+----------------+
| Ubuntu 22.04                  | PASS           |
+-------------------------------+----------------+
| Windows Server 2022           | PASS           |
+-------------------------------+----------------+


CentOS Stream 10
	Kernel: Depends on container host
	Compiler: gcc 14.2.1 20241104 (Red Hat 14.2.1-6)

CentOS Stream 9
	Kernel: Depends on container host
	Compiler: gcc 11.5.0 20240719 (Red Hat 11.5.0-2)

Fedora 40
	Kernel: Depends on container host
	Compiler: gcc 14.2.1 20240912 (Red Hat 14.2.1-3)

Fedora 41 (Clang)
	Kernel: Depends on container host
	Compiler: clang 19.1.5 (Fedora 19.1.5-1.fc41)

Fedora 40 (Clang)
	Kernel: Depends on container host
	Compiler: clang 18.1.8 (Fedora 18.1.8-1.fc40)

Fedora 41
	Kernel: Depends on container host
	Compiler: gcc 14.2.1 20240912 (Red Hat 14.2.1-3)

Debian GNU/Linux 12
	Kernel: 5.15
	Compiler: gcc gcc (Debian 12.2.0-14) 12.2.0

Ubuntu 20.04
	Kernel: 5.15
	Compiler: gcc gcc (Ubuntu 9.4.0-1ubuntu1~20.04.2) 9.4.0

Red Hat Enterprise Linux 9.5
	Kernel: 5.15
	Compiler: gcc gcc (GCC) 11.5.0 20240719 (Red Hat 11.5.0-2)

Ubuntu 24.04
	Kernel: 5.15
	Compiler: gcc gcc (Ubuntu 13.3.0-6ubuntu2~24.04) 13.3.0

Red Hat Enterprise Linux 8.10
	Kernel: 5.15
	Compiler: gcc gcc (GCC) 8.5.0 20210514 (Red Hat 8.5.0-22)

Ubuntu 22.04
	Kernel: 5.15
	Compiler: gcc gcc (Ubuntu 11.4.0-1ubuntu1~22.04) 11.4.0

Windows Server 2022
	Kernel: 10.0.20348.2031
	Compiler: clang 15.0.7, gcc 14.1.0 (MinGW), and MSVC VS 19.39.33521

To view detailed results, visit:
https://lab.dpdk.org/results/dashboard/patchsets/33314/

UNH-IOL DPDK Community Lab

To manage your email subscriptions, visit: 
https://lab.dpdk.org/results/dashboard/preferences/subscriptions/